Workbook
Name Cities: 'Countries and Timezone'!$J$2:$J$144
Name Countries: Language!$C$1:$AT$1
Name Team: 'Countries and Timezone'!$C$7:$C$38

Sheet Setup
C3: <- you can change player name in Player List worksheet
B5: Filename >> | C5: World Cup 2014 Office Pool Lite V1.50.xlsx | D5: << remember to replace the filename at the left box if you have saved this file as another name
B7: Group Stages Prediction
B9: Point System | D9: GROUP
B10: o Point for correct match result (win-draw-loss) with correct score prediction >> | D10: 100
B11: o Point for correct match result (win-loss) with correct score difference prediction or correct draw prediction only >> | D11: 75
B12: o Point for correct match result (win-loss) prediction only >> | D12: 50
B14: Knock Out Stages Prediction
B16: Extra Time Score >> | D16: Include | E16: =IF(D16="include",1,0) -> 1
B17: Penalty Kick Score >> | D17: Exclude | E17: =IF(D17="include",1,0) -> 0
B19: Point System | D19: ROUND OF 16 | E19: QUARTER FINAL | F19: SEMI FINAL | G19: THIRD PLACE | H19: FINAL
B20: o Point for correct match result (win-draw-loss) with correct score prediction >> | D20: 200 | E20: 400 | F20: 800 | G20: 800 | H20: 1600
B21: o Point for correct match result (win-loss) with correct score difference prediction or correct draw prediction only >> | D21: 150 | E21: 300 | F21: 600 | G21: 600 | H21: 1200
B22: o Point for correct match result (win-loss) prediction only >> | D22: 100 | E22: 200 | F22: 400 | G22: 400 | H22: 800
B24: Leaderboard Policy
B26: All players will be ranked based on
B27: 1. Points earned
B28: 2. Correct Match and Score Prediction
B29: 3. Order of players in PlayerList

Sheet Player Name
B5: No | C5: Player Name
B6: 1 | C6: John 1 | E6: > Type player's name at Player Name column
B7: 2 | C7: John 2 | E7: > If there are more than one player are having the same name, you should put additional marker to differentiate the name
B8: 3 | C8: John 3 | E8: > Max 15 players for lite version
B9: 4 | C9: John 4
B10: 5 | C10: John 5
B11: 6 | C11: John 6
B12: 7 | C12: John 7
B13: 8 | C13: John 8
B14: 9 | C14: John 9
B15: 10 | C15: John 10
B16: 11 | C16: John 11
B17: 12 | C17: John 12
B18: 13 | C18: John 13
B19: 14 | C19: John 14
B20: 15 | C20: John 15

Sheet Player Scoreboard
K5: Group Stages | BG5: Round of 16 | BO5: Quarter Final | BS5: Semifinal | BU5: 3rd Place | BV5: FINAL
K6: 1 | L6: 2 | M6: 3 | N6: 4 | O6: 5 | P6: 6 | Q6: 7 | R6: 8 | S6: 9 | T6: 10 | U6: 11 | V6: 12 | W6: 13 | X6: 14 | Y6: 15 | Z6: 16 | AA6: 17 | AB6: 18 | AC6: 19 | AD6: 20 | AE6: 21 | AF6: 22 | AG6: 23 | AH6: 24 | AI6: 25 | AJ6: 26 | AK6: 27 | AL6: 28 | AM6: 29 | AN6: 30 | AO6: 31 | AP6: 32 | AQ6: 33 | AR6: 34 | AS6: 35 | AT6: 36 | AU6: 37 | AV6: 38 | AW6: 39 | AX6: 40 | AY6: 41 | AZ6: 42 | BA6: 43 | BB6: 44 | BC6: 45 | BD6: 46 | BE6: 47 | BF6: 48 | BG6: 49 | BH6: 50 | BI6: 51 | BJ6: 52 | BK6: 53 | BL6: 54 | BM6: 55 | BN6: 56 | BO6: 57 | BP6: 58 | BQ6: 59 | BR6: 60 | BS6: 61 | BT6: 62 | BU6: 63 | BV6: 64
A7: No | B7: Sheet Name | C7: Player Name | D7: Total Point | E7: Total Correct Prediction | F7: Group Stages | H7: Knock Out Stages | J7: Max Score >> | K7: =Setup!D10 -> 100 | L7: =K7 -> 100 | M7: =L7 -> 100 | N7: =M7 -> 100 | O7: =N7 -> 100 | P7: =O7 -> 100 | Q7: =P7 -> 100 | R7: =Q7 -> 100 | S7: =R7 -> 100 | ... BF7: =BE7 -> 100 | BG7: =Setup!D20 -> 200 | BH7: =BG7 -> 200 | BI7: =BH7 -> 200 | BJ7: =BI7 -> 200 | BK7: =BJ7 -> 200 | BL7: =BK7 -> 200 | BM7: =BL7 -> 200 | BN7: =BM7 -> 200 | BO7: =Setup!E20 -> 400 | BP7: =BO7 -> 400 | BQ7: =BP7 -> 400 | BR7: =BQ7 -> 400 | BS7: =Setup!F20 -> 800 | BT7: =BS7 -> 800 | BU7: =Setup!G20 -> 800 | BV7: =Setup!H20 -> 1600
F8: Total Point | G8: Correct Prediction | H8: Total Point | I8: Correct Prediction | J8: Match >> | K8: =LEFT(OFFSET(Tournament!$H$15,K$6,0),3)&" vs "&LEFT(OFFSET(Tournament!$N$15,K$6,0),3) -> Bra vs Cro | L8: =LEFT(OFFSET(Tournament!$H$15,L$6,0),3)&" vs "&LEFT(OFFSET(Tournament!$N$15,L$6,0),3) -> Mex vs Cam | M8: =LEFT(OFFSET(Tournament!$H$15,M$6,0),3)&" vs "&LEFT(OFFSET(Tournament!$N$15,M$6,0),3) -> Spa vs Net | N8: =LEFT(OFFSET(Tournament!$H$15,N$6,0),3)&" vs "&LEFT(OFFSET(Tournament!$N$15,N$6,0),3) -> Chi vs Aus | O8: =LEFT(OFFSET(Tournament!$H$15,O$6,0),3)&" vs "&LEFT(OFFSET(Tournament!$N$15,O$6,0),3) -> Col vs Gre | P8: =LEFT(OFFSET(Tournament!$H$15,P$6,0),3)&" vs "&LEFT(OFFSET(Tournament!$N$15,P$6,0),3) -> Ivo vs Jap | Q8: =LEFT(OFFSET(Tournament!$H$15,Q$6,0),3)&" vs "&LEFT(OFFSET(Tournament!$N$15,Q$6,0),3) -> Uru vs Cos | R8: =LEFT(OFFSET(Tournament!$H$15,R$6,0),3)&" vs "&LEFT(OFFSET(Tournament!$N$15,R$6,0),3) -> Eng vs Ita | ... BF8: =LEFT(OFFSET(Tournament!$H$15,BF$6,0),3)&" vs "&LEFT(OFFSET(Tournament!$N$15,BF$6,0),3) -> Alg vs Rus | BG8: =LEFT(OFFSET(Tournament!$H$68,1,0),3)&" vs "&LEFT(OFFSET(Tournament!$N$68,1,0),3) -> Gro vs Gro | BH8: =LEFT(OFFSET(Tournament!$H$68,7,0),3)&" vs "&LEFT(OFFSET(Tournament!$N$68,7,0),3) -> Gro vs Gro | BI8: =LEFT(OFFSET(Tournament!$H$68,13,0),3)&" vs "&LEFT(OFFSET(Tournament!$N$68,13,0),3) -> Gro vs Gro | BJ8: =LEFT(OFFSET(Tournament!$H$68,19,0),3)&" vs "&LEFT(OFFSET(Tournament!$N$68,19,0),3) -> Gro vs Gro | BK8: =LEFT(OFFSET(Tournament!$H$68,25,0),3)&" vs "&LEFT(OFFSET(Tournament!$N$68,25,0),3) -> Gro vs Gro | BL8: =LEFT(OFFSET(Tournament!$H$68,31,0),3)&" vs "&LEFT(OFFSET(Tournament!$N$68,31,0),3) -> Gro vs Gro | BM8: =LEFT(OFFSET(Tournament!$H$68,37,0),3)&" vs "&LEFT(OFFSET(Tournament!$N$68,37,0),3) -> Gro vs Gro | BN8: =LEFT(OFFSET(Tournament!$H$68,43,0),3)&" vs "&LEFT(OFFSET(Tournament!$N$68,43,0),3) -> Gro vs Gro | BO8: =LEFT(OFFSET(Tournament!$Y$68,1,0),3)&" vs "&LEFT(OFFSET(Tournament!$AE$68,1,0),3) -> Mat vs Mat | BP8: =LEFT(OFFSET(Tournament!$Y$68,6,0),3)&" vs "&LEFT(OFFSET(Tournament!$AE$68,6,0),3) -> Mat vs Mat | BQ8: =LEFT(OFFSET(Tournament!$Y$68,11,0),3)&" vs "&LEFT(OFFSET(Tournament!$AE$68,11,0),3) -> Mat vs Mat | BR8: =LEFT(OFFSET(Tournament!$Y$68,16,0),3)&" vs "&LEFT(OFFSET(Tournament!$AE$68,16,0),3) -> Mat vs Mat | BS8: =LEFT(OFFSET(Tournament!$Y$91,1,0),3)&" vs "&LEFT(OFFSET(Tournament!$AE$91,1,0),3) -> Mat vs Mat | BT8: =LEFT(OFFSET(Tournament!$Y$91,6,0),3)&" vs "&LEFT(OFFSET(Tournament!$AE$91,6,0),3) -> Mat vs Mat | BU8: =LEFT(OFFSET(Tournament!$Y$104,1,0),3)&" vs "&LEFT(OFFSET(Tournament!$AE$104,1,0),3) -> Mat vs Mat | BV8: =LEFT(OFFSET(Tournament!$Y$112,1,0),3)&" vs "&LEFT(OFFSET(Tournament!$AE$112,1,0),3) -> Mat vs Mat
J9: Result (NT, ET, PSO) >> | K9: =LEFT(OFFSET(Tournament!$J$15,K$6,0),3)&" - "&LEFT(OFFSET(Tournament!$L$15,K$6,0),3) -> 3 - 1 | L9: =LEFT(OFFSET(Tournament!$J$15,L$6,0),3)&" - "&LEFT(OFFSET(Tournament!$L$15,L$6,0),3) -> 1 - 0 | M9: =LEFT(OFFSET(Tournament!$J$15,M$6,0),3)&" - "&LEFT(OFFSET(Tournament!$L$15,M$6,0),3) -> 1 - 5 | N9: =LEFT(OFFSET(Tournament!$J$15,N$6,0),3)&" - "&LEFT(OFFSET(Tournament!$L$15,N$6,0),3) -> 3 - 1 | O9: =LEFT(OFFSET(Tournament!$J$15,O$6,0),3)&" - "&LEFT(OFFSET(Tournament!$L$15,O$6,0),3) -> - | P9: =LEFT(OFFSET(Tournament!$J$15,P$6,0),3)&" - "&LEFT(OFFSET(Tournament!$L$15,P$6,0),3) -> - | Q9: =LEFT(OFFSET(Tournament!$J$15,Q$6,0),3)&" - "&LEFT(OFFSET(Tournament!$L$15,Q$6,0),3) -> - | R9: =LEFT(OFFSET(Tournament!$J$15,R$6,0),3)&" - "&LEFT(OFFSET(Tournament!$L$15,R$6,0),3) -> - | ... BF9: =LEFT(OFFSET(Tournament!$J$15,BF$6,0),3)&" - "&LEFT(OFFSET(Tournament!$L$15,BF$6,0),3) -> - | BG9: =LEFT(OFFSET(Player!$R$65,BG$6-48,0),3)&" - "&LEFT(OFFSET(Player!$T$65,BG$6-48,0),3) -> - | BH9: =LEFT(OFFSET(Player!$R$65,BH$6-48,0),3)&" - "&LEFT(OFFSET(Player!$T$65,BH$6-48,0),3) -> - | BI9: =LEFT(OFFSET(Player!$R$65,BI$6-48,0),3)&" - "&LEFT(OFFSET(Player!$T$65,BI$6-48,0),3) -> - | BJ9: =LEFT(OFFSET(Player!$R$65,BJ$6-48,0),3)&" - "&LEFT(OFFSET(Player!$T$65,BJ$6-48,0),3) -> - | BK9: =LEFT(OFFSET(Player!$R$65,BK$6-48,0),3)&" - "&LEFT(OFFSET(Player!$T$65,BK$6-48,0),3) -> - | BL9: =LEFT(OFFSET(Player!$R$65,BL$6-48,0),3)&" - "&LEFT(OFFSET(Player!$T$65,BL$6-48,0),3) -> - | BM9: =LEFT(OFFSET(Player!$R$65,BM$6-48,0),3)&" - "&LEFT(OFFSET(Player!$T$65,BM$6-48,0),3) -> - | BN9: =LEFT(OFFSET(Player!$R$65,BN$6-48,0),3)&" - "&LEFT(OFFSET(Player!$T$65,BN$6-48,0),3) -> - | ... BV9: =LEFT(OFFSET(Player!$R$65,BV$6-48,0),3)&" - "&LEFT(OFFSET(Player!$T$65,BV$6-48,0),3) -> -
A10: =IF(C10<>"",1,"") -> 1 | B10: Player | C10: =IF('Player Name'!C6<>"",'Player Name'!C6,"") -> John 1 | D10: =IF(C10<>"",F10+H10,"") -> 0 | E10: =IF(C10<>"",G10+I10,"") -> 0 | F10: =IF(C10<>"",SUM(K10:BF10),"") -> 0 | G10: =IF(C10<>"",COUNTIF(K10:BF10,$K$7),"") -> 0 | H10: =IF(C10<>"",SUM(BG10:BV10),"") -> 0 | I10: =IF(C10<>"",COUNTIF(BG10:BN10,$BG$7)+COUNTIF(BO10:BR10,$BO$7)+COUNTIF(BS10:BT10,$BS$7)+COUNTIF(BU10,$BU$7)+COUNTIF(BV10,$BV$7),"") -> 0 | J10: =HYPERLINK("["&Setup!$C$5&"]'"&B10&"'!D4","Update score") -> Update score | K10: =IF($C10<>"",INDIRECT("'"&$B10&"'!"&"$AD"&K$6+14),"") | L10: =IF($C10<>"",INDIRECT("'"&$B10&"'!"&"$AD"&L$6+14),"") | M10: =IF($C10<>"",INDIRECT("'"&$B10&"'!"&"$AD"&M$6+14),"") | N10: =IF($C10<>"",INDIRECT("'"&$B10&"'!"&"$AD"&N$6+14),"") | O10: =IF($C10<>"",INDIRECT("'"&$B10&"'!"&"$AD"&O$6+14),"") | P10: =IF($C10<>"",INDIRECT("'"&$B10&"'!"&"$AD"&P$6+14),"") | Q10: =IF($C10<>"",INDIRECT("'"&$B10&"'!"&"$AD"&Q$6+14),"") | R10: =IF($C10<>"",INDIRECT("'"&$B10&"'!"&"$AD"&R$6+14),"") | ... BF10: =IF($C10<>"",INDIRECT("'"&$B10&"'!"&"$AD"&BF$6+14),"") | BG10: =IF($C10<>"",INDIRECT("'"&$B10&"'!"&"$AD"&BG$6+17),"") | BH10: =IF($C10<>"",INDIRECT("'"&$B10&"'!"&"$AD"&BH$6+17),"") | BI10: =IF($C10<>"",INDIRECT("'"&$B10&"'!"&"$AD"&BI$6+17),"") | BJ10: =IF($C10<>"",INDIRECT("'"&$B10&"'!"&"$AD"&BJ$6+17),"") | BK10: =IF($C10<>"",INDIRECT("'"&$B10&"'!"&"$AD"&BK$6+17),"") | BL10: =IF($C10<>"",INDIRECT("'"&$B10&"'!"&"$AD"&BL$6+17),"") | BM10: =IF($C10<>"",INDIRECT("'"&$B10&"'!"&"$AD"&BM$6+17),"") | BN10: =IF($C10<>"",INDIRECT("'"&$B10&"'!"&"$AD"&BN$6+17),"") | ... BV10: =IF($C10<>"",INDIRECT("'"&$B10&"'!"&"$AD"&BV$6+17),"")
A11: =IF(C11<>"",A10+1,"") -> 2 | B11: Player (2) | C11: =IF('Player Name'!C7<>"",'Player Name'!C7,"") -> John 2 | D11: =IF(C11<>"",F11+H11,"") -> 0 | E11: =IF(C11<>"",G11+I11,"") -> 0 | F11: =IF(C11<>"",SUM(K11:BF11),"") -> 0 | G11: =IF(C11<>"",COUNTIF(K11:BF11,$K$7),"") -> 0 | H11: =IF(C11<>"",SUM(BG11:BV11),"") -> 0 | I11: =IF(C11<>"",COUNTIF(BG11:BN11,$BG$7)+COUNTIF(BO11:BR11,$BO$7)+COUNTIF(BS11:BT11,$BS$7)+COUNTIF(BU11,$BU$7)+COUNTIF(BV11,$BV$7),"") -> 0 | J11: =HYPERLINK("["&Setup!$C$5&"]'"&B11&"'!D4","Update score") -> Update score | K11: =IF($C11<>"",INDIRECT("'"&$B11&"'!"&"$AD"&K$6+14),"") | L11: =IF($C11<>"",INDIRECT("'"&$B11&"'!"&"$AD"&L$6+14),"") | M11: =IF($C11<>"",INDIRECT("'"&$B11&"'!"&"$AD"&M$6+14),"") | N11: =IF($C11<>"",INDIRECT("'"&$B11&"'!"&"$AD"&N$6+14),"") | O11: =IF($C11<>"",INDIRECT("'"&$B11&"'!"&"$AD"&O$6+14),"") | P11: =IF($C11<>"",INDIRECT("'"&$B11&"'!"&"$AD"&P$6+14),"") | Q11: =IF($C11<>"",INDIRECT("'"&$B11&"'!"&"$AD"&Q$6+14),"") | R11: =IF($C11<>"",INDIRECT("'"&$B11&"'!"&"$AD"&R$6+14),"") | ... BF11: =IF($C11<>"",INDIRECT("'"&$B11&"'!"&"$AD"&BF$6+14),"") | BG11: =IF($C11<>"",INDIRECT("'"&$B11&"'!"&"$AD"&BG$6+17),"") | BH11: =IF($C11<>"",INDIRECT("'"&$B11&"'!"&"$AD"&BH$6+17),"") | BI11: =IF($C11<>"",INDIRECT("'"&$B11&"'!"&"$AD"&BI$6+17),"") | BJ11: =IF($C11<>"",INDIRECT("'"&$B11&"'!"&"$AD"&BJ$6+17),"") | BK11: =IF($C11<>"",INDIRECT("'"&$B11&"'!"&"$AD"&BK$6+17),"") | BL11: =IF($C11<>"",INDIRECT("'"&$B11&"'!"&"$AD"&BL$6+17),"") | BM11: =IF($C11<>"",INDIRECT("'"&$B11&"'!"&"$AD"&BM$6+17),"") | BN11: =IF($C11<>"",INDIRECT("'"&$B11&"'!"&"$AD"&BN$6+17),"") | ... BV11: =IF($C11<>"",INDIRECT("'"&$B11&"'!"&"$AD"&BV$6+17),"")
A12: =IF(C12<>"",A11+1,"") -> 3 | B12: Player (3) | C12: =IF('Player Name'!C8<>"",'Player Name'!C8,"") -> John 3 | D12: =IF(C12<>"",F12+H12,"") -> 0 | E12: =IF(C12<>"",G12+I12,"") -> 0 | F12: =IF(C12<>"",SUM(K12:BF12),"") -> 0 | G12: =IF(C12<>"",COUNTIF(K12:BF12,$K$7),"") -> 0 | H12: =IF(C12<>"",SUM(BG12:BV12),"") -> 0 | I12: =IF(C12<>"",COUNTIF(BG12:BN12,$BG$7)+COUNTIF(BO12:BR12,$BO$7)+COUNTIF(BS12:BT12,$BS$7)+COUNTIF(BU12,$BU$7)+COUNTIF(BV12,$BV$7),"") -> 0 | J12: =HYPERLINK("["&Setup!$C$5&"]'"&B12&"'!D4","Update score") -> Update score | K12: =IF($C12<>"",INDIRECT("'"&$B12&"'!"&"$AD"&K$6+14),"") | L12: =IF($C12<>"",INDIRECT("'"&$B12&"'!"&"$AD"&L$6+14),"") | M12: =IF($C12<>"",INDIRECT("'"&$B12&"'!"&"$AD"&M$6+14),"") | N12: =IF($C12<>"",INDIRECT("'"&$B12&"'!"&"$AD"&N$6+14),"") | O12: =IF($C12<>"",INDIRECT("'"&$B12&"'!"&"$AD"&O$6+14),"") | P12: =IF($C12<>"",INDIRECT("'"&$B12&"'!"&"$AD"&P$6+14),"") | Q12: =IF($C12<>"",INDIRECT("'"&$B12&"'!"&"$AD"&Q$6+14),"") | R12: =IF($C12<>"",INDIRECT("'"&$B12&"'!"&"$AD"&R$6+14),"") | ... BF12: =IF($C12<>"",INDIRECT("'"&$B12&"'!"&"$AD"&BF$6+14),"") | BG12: =IF($C12<>"",INDIRECT("'"&$B12&"'!"&"$AD"&BG$6+17),"") | BH12: =IF($C12<>"",INDIRECT("'"&$B12&"'!"&"$AD"&BH$6+17),"") | BI12: =IF($C12<>"",INDIRECT("'"&$B12&"'!"&"$AD"&BI$6+17),"") | BJ12: =IF($C12<>"",INDIRECT("'"&$B12&"'!"&"$AD"&BJ$6+17),"") | BK12: =IF($C12<>"",INDIRECT("'"&$B12&"'!"&"$AD"&BK$6+17),"") | BL12: =IF($C12<>"",INDIRECT("'"&$B12&"'!"&"$AD"&BL$6+17),"") | BM12: =IF($C12<>"",INDIRECT("'"&$B12&"'!"&"$AD"&BM$6+17),"") | BN12: =IF($C12<>"",INDIRECT("'"&$B12&"'!"&"$AD"&BN$6+17),"") | ... BV12: =IF($C12<>"",INDIRECT("'"&$B12&"'!"&"$AD"&BV$6+17),"")
A13: =IF(C13<>"",A12+1,"") -> 4 | B13: Player (4) | C13: =IF('Player Name'!C9<>"",'Player Name'!C9,"") -> John 4 | D13: =IF(C13<>"",F13+H13,"") -> 0 | E13: =IF(C13<>"",G13+I13,"") -> 0 | F13: =IF(C13<>"",SUM(K13:BF13),"") -> 0 | G13: =IF(C13<>"",COUNTIF(K13:BF13,$K$7),"") -> 0 | H13: =IF(C13<>"",SUM(BG13:BV13),"") -> 0 | I13: =IF(C13<>"",COUNTIF(BG13:BN13,$BG$7)+COUNTIF(BO13:BR13,$BO$7)+COUNTIF(BS13:BT13,$BS$7)+COUNTIF(BU13,$BU$7)+COUNTIF(BV13,$BV$7),"") -> 0 | J13: =HYPERLINK("["&Setup!$C$5&"]'"&B13&"'!D4","Update score") -> Update score | K13: =IF($C13<>"",INDIRECT("'"&$B13&"'!"&"$AD"&K$6+14),"") | L13: =IF($C13<>"",INDIRECT("'"&$B13&"'!"&"$AD"&L$6+14),"") | M13: =IF($C13<>"",INDIRECT("'"&$B13&"'!"&"$AD"&M$6+14),"") | N13: =IF($C13<>"",INDIRECT("'"&$B13&"'!"&"$AD"&N$6+14),"") | O13: =IF($C13<>"",INDIRECT("'"&$B13&"'!"&"$AD"&O$6+14),"") | P13: =IF($C13<>"",INDIRECT("'"&$B13&"'!"&"$AD"&P$6+14),"") | Q13: =IF($C13<>"",INDIRECT("'"&$B13&"'!"&"$AD"&Q$6+14),"") | R13: =IF($C13<>"",INDIRECT("'"&$B13&"'!"&"$AD"&R$6+14),"") | ... BF13: =IF($C13<>"",INDIRECT("'"&$B13&"'!"&"$AD"&BF$6+14),"") | BG13: =IF($C13<>"",INDIRECT("'"&$B13&"'!"&"$AD"&BG$6+17),"") | BH13: =IF($C13<>"",INDIRECT("'"&$B13&"'!"&"$AD"&BH$6+17),"") | BI13: =IF($C13<>"",INDIRECT("'"&$B13&"'!"&"$AD"&BI$6+17),"") | BJ13: =IF($C13<>"",INDIRECT("'"&$B13&"'!"&"$AD"&BJ$6+17),"") | BK13: =IF($C13<>"",INDIRECT("'"&$B13&"'!"&"$AD"&BK$6+17),"") | BL13: =IF($C13<>"",INDIRECT("'"&$B13&"'!"&"$AD"&BL$6+17),"") | BM13: =IF($C13<>"",INDIRECT("'"&$B13&"'!"&"$AD"&BM$6+17),"") | BN13: =IF($C13<>"",INDIRECT("'"&$B13&"'!"&"$AD"&BN$6+17),"") | ... BV13: =IF($C13<>"",INDIRECT("'"&$B13&"'!"&"$AD"&BV$6+17),"")
A14: =IF(C14<>"",A13+1,"") -> 5 | B14: Player (5) | C14: =IF('Player Name'!C10<>"",'Player Name'!C10,"") -> John 5 | D14: =IF(C14<>"",F14+H14,"") -> 0 | E14: =IF(C14<>"",G14+I14,"") -> 0 | F14: =IF(C14<>"",SUM(K14:BF14),"") -> 0 | G14: =IF(C14<>"",COUNTIF(K14:BF14,$K$7),"") -> 0 | H14: =IF(C14<>"",SUM(BG14:BV14),"") -> 0 | I14: =IF(C14<>"",COUNTIF(BG14:BN14,$BG$7)+COUNTIF(BO14:BR14,$BO$7)+COUNTIF(BS14:BT14,$BS$7)+COUNTIF(BU14,$BU$7)+COUNTIF(BV14,$BV$7),"") -> 0 | J14: =HYPERLINK("["&Setup!$C$5&"]'"&B14&"'!D4","Update score") -> Update score | K14: =IF($C14<>"",INDIRECT("'"&$B14&"'!"&"$AD"&K$6+14),"") | L14: =IF($C14<>"",INDIRECT("'"&$B14&"'!"&"$AD"&L$6+14),"") | M14: =IF($C14<>"",INDIRECT("'"&$B14&"'!"&"$AD"&M$6+14),"") | N14: =IF($C14<>"",INDIRECT("'"&$B14&"'!"&"$AD"&N$6+14),"") | O14: =IF($C14<>"",INDIRECT("'"&$B14&"'!"&"$AD"&O$6+14),"") | P14: =IF($C14<>"",INDIRECT("'"&$B14&"'!"&"$AD"&P$6+14),"") | Q14: =IF($C14<>"",INDIRECT("'"&$B14&"'!"&"$AD"&Q$6+14),"") | R14: =IF($C14<>"",INDIRECT("'"&$B14&"'!"&"$AD"&R$6+14),"") | ... BF14: =IF($C14<>"",INDIRECT("'"&$B14&"'!"&"$AD"&BF$6+14),"") | BG14: =IF($C14<>"",INDIRECT("'"&$B14&"'!"&"$AD"&BG$6+17),"") | BH14: =IF($C14<>"",INDIRECT("'"&$B14&"'!"&"$AD"&BH$6+17),"") | BI14: =IF($C14<>"",INDIRECT("'"&$B14&"'!"&"$AD"&BI$6+17),"") | BJ14: =IF($C14<>"",INDIRECT("'"&$B14&"'!"&"$AD"&BJ$6+17),"") | BK14: =IF($C14<>"",INDIRECT("'"&$B14&"'!"&"$AD"&BK$6+17),"") | BL14: =IF($C14<>"",INDIRECT("'"&$B14&"'!"&"$AD"&BL$6+17),"") | BM14: =IF($C14<>"",INDIRECT("'"&$B14&"'!"&"$AD"&BM$6+17),"") | BN14: =IF($C14<>"",INDIRECT("'"&$B14&"'!"&"$AD"&BN$6+17),"") | ... BV14: =IF($C14<>"",INDIRECT("'"&$B14&"'!"&"$AD"&BV$6+17),"")
A15: =IF(C15<>"",A14+1,"") -> 6 | B15: Player (6) | C15: =IF('Player Name'!C11<>"",'Player Name'!C11,"") -> John 6 | D15: =IF(C15<>"",F15+H15,"") -> 0 | E15: =IF(C15<>"",G15+I15,"") -> 0 | F15: =IF(C15<>"",SUM(K15:BF15),"") -> 0 | G15: =IF(C15<>"",COUNTIF(K15:BF15,$K$7),"") -> 0 | H15: =IF(C15<>"",SUM(BG15:BV15),"") -> 0 | I15: =IF(C15<>"",COUNTIF(BG15:BN15,$BG$7)+COUNTIF(BO15:BR15,$BO$7)+COUNTIF(BS15:BT15,$BS$7)+COUNTIF(BU15,$BU$7)+COUNTIF(BV15,$BV$7),"") -> 0 | J15: =HYPERLINK("["&Setup!$C$5&"]'"&B15&"'!D4","Update score") -> Update score | K15: =IF($C15<>"",INDIRECT("'"&$B15&"'!"&"$AD"&K$6+14),"") | L15: =IF($C15<>"",INDIRECT("'"&$B15&"'!"&"$AD"&L$6+14),"") | M15: =IF($C15<>"",INDIRECT("'"&$B15&"'!"&"$AD"&M$6+14),"") | N15: =IF($C15<>"",INDIRECT("'"&$B15&"'!"&"$AD"&N$6+14),"") | O15: =IF($C15<>"",INDIRECT("'"&$B15&"'!"&"$AD"&O$6+14),"") | P15: =IF($C15<>"",INDIRECT("'"&$B15&"'!"&"$AD"&P$6+14),"") | Q15: =IF($C15<>"",INDIRECT("'"&$B15&"'!"&"$AD"&Q$6+14),"") | R15: =IF($C15<>"",INDIRECT("'"&$B15&"'!"&"$AD"&R$6+14),"") | ... BF15: =IF($C15<>"",INDIRECT("'"&$B15&"'!"&"$AD"&BF$6+14),"") | BG15: =IF($C15<>"",INDIRECT("'"&$B15&"'!"&"$AD"&BG$6+17),"") | BH15: =IF($C15<>"",INDIRECT("'"&$B15&"'!"&"$AD"&BH$6+17),"") | BI15: =IF($C15<>"",INDIRECT("'"&$B15&"'!"&"$AD"&BI$6+17),"") | BJ15: =IF($C15<>"",INDIRECT("'"&$B15&"'!"&"$AD"&BJ$6+17),"") | BK15: =IF($C15<>"",INDIRECT("'"&$B15&"'!"&"$AD"&BK$6+17),"") | BL15: =IF($C15<>"",INDIRECT("'"&$B15&"'!"&"$AD"&BL$6+17),"") | BM15: =IF($C15<>"",INDIRECT("'"&$B15&"'!"&"$AD"&BM$6+17),"") | BN15: =IF($C15<>"",INDIRECT("'"&$B15&"'!"&"$AD"&BN$6+17),"") | ... BV15: =IF($C15<>"",INDIRECT("'"&$B15&"'!"&"$AD"&BV$6+17),"")
A16: =IF(C16<>"",A15+1,"") -> 7 | B16: Player (7) | C16: =IF('Player Name'!C12<>"",'Player Name'!C12,"") -> John 7 | D16: =IF(C16<>"",F16+H16,"") -> 0 | E16: =IF(C16<>"",G16+I16,"") -> 0 | F16: =IF(C16<>"",SUM(K16:BF16),"") -> 0 | G16: =IF(C16<>"",COUNTIF(K16:BF16,$K$7),"") -> 0 | H16: =IF(C16<>"",SUM(BG16:BV16),"") -> 0 | I16: =IF(C16<>"",COUNTIF(BG16:BN16,$BG$7)+COUNTIF(BO16:BR16,$BO$7)+COUNTIF(BS16:BT16,$BS$7)+COUNTIF(BU16,$BU$7)+COUNTIF(BV16,$BV$7),"") -> 0 | J16: =HYPERLINK("["&Setup!$C$5&"]'"&B16&"'!D4","Update score") -> Update score | K16: =IF($C16<>"",INDIRECT("'"&$B16&"'!"&"$AD"&K$6+14),"") | L16: =IF($C16<>"",INDIRECT("'"&$B16&"'!"&"$AD"&L$6+14),"") | M16: =IF($C16<>"",INDIRECT("'"&$B16&"'!"&"$AD"&M$6+14),"") | N16: =IF($C16<>"",INDIRECT("'"&$B16&"'!"&"$AD"&N$6+14),"") | O16: =IF($C16<>"",INDIRECT("'"&$B16&"'!"&"$AD"&O$6+14),"") | P16: =IF($C16<>"",INDIRECT("'"&$B16&"'!"&"$AD"&P$6+14),"") | Q16: =IF($C16<>"",INDIRECT("'"&$B16&"'!"&"$AD"&Q$6+14),"") | R16: =IF($C16<>"",INDIRECT("'"&$B16&"'!"&"$AD"&R$6+14),"") | ... BF16: =IF($C16<>"",INDIRECT("'"&$B16&"'!"&"$AD"&BF$6+14),"") | BG16: =IF($C16<>"",INDIRECT("'"&$B16&"'!"&"$AD"&BG$6+17),"") | BH16: =IF($C16<>"",INDIRECT("'"&$B16&"'!"&"$AD"&BH$6+17),"") | BI16: =IF($C16<>"",INDIRECT("'"&$B16&"'!"&"$AD"&BI$6+17),"") | BJ16: =IF($C16<>"",INDIRECT("'"&$B16&"'!"&"$AD"&BJ$6+17),"") | BK16: =IF($C16<>"",INDIRECT("'"&$B16&"'!"&"$AD"&BK$6+17),"") | BL16: =IF($C16<>"",INDIRECT("'"&$B16&"'!"&"$AD"&BL$6+17),"") | BM16: =IF($C16<>"",INDIRECT("'"&$B16&"'!"&"$AD"&BM$6+17),"") | BN16: =IF($C16<>"",INDIRECT("'"&$B16&"'!"&"$AD"&BN$6+17),"") | ... BV16: =IF($C16<>"",INDIRECT("'"&$B16&"'!"&"$AD"&BV$6+17),"")
A17: =IF(C17<>"",A16+1,"") -> 8 | B17: Player (8) | C17: =IF('Player Name'!C13<>"",'Player Name'!C13,"") -> John 8 | D17: =IF(C17<>"",F17+H17,"") -> 0 | E17: =IF(C17<>"",G17+I17,"") -> 0 | F17: =IF(C17<>"",SUM(K17:BF17),"") -> 0 | G17: =IF(C17<>"",COUNTIF(K17:BF17,$K$7),"") -> 0 | H17: =IF(C17<>"",SUM(BG17:BV17),"") -> 0 | I17: =IF(C17<>"",COUNTIF(BG17:BN17,$BG$7)+COUNTIF(BO17:BR17,$BO$7)+COUNTIF(BS17:BT17,$BS$7)+COUNTIF(BU17,$BU$7)+COUNTIF(BV17,$BV$7),"") -> 0 | J17: =HYPERLINK("["&Setup!$C$5&"]'"&B17&"'!D4","Update score") -> Update score | K17: =IF($C17<>"",INDIRECT("'"&$B17&"'!"&"$AD"&K$6+14),"") | L17: =IF($C17<>"",INDIRECT("'"&$B17&"'!"&"$AD"&L$6+14),"") | M17: =IF($C17<>"",INDIRECT("'"&$B17&"'!"&"$AD"&M$6+14),"") | N17: =IF($C17<>"",INDIRECT("'"&$B17&"'!"&"$AD"&N$6+14),"") | O17: =IF($C17<>"",INDIRECT("'"&$B17&"'!"&"$AD"&O$6+14),"") | P17: =IF($C17<>"",INDIRECT("'"&$B17&"'!"&"$AD"&P$6+14),"") | Q17: =IF($C17<>"",INDIRECT("'"&$B17&"'!"&"$AD"&Q$6+14),"") | R17: =IF($C17<>"",INDIRECT("'"&$B17&"'!"&"$AD"&R$6+14),"") | ... BF17: =IF($C17<>"",INDIRECT("'"&$B17&"'!"&"$AD"&BF$6+14),"") | BG17: =IF($C17<>"",INDIRECT("'"&$B17&"'!"&"$AD"&BG$6+17),"") | BH17: =IF($C17<>"",INDIRECT("'"&$B17&"'!"&"$AD"&BH$6+17),"") | BI17: =IF($C17<>"",INDIRECT("'"&$B17&"'!"&"$AD"&BI$6+17),"") | BJ17: =IF($C17<>"",INDIRECT("'"&$B17&"'!"&"$AD"&BJ$6+17),"") | BK17: =IF($C17<>"",INDIRECT("'"&$B17&"'!"&"$AD"&BK$6+17),"") | BL17: =IF($C17<>"",INDIRECT("'"&$B17&"'!"&"$AD"&BL$6+17),"") | BM17: =IF($C17<>"",INDIRECT("'"&$B17&"'!"&"$AD"&BM$6+17),"") | BN17: =IF($C17<>"",INDIRECT("'"&$B17&"'!"&"$AD"&BN$6+17),"") | ... BV17: =IF($C17<>"",INDIRECT("'"&$B17&"'!"&"$AD"&BV$6+17),"")
A18: =IF(C18<>"",A17+1,"") -> 9 | B18: Player (9) | C18: =IF('Player Name'!C14<>"",'Player Name'!C14,"") -> John 9 | D18: =IF(C18<>"",F18+H18,"") -> 0 | E18: =IF(C18<>"",G18+I18,"") -> 0 | F18: =IF(C18<>"",SUM(K18:BF18),"") -> 0 | G18: =IF(C18<>"",COUNTIF(K18:BF18,$K$7),"") -> 0 | H18: =IF(C18<>"",SUM(BG18:BV18),"") -> 0 | I18: =IF(C18<>"",COUNTIF(BG18:BN18,$BG$7)+COUNTIF(BO18:BR18,$BO$7)+COUNTIF(BS18:BT18,$BS$7)+COUNTIF(BU18,$BU$7)+COUNTIF(BV18,$BV$7),"") -> 0 | J18: =HYPERLINK("["&Setup!$C$5&"]'"&B18&"'!D4","Update score") -> Update score | K18: =IF($C18<>"",INDIRECT("'"&$B18&"'!"&"$AD"&K$6+14),"") | L18: =IF($C18<>"",INDIRECT("'"&$B18&"'!"&"$AD"&L$6+14),"") | M18: =IF($C18<>"",INDIRECT("'"&$B18&"'!"&"$AD"&M$6+14),"") | N18: =IF($C18<>"",INDIRECT("'"&$B18&"'!"&"$AD"&N$6+14),"") | O18: =IF($C18<>"",INDIRECT("'"&$B18&"'!"&"$AD"&O$6+14),"") | P18: =IF($C18<>"",INDIRECT("'"&$B18&"'!"&"$AD"&P$6+14),"") | Q18: =IF($C18<>"",INDIRECT("'"&$B18&"'!"&"$AD"&Q$6+14),"") | R18: =IF($C18<>"",INDIRECT("'"&$B18&"'!"&"$AD"&R$6+14),"") | ... BF18: =IF($C18<>"",INDIRECT("'"&$B18&"'!"&"$AD"&BF$6+14),"") | BG18: =IF($C18<>"",INDIRECT("'"&$B18&"'!"&"$AD"&BG$6+17),"") | BH18: =IF($C18<>"",INDIRECT("'"&$B18&"'!"&"$AD"&BH$6+17),"") | BI18: =IF($C18<>"",INDIRECT("'"&$B18&"'!"&"$AD"&BI$6+17),"") | BJ18: =IF($C18<>"",INDIRECT("'"&$B18&"'!"&"$AD"&BJ$6+17),"") | BK18: =IF($C18<>"",INDIRECT("'"&$B18&"'!"&"$AD"&BK$6+17),"") | BL18: =IF($C18<>"",INDIRECT("'"&$B18&"'!"&"$AD"&BL$6+17),"") | BM18: =IF($C18<>"",INDIRECT("'"&$B18&"'!"&"$AD"&BM$6+17),"") | BN18: =IF($C18<>"",INDIRECT("'"&$B18&"'!"&"$AD"&BN$6+17),"") | ... BV18: =IF($C18<>"",INDIRECT("'"&$B18&"'!"&"$AD"&BV$6+17),"")
A19: =IF(C19<>"",A18+1,"") -> 10 | B19: Player (10) | C19: =IF('Player Name'!C15<>"",'Player Name'!C15,"") -> John 10 | D19: =IF(C19<>"",F19+H19,"") -> 0 | E19: =IF(C19<>"",G19+I19,"") -> 0 | F19: =IF(C19<>"",SUM(K19:BF19),"") -> 0 | G19: =IF(C19<>"",COUNTIF(K19:BF19,$K$7),"") -> 0 | H19: =IF(C19<>"",SUM(BG19:BV19),"") -> 0 | I19: =IF(C19<>"",COUNTIF(BG19:BN19,$BG$7)+COUNTIF(BO19:BR19,$BO$7)+COUNTIF(BS19:BT19,$BS$7)+COUNTIF(BU19,$BU$7)+COUNTIF(BV19,$BV$7),"") -> 0 | J19: =HYPERLINK("["&Setup!$C$5&"]'"&B19&"'!D4","Update score") -> Update score | K19: =IF($C19<>"",INDIRECT("'"&$B19&"'!"&"$AD"&K$6+14),"") | L19: =IF($C19<>"",INDIRECT("'"&$B19&"'!"&"$AD"&L$6+14),"") | M19: =IF($C19<>"",INDIRECT("'"&$B19&"'!"&"$AD"&M$6+14),"") | N19: =IF($C19<>"",INDIRECT("'"&$B19&"'!"&"$AD"&N$6+14),"") | O19: =IF($C19<>"",INDIRECT("'"&$B19&"'!"&"$AD"&O$6+14),"") | P19: =IF($C19<>"",INDIRECT("'"&$B19&"'!"&"$AD"&P$6+14),"") | Q19: =IF($C19<>"",INDIRECT("'"&$B19&"'!"&"$AD"&Q$6+14),"") | R19: =IF($C19<>"",INDIRECT("'"&$B19&"'!"&"$AD"&R$6+14),"") | ... BF19: =IF($C19<>"",INDIRECT("'"&$B19&"'!"&"$AD"&BF$6+14),"") | BG19: =IF($C19<>"",INDIRECT("'"&$B19&"'!"&"$AD"&BG$6+17),"") | BH19: =IF($C19<>"",INDIRECT("'"&$B19&"'!"&"$AD"&BH$6+17),"") | BI19: =IF($C19<>"",INDIRECT("'"&$B19&"'!"&"$AD"&BI$6+17),"") | BJ19: =IF($C19<>"",INDIRECT("'"&$B19&"'!"&"$AD"&BJ$6+17),"") | BK19: =IF($C19<>"",INDIRECT("'"&$B19&"'!"&"$AD"&BK$6+17),"") | BL19: =IF($C19<>"",INDIRECT("'"&$B19&"'!"&"$AD"&BL$6+17),"") | BM19: =IF($C19<>"",INDIRECT("'"&$B19&"'!"&"$AD"&BM$6+17),"") | BN19: =IF($C19<>"",INDIRECT("'"&$B19&"'!"&"$AD"&BN$6+17),"") | ... BV19: =IF($C19<>"",INDIRECT("'"&$B19&"'!"&"$AD"&BV$6+17),"")
A20: =IF(C20<>"",A19+1,"") -> 11 | B20: Player (11) | C20: =IF('Player Name'!C16<>"",'Player Name'!C16,"") -> John 11 | D20: =IF(C20<>"",F20+H20,"") -> 0 | E20: =IF(C20<>"",G20+I20,"") -> 0 | F20: =IF(C20<>"",SUM(K20:BF20),"") -> 0 | G20: =IF(C20<>"",COUNTIF(K20:BF20,$K$7),"") -> 0 | H20: =IF(C20<>"",SUM(BG20:BV20),"") -> 0 | I20: =IF(C20<>"",COUNTIF(BG20:BN20,$BG$7)+COUNTIF(BO20:BR20,$BO$7)+COUNTIF(BS20:BT20,$BS$7)+COUNTIF(BU20,$BU$7)+COUNTIF(BV20,$BV$7),"") -> 0 | J20: =HYPERLINK("["&Setup!$C$5&"]'"&B20&"'!D4","Update score") -> Update score | K20: =IF($C20<>"",INDIRECT("'"&$B20&"'!"&"$AD"&K$6+14),"") | L20: =IF($C20<>"",INDIRECT("'"&$B20&"'!"&"$AD"&L$6+14),"") | M20: =IF($C20<>"",INDIRECT("'"&$B20&"'!"&"$AD"&M$6+14),"") | N20: =IF($C20<>"",INDIRECT("'"&$B20&"'!"&"$AD"&N$6+14),"") | O20: =IF($C20<>"",INDIRECT("'"&$B20&"'!"&"$AD"&O$6+14),"") | P20: =IF($C20<>"",INDIRECT("'"&$B20&"'!"&"$AD"&P$6+14),"") | Q20: =IF($C20<>"",INDIRECT("'"&$B20&"'!"&"$AD"&Q$6+14),"") | R20: =IF($C20<>"",INDIRECT("'"&$B20&"'!"&"$AD"&R$6+14),"") | ... BF20: =IF($C20<>"",INDIRECT("'"&$B20&"'!"&"$AD"&BF$6+14),"") | BG20: =IF($C20<>"",INDIRECT("'"&$B20&"'!"&"$AD"&BG$6+17),"") | BH20: =IF($C20<>"",INDIRECT("'"&$B20&"'!"&"$AD"&BH$6+17),"") | BI20: =IF($C20<>"",INDIRECT("'"&$B20&"'!"&"$AD"&BI$6+17),"") | BJ20: =IF($C20<>"",INDIRECT("'"&$B20&"'!"&"$AD"&BJ$6+17),"") | BK20: =IF($C20<>"",INDIRECT("'"&$B20&"'!"&"$AD"&BK$6+17),"") | BL20: =IF($C20<>"",INDIRECT("'"&$B20&"'!"&"$AD"&BL$6+17),"") | BM20: =IF($C20<>"",INDIRECT("'"&$B20&"'!"&"$AD"&BM$6+17),"") | BN20: =IF($C20<>"",INDIRECT("'"&$B20&"'!"&"$AD"&BN$6+17),"") | ... BV20: =IF($C20<>"",INDIRECT("'"&$B20&"'!"&"$AD"&BV$6+17),"")
A21: =IF(C21<>"",A20+1,"") -> 12 | B21: Player (12) | C21: =IF('Player Name'!C17<>"",'Player Name'!C17,"") -> John 12 | D21: =IF(C21<>"",F21+H21,"") -> 0 | E21: =IF(C21<>"",G21+I21,"") -> 0 | F21: =IF(C21<>"",SUM(K21:BF21),"") -> 0 | G21: =IF(C21<>"",COUNTIF(K21:BF21,$K$7),"") -> 0 | H21: =IF(C21<>"",SUM(BG21:BV21),"") -> 0 | I21: =IF(C21<>"",COUNTIF(BG21:BN21,$BG$7)+COUNTIF(BO21:BR21,$BO$7)+COUNTIF(BS21:BT21,$BS$7)+COUNTIF(BU21,$BU$7)+COUNTIF(BV21,$BV$7),"") -> 0 | J21: =HYPERLINK("["&Setup!$C$5&"]'"&B21&"'!D4","Update score") -> Update score | K21: =IF($C21<>"",INDIRECT("'"&$B21&"'!"&"$AD"&K$6+14),"") | L21: =IF($C21<>"",INDIRECT("'"&$B21&"'!"&"$AD"&L$6+14),"") | M21: =IF($C21<>"",INDIRECT("'"&$B21&"'!"&"$AD"&M$6+14),"") | N21: =IF($C21<>"",INDIRECT("'"&$B21&"'!"&"$AD"&N$6+14),"") | O21: =IF($C21<>"",INDIRECT("'"&$B21&"'!"&"$AD"&O$6+14),"") | P21: =IF($C21<>"",INDIRECT("'"&$B21&"'!"&"$AD"&P$6+14),"") | Q21: =IF($C21<>"",INDIRECT("'"&$B21&"'!"&"$AD"&Q$6+14),"") | R21: =IF($C21<>"",INDIRECT("'"&$B21&"'!"&"$AD"&R$6+14),"") | ... BF21: =IF($C21<>"",INDIRECT("'"&$B21&"'!"&"$AD"&BF$6+14),"") | BG21: =IF($C21<>"",INDIRECT("'"&$B21&"'!"&"$AD"&BG$6+17),"") | BH21: =IF($C21<>"",INDIRECT("'"&$B21&"'!"&"$AD"&BH$6+17),"") | BI21: =IF($C21<>"",INDIRECT("'"&$B21&"'!"&"$AD"&BI$6+17),"") | BJ21: =IF($C21<>"",INDIRECT("'"&$B21&"'!"&"$AD"&BJ$6+17),"") | BK21: =IF($C21<>"",INDIRECT("'"&$B21&"'!"&"$AD"&BK$6+17),"") | BL21: =IF($C21<>"",INDIRECT("'"&$B21&"'!"&"$AD"&BL$6+17),"") | BM21: =IF($C21<>"",INDIRECT("'"&$B21&"'!"&"$AD"&BM$6+17),"") | BN21: =IF($C21<>"",INDIRECT("'"&$B21&"'!"&"$AD"&BN$6+17),"") | ... BV21: =IF($C21<>"",INDIRECT("'"&$B21&"'!"&"$AD"&BV$6+17),"")
A22: =IF(C22<>"",A21+1,"") -> 13 | B22: Player (13) | C22: =IF('Player Name'!C18<>"",'Player Name'!C18,"") -> John 13 | D22: =IF(C22<>"",F22+H22,"") -> 0 | E22: =IF(C22<>"",G22+I22,"") -> 0 | F22: =IF(C22<>"",SUM(K22:BF22),"") -> 0 | G22: =IF(C22<>"",COUNTIF(K22:BF22,$K$7),"") -> 0 | H22: =IF(C22<>"",SUM(BG22:BV22),"") -> 0 | I22: =IF(C22<>"",COUNTIF(BG22:BN22,$BG$7)+COUNTIF(BO22:BR22,$BO$7)+COUNTIF(BS22:BT22,$BS$7)+COUNTIF(BU22,$BU$7)+COUNTIF(BV22,$BV$7),"") -> 0 | J22: =HYPERLINK("["&Setup!$C$5&"]'"&B22&"'!D4","Update score") -> Update score | K22: =IF($C22<>"",INDIRECT("'"&$B22&"'!"&"$AD"&K$6+14),"") | L22: =IF($C22<>"",INDIRECT("'"&$B22&"'!"&"$AD"&L$6+14),"") | M22: =IF($C22<>"",INDIRECT("'"&$B22&"'!"&"$AD"&M$6+14),"") | N22: =IF($C22<>"",INDIRECT("'"&$B22&"'!"&"$AD"&N$6+14),"") | O22: =IF($C22<>"",INDIRECT("'"&$B22&"'!"&"$AD"&O$6+14),"") | P22: =IF($C22<>"",INDIRECT("'"&$B22&"'!"&"$AD"&P$6+14),"") | Q22: =IF($C22<>"",INDIRECT("'"&$B22&"'!"&"$AD"&Q$6+14),"") | R22: =IF($C22<>"",INDIRECT("'"&$B22&"'!"&"$AD"&R$6+14),"") | ... BF22: =IF($C22<>"",INDIRECT("'"&$B22&"'!"&"$AD"&BF$6+14),"") | BG22: =IF($C22<>"",INDIRECT("'"&$B22&"'!"&"$AD"&BG$6+17),"") | BH22: =IF($C22<>"",INDIRECT("'"&$B22&"'!"&"$AD"&BH$6+17),"") | BI22: =IF($C22<>"",INDIRECT("'"&$B22&"'!"&"$AD"&BI$6+17),"") | BJ22: =IF($C22<>"",INDIRECT("'"&$B22&"'!"&"$AD"&BJ$6+17),"") | BK22: =IF($C22<>"",INDIRECT("'"&$B22&"'!"&"$AD"&BK$6+17),"") | BL22: =IF($C22<>"",INDIRECT("'"&$B22&"'!"&"$AD"&BL$6+17),"") | BM22: =IF($C22<>"",INDIRECT("'"&$B22&"'!"&"$AD"&BM$6+17),"") | BN22: =IF($C22<>"",INDIRECT("'"&$B22&"'!"&"$AD"&BN$6+17),"") | ... BV22: =IF($C22<>"",INDIRECT("'"&$B22&"'!"&"$AD"&BV$6+17),"")
... A24: =IF(C24<>"",A23+1,"") -> 15 | B24: Player (15) | C24: =IF('Player Name'!C20<>"",'Player Name'!C20,"") -> John 15 | D24: =IF(C24<>"",F24+H24,"") -> 0 | E24: =IF(C24<>"",G24+I24,"") -> 0 | F24: =IF(C24<>"",SUM(K24:BF24),"") -> 0 | G24: =IF(C24<>"",COUNTIF(K24:BF24,$K$7),"") -> 0 | H24: =IF(C24<>"",SUM(BG24:BV24),"") -> 0 | I24: =IF(C24<>"",COUNTIF(BG24:BN24,$BG$7)+COUNTIF(BO24:BR24,$BO$7)+COUNTIF(BS24:BT24,$BS$7)+COUNTIF(BU24,$BU$7)+COUNTIF(BV24,$BV$7),"") -> 0 | J24: =HYPERLINK("["&Setup!$C$5&"]'"&B24&"'!D4","Update score") -> Update score | K24: =IF($C24<>"",INDIRECT("'"&$B24&"'!"&"$AD"&K$6+14),"") | L24: =IF($C24<>"",INDIRECT("'"&$B24&"'!"&"$AD"&L$6+14),"") | M24: =IF($C24<>"",INDIRECT("'"&$B24&"'!"&"$AD"&M$6+14),"") | N24: =IF($C24<>"",INDIRECT("'"&$B24&"'!"&"$AD"&N$6+14),"") | O24: =IF($C24<>"",INDIRECT("'"&$B24&"'!"&"$AD"&O$6+14),"") | P24: =IF($C24<>"",INDIRECT("'"&$B24&"'!"&"$AD"&P$6+14),"") | Q24: =IF($C24<>"",INDIRECT("'"&$B24&"'!"&"$AD"&Q$6+14),"") | R24: =IF($C24<>"",INDIRECT("'"&$B24&"'!"&"$AD"&R$6+14),"") | ... BF24: =IF($C24<>"",INDIRECT("'"&$B24&"'!"&"$AD"&BF$6+14),"") | BG24: =IF($C24<>"",INDIRECT("'"&$B24&"'!"&"$AD"&BG$6+17),"") | BH24: =IF($C24<>"",INDIRECT("'"&$B24&"'!"&"$AD"&BH$6+17),"") | BI24: =IF($C24<>"",INDIRECT("'"&$B24&"'!"&"$AD"&BI$6+17),"") | BJ24: =IF($C24<>"",INDIRECT("'"&$B24&"'!"&"$AD"&BJ$6+17),"") | BK24: =IF($C24<>"",INDIRECT("'"&$B24&"'!"&"$AD"&BK$6+17),"") | BL24: =IF($C24<>"",INDIRECT("'"&$B24&"'!"&"$AD"&BL$6+17),"") | BM24: =IF($C24<>"",INDIRECT("'"&$B24&"'!"&"$AD"&BM$6+17),"") | BN24: =IF($C24<>"",INDIRECT("'"&$B24&"'!"&"$AD"&BN$6+17),"") | ... BV24: =IF($C24<>"",INDIRECT("'"&$B24&"'!"&"$AD"&BV$6+17),"")

Sheet Player Scoreboard (2)
K5: Group Stages | BG5: Round of 16 | BO5: Quarter Final | BS5: Semifinal | BU5: 3rd Place | BV5: FINAL
K6: 1 | L6: 2 | M6: 3 | N6: 4 | O6: 5 | P6: 6 | Q6: 7 | R6: 8 | S6: 9 | T6: 10 | U6: 11 | V6: 12 | W6: 13 | X6: 14 | Y6: 15 | Z6: 16 | AA6: 17 | AB6: 18 | AC6: 19 | AD6: 20 | AE6: 21 | AF6: 22 | AG6: 23 | AH6: 24 | AI6: 25 | AJ6: 26 | AK6: 27 | AL6: 28 | AM6: 29 | AN6: 30 | AO6: 31 | AP6: 32 | AQ6: 33 | AR6: 34 | AS6: 35 | AT6: 36 | AU6: 37 | AV6: 38 | AW6: 39 | AX6: 40 | AY6: 41 | AZ6: 42 | BA6: 43 | BB6: 44 | BC6: 45 | BD6: 46 | BE6: 47 | BF6: 48 | BG6: 49 | BH6: 50 | BI6: 51 | BJ6: 52 | BK6: 53 | BL6: 54 | BM6: 55 | BN6: 56 | BO6: 57 | BP6: 58 | BQ6: 59 | BR6: 60 | BS6: 61 | BT6: 62 | BU6: 63 | BV6: 64
A7: No | B7: Sheet Name | C7: Player Name | D7: Total Point | E7: Total Correct Prediction | F7: Group Stages | H7: Knock Out Stages | J7: Max Score >> | K7: =Setup!D10 -> 100 | L7: =K7 -> 100 | M7: =L7 -> 100 | N7: =M7 -> 100 | O7: =N7 -> 100 | P7: =O7 -> 100 | Q7: =P7 -> 100 | R7: =Q7 -> 100 | S7: =R7 -> 100 | ... BF7: =BE7 -> 100 | BG7: =Setup!D20 -> 200 | BH7: =BG7 -> 200 | BI7: =BH7 -> 200 | BJ7: =BI7 -> 200 | BK7: =BJ7 -> 200 | BL7: =BK7 -> 200 | BM7: =BL7 -> 200 | BN7: =BM7 -> 200 | BO7: =Setup!E20 -> 400 | BP7: =BO7 -> 400 | BQ7: =BP7 -> 400 | BR7: =BQ7 -> 400 | BS7: =Setup!F20 -> 800 | BT7: =BS7 -> 800 | BU7: =Setup!G20 -> 800 | BV7: =Setup!H20 -> 1600
F8: Total Point | G8: Correct Prediction | H8: Total Point | I8: Correct Prediction | J8: Match >> | K8: =LEFT(OFFSET(Tournament!$H$15,K$6,0),3)&" vs "&LEFT(OFFSET(Tournament!$N$15,K$6,0),3) -> Bra vs Cro | L8: =LEFT(OFFSET(Tournament!$H$15,L$6,0),3)&" vs "&LEFT(OFFSET(Tournament!$N$15,L$6,0),3) -> Mex vs Cam | M8: =LEFT(OFFSET(Tournament!$H$15,M$6,0),3)&" vs "&LEFT(OFFSET(Tournament!$N$15,M$6,0),3) -> Spa vs Net | N8: =LEFT(OFFSET(Tournament!$H$15,N$6,0),3)&" vs "&LEFT(OFFSET(Tournament!$N$15,N$6,0),3) -> Chi vs Aus | O8: =LEFT(OFFSET(Tournament!$H$15,O$6,0),3)&" vs "&LEFT(OFFSET(Tournament!$N$15,O$6,0),3) -> Col vs Gre | P8: =LEFT(OFFSET(Tournament!$H$15,P$6,0),3)&" vs "&LEFT(OFFSET(Tournament!$N$15,P$6,0),3) -> Ivo vs Jap | Q8: =LEFT(OFFSET(Tournament!$H$15,Q$6,0),3)&" vs "&LEFT(OFFSET(Tournament!$N$15,Q$6,0),3) -> Uru vs Cos | R8: =LEFT(OFFSET(Tournament!$H$15,R$6,0),3)&" vs "&LEFT(OFFSET(Tournament!$N$15,R$6,0),3) -> Eng vs Ita | ... BF8: =LEFT(OFFSET(Tournament!$H$15,BF$6,0),3)&" vs "&LEFT(OFFSET(Tournament!$N$15,BF$6,0),3) -> Alg vs Rus | BG8: =LEFT(OFFSET(Tournament!$H$68,1,0),3)&" vs "&LEFT(OFFSET(Tournament!$N$68,1,0),3) -> Gro vs Gro | BH8: =LEFT(OFFSET(Tournament!$H$68,7,0),3)&" vs "&LEFT(OFFSET(Tournament!$N$68,7,0),3) -> Gro vs Gro | BI8: =LEFT(OFFSET(Tournament!$H$68,13,0),3)&" vs "&LEFT(OFFSET(Tournament!$N$68,13,0),3) -> Gro vs Gro | BJ8: =LEFT(OFFSET(Tournament!$H$68,19,0),3)&" vs "&LEFT(OFFSET(Tournament!$N$68,19,0),3) -> Gro vs Gro | BK8: =LEFT(OFFSET(Tournament!$H$68,25,0),3)&" vs "&LEFT(OFFSET(Tournament!$N$68,25,0),3) -> Gro vs Gro | BL8: =LEFT(OFFSET(Tournament!$H$68,31,0),3)&" vs "&LEFT(OFFSET(Tournament!$N$68,31,0),3) -> Gro vs Gro | BM8: =LEFT(OFFSET(Tournament!$H$68,37,0),3)&" vs "&LEFT(OFFSET(Tournament!$N$68,37,0),3) -> Gro vs Gro | BN8: =LEFT(OFFSET(Tournament!$H$68,43,0),3)&" vs "&LEFT(OFFSET(Tournament!$N$68,43,0),3) -> Gro vs Gro | BO8: =LEFT(OFFSET(Tournament!$Y$68,1,0),3)&" vs "&LEFT(OFFSET(Tournament!$AE$68,1,0),3) -> Mat vs Mat | BP8: =LEFT(OFFSET(Tournament!$Y$68,6,0),3)&" vs "&LEFT(OFFSET(Tournament!$AE$68,6,0),3) -> Mat vs Mat | BQ8: =LEFT(OFFSET(Tournament!$Y$68,11,0),3)&" vs "&LEFT(OFFSET(Tournament!$AE$68,11,0),3) -> Mat vs Mat | BR8: =LEFT(OFFSET(Tournament!$Y$68,16,0),3)&" vs "&LEFT(OFFSET(Tournament!$AE$68,16,0),3) -> Mat vs Mat | BS8: =LEFT(OFFSET(Tournament!$Y$91,1,0),3)&" vs "&LEFT(OFFSET(Tournament!$AE$91,1,0),3) -> Mat vs Mat | BT8: =LEFT(OFFSET(Tournament!$Y$91,6,0),3)&" vs "&LEFT(OFFSET(Tournament!$AE$91,6,0),3) -> Mat vs Mat | BU8: =LEFT(OFFSET(Tournament!$Y$104,1,0),3)&" vs "&LEFT(OFFSET(Tournament!$AE$104,1,0),3) -> Mat vs Mat | BV8: =LEFT(OFFSET(Tournament!$Y$112,1,0),3)&" vs "&LEFT(OFFSET(Tournament!$AE$112,1,0),3) -> Mat vs Mat
J9: Result (NT, ET, PSO) >> | K9: =LEFT(OFFSET(Tournament!$J$15,K$6,0),3)&" - "&LEFT(OFFSET(Tournament!$L$15,K$6,0),3) -> 3 - 1 | L9: =LEFT(OFFSET(Tournament!$J$15,L$6,0),3)&" - "&LEFT(OFFSET(Tournament!$L$15,L$6,0),3) -> 1 - 0 | M9: =LEFT(OFFSET(Tournament!$J$15,M$6,0),3)&" - "&LEFT(OFFSET(Tournament!$L$15,M$6,0),3) -> 1 - 5 | N9: =LEFT(OFFSET(Tournament!$J$15,N$6,0),3)&" - "&LEFT(OFFSET(Tournament!$L$15,N$6,0),3) -> 3 - 1 | O9: =LEFT(OFFSET(Tournament!$J$15,O$6,0),3)&" - "&LEFT(OFFSET(Tournament!$L$15,O$6,0),3) -> - | P9: =LEFT(OFFSET(Tournament!$J$15,P$6,0),3)&" - "&LEFT(OFFSET(Tournament!$L$15,P$6,0),3) -> - | Q9: =LEFT(OFFSET(Tournament!$J$15,Q$6,0),3)&" - "&LEFT(OFFSET(Tournament!$L$15,Q$6,0),3) -> - | R9: =LEFT(OFFSET(Tournament!$J$15,R$6,0),3)&" - "&LEFT(OFFSET(Tournament!$L$15,R$6,0),3) -> - | ... BF9: =LEFT(OFFSET(Tournament!$J$15,BF$6,0),3)&" - "&LEFT(OFFSET(Tournament!$L$15,BF$6,0),3) -> - | BG9: =LEFT(OFFSET(Player!$R$65,BG$6-48,0),3)&" - "&LEFT(OFFSET(Player!$T$65,BG$6-48,0),3) -> - | BH9: =LEFT(OFFSET(Player!$R$65,BH$6-48,0),3)&" - "&LEFT(OFFSET(Player!$T$65,BH$6-48,0),3) -> - | BI9: =LEFT(OFFSET(Player!$R$65,BI$6-48,0),3)&" - "&LEFT(OFFSET(Player!$T$65,BI$6-48,0),3) -> - | BJ9: =LEFT(OFFSET(Player!$R$65,BJ$6-48,0),3)&" - "&LEFT(OFFSET(Player!$T$65,BJ$6-48,0),3) -> - | BK9: =LEFT(OFFSET(Player!$R$65,BK$6-48,0),3)&" - "&LEFT(OFFSET(Player!$T$65,BK$6-48,0),3) -> - | BL9: =LEFT(OFFSET(Player!$R$65,BL$6-48,0),3)&" - "&LEFT(OFFSET(Player!$T$65,BL$6-48,0),3) -> - | BM9: =LEFT(OFFSET(Player!$R$65,BM$6-48,0),3)&" - "&LEFT(OFFSET(Player!$T$65,BM$6-48,0),3) -> - | BN9: =LEFT(OFFSET(Player!$R$65,BN$6-48,0),3)&" - "&LEFT(OFFSET(Player!$T$65,BN$6-48,0),3) -> - | ... BV9: =LEFT(OFFSET(Player!$R$65,BV$6-48,0),3)&" - "&LEFT(OFFSET(Player!$T$65,BV$6-48,0),3) -> -
A10: =IF('Player Scoreboard'!A10<>"",'Player Scoreboard'!A10,"") -> 1 | B10: Player | C10: =IF('Player Name'!C6<>"",'Player Name'!C6,"") -> John 1 | D10: =IF($C10<>"",'Player Scoreboard'!D10,"") -> 0 | E10: =IF($C10<>"",'Player Scoreboard'!E10,"") -> 0 | F10: =IF($C10<>"",'Player Scoreboard'!F10,"") -> 0 | G10: =IF($C10<>"",'Player Scoreboard'!G10,"") -> 0 | H10: =IF($C10<>"",'Player Scoreboard'!H10,"") -> 0 | I10: =IF($C10<>"",'Player Scoreboard'!I10,"") -> 0 | J10: =HYPERLINK("["&Setup!$C$5&"]'"&B10&"'!D4","Update score") -> Update score | K10: =IF($C10<>"",INDIRECT("'"&$B10&"'!"&"$i"&K$6+14)&" - "&INDIRECT("'"&$B10&"'!"&"$k"&K$6+14),"") -> - | L10: =IF($C10<>"",INDIRECT("'"&$B10&"'!"&"$i"&L$6+14)&" - "&INDIRECT("'"&$B10&"'!"&"$k"&L$6+14),"") -> - | M10: =IF($C10<>"",INDIRECT("'"&$B10&"'!"&"$i"&M$6+14)&" - "&INDIRECT("'"&$B10&"'!"&"$k"&M$6+14),"") -> - | N10: =IF($C10<>"",INDIRECT("'"&$B10&"'!"&"$i"&N$6+14)&" - "&INDIRECT("'"&$B10&"'!"&"$k"&N$6+14),"") -> - | O10: =IF($C10<>"",INDIRECT("'"&$B10&"'!"&"$i"&O$6+14)&" - "&INDIRECT("'"&$B10&"'!"&"$k"&O$6+14),"") -> - | P10: =IF($C10<>"",INDIRECT("'"&$B10&"'!"&"$i"&P$6+14)&" - "&INDIRECT("'"&$B10&"'!"&"$k"&P$6+14),"") -> - | Q10: =IF($C10<>"",INDIRECT("'"&$B10&"'!"&"$i"&Q$6+14)&" - "&INDIRECT("'"&$B10&"'!"&"$k"&Q$6+14),"") -> - | R10: =IF($C10<>"",INDIRECT("'"&$B10&"'!"&"$i"&R$6+14)&" - "&INDIRECT("'"&$B10&"'!"&"$k"&R$6+14),"") -> - | ... BF10: =IF($C10<>"",INDIRECT("'"&$B10&"'!"&"$i"&BF$6+14)&" - "&INDIRECT("'"&$B10&"'!"&"$k"&BF$6+14),"") -> - | BG10: =IF($C10<>"",INDIRECT("'"&$B10&"'!"&"$i"&BG$6+17)&" - "&INDIRECT("'"&$B10&"'!"&"$k"&BG$6+17),"") -> - | BH10: =IF($C10<>"",INDIRECT("'"&$B10&"'!"&"$i"&BH$6+17)&" - "&INDIRECT("'"&$B10&"'!"&"$k"&BH$6+17),"") -> - | BI10: =IF($C10<>"",INDIRECT("'"&$B10&"'!"&"$i"&BI$6+17)&" - "&INDIRECT("'"&$B10&"'!"&"$k"&BI$6+17),"") -> - | BJ10: =IF($C10<>"",INDIRECT("'"&$B10&"'!"&"$i"&BJ$6+17)&" - "&INDIRECT("'"&$B10&"'!"&"$k"&BJ$6+17),"") -> - | BK10: =IF($C10<>"",INDIRECT("'"&$B10&"'!"&"$i"&BK$6+17)&" - "&INDIRECT("'"&$B10&"'!"&"$k"&BK$6+17),"") -> - | BL10: =IF($C10<>"",INDIRECT("'"&$B10&"'!"&"$i"&BL$6+17)&" - "&INDIRECT("'"&$B10&"'!"&"$k"&BL$6+17),"") -> - | BM10: =IF($C10<>"",INDIRECT("'"&$B10&"'!"&"$i"&BM$6+17)&" - "&INDIRECT("'"&$B10&"'!"&"$k"&BM$6+17),"") -> - | BN10: =IF($C10<>"",INDIRECT("'"&$B10&"'!"&"$i"&BN$6+17)&" - "&INDIRECT("'"&$B10&"'!"&"$k"&BN$6+17),"") -> - | ... BV10: =IF($C10<>"",INDIRECT("'"&$B10&"'!"&"$i"&BV$6+17)&" - "&INDIRECT("'"&$B10&"'!"&"$k"&BV$6+17),"") -> -
A11: =IF('Player Scoreboard'!A11<>"",'Player Scoreboard'!A11,"") -> 2 | B11: Player (2) | C11: =IF('Player Name'!C7<>"",'Player Name'!C7,"") -> John 2 | D11: =IF($C11<>"",'Player Scoreboard'!D11,"") -> 0 | E11: =IF($C11<>"",'Player Scoreboard'!E11,"") -> 0 | F11: =IF($C11<>"",'Player Scoreboard'!F11,"") -> 0 | G11: =IF($C11<>"",'Player Scoreboard'!G11,"") -> 0 | H11: =IF($C11<>"",'Player Scoreboard'!H11,"") -> 0 | I11: =IF($C11<>"",'Player Scoreboard'!I11,"") -> 0 | J11: =HYPERLINK("["&Setup!$C$5&"]'"&B11&"'!D4","Update score") -> Update score | K11: =IF($C11<>"",INDIRECT("'"&$B11&"'!"&"$i"&K$6+14)&" - "&INDIRECT("'"&$B11&"'!"&"$k"&K$6+14),"") -> - | L11: =IF($C11<>"",INDIRECT("'"&$B11&"'!"&"$i"&L$6+14)&" - "&INDIRECT("'"&$B11&"'!"&"$k"&L$6+14),"") -> - | M11: =IF($C11<>"",INDIRECT("'"&$B11&"'!"&"$i"&M$6+14)&" - "&INDIRECT("'"&$B11&"'!"&"$k"&M$6+14),"") -> - | N11: =IF($C11<>"",INDIRECT("'"&$B11&"'!"&"$i"&N$6+14)&" - "&INDIRECT("'"&$B11&"'!"&"$k"&N$6+14),"") -> - | O11: =IF($C11<>"",INDIRECT("'"&$B11&"'!"&"$i"&O$6+14)&" - "&INDIRECT("'"&$B11&"'!"&"$k"&O$6+14),"") -> - | P11: =IF($C11<>"",INDIRECT("'"&$B11&"'!"&"$i"&P$6+14)&" - "&INDIRECT("'"&$B11&"'!"&"$k"&P$6+14),"") -> - | Q11: =IF($C11<>"",INDIRECT("'"&$B11&"'!"&"$i"&Q$6+14)&" - "&INDIRECT("'"&$B11&"'!"&"$k"&Q$6+14),"") -> - | R11: =IF($C11<>"",INDIRECT("'"&$B11&"'!"&"$i"&R$6+14)&" - "&INDIRECT("'"&$B11&"'!"&"$k"&R$6+14),"") -> - | ... BF11: =IF($C11<>"",INDIRECT("'"&$B11&"'!"&"$i"&BF$6+14)&" - "&INDIRECT("'"&$B11&"'!"&"$k"&BF$6+14),"") -> - | BG11: =IF($C11<>"",INDIRECT("'"&$B11&"'!"&"$i"&BG$6+17)&" - "&INDIRECT("'"&$B11&"'!"&"$k"&BG$6+17),"") -> - | BH11: =IF($C11<>"",INDIRECT("'"&$B11&"'!"&"$i"&BH$6+17)&" - "&INDIRECT("'"&$B11&"'!"&"$k"&BH$6+17),"") -> - | BI11: =IF($C11<>"",INDIRECT("'"&$B11&"'!"&"$i"&BI$6+17)&" - "&INDIRECT("'"&$B11&"'!"&"$k"&BI$6+17),"") -> - | BJ11: =IF($C11<>"",INDIRECT("'"&$B11&"'!"&"$i"&BJ$6+17)&" - "&INDIRECT("'"&$B11&"'!"&"$k"&BJ$6+17),"") -> - | BK11: =IF($C11<>"",INDIRECT("'"&$B11&"'!"&"$i"&BK$6+17)&" - "&INDIRECT("'"&$B11&"'!"&"$k"&BK$6+17),"") -> - | BL11: =IF($C11<>"",INDIRECT("'"&$B11&"'!"&"$i"&BL$6+17)&" - "&INDIRECT("'"&$B11&"'!"&"$k"&BL$6+17),"") -> - | BM11: =IF($C11<>"",INDIRECT("'"&$B11&"'!"&"$i"&BM$6+17)&" - "&INDIRECT("'"&$B11&"'!"&"$k"&BM$6+17),"") -> - | BN11: =IF($C11<>"",INDIRECT("'"&$B11&"'!"&"$i"&BN$6+17)&" - "&INDIRECT("'"&$B11&"'!"&"$k"&BN$6+17),"") -> - | ... BV11: =IF($C11<>"",INDIRECT("'"&$B11&"'!"&"$i"&BV$6+17)&" - "&INDIRECT("'"&$B11&"'!"&"$k"&BV$6+17),"") -> -
A12: =IF('Player Scoreboard'!A12<>"",'Player Scoreboard'!A12,"") -> 3 | B12: Player (3) | C12: =IF('Player Name'!C8<>"",'Player Name'!C8,"") -> John 3 | D12: =IF($C12<>"",'Player Scoreboard'!D12,"") -> 0 | E12: =IF($C12<>"",'Player Scoreboard'!E12,"") -> 0 | F12: =IF($C12<>"",'Player Scoreboard'!F12,"") -> 0 | G12: =IF($C12<>"",'Player Scoreboard'!G12,"") -> 0 | H12: =IF($C12<>"",'Player Scoreboard'!H12,"") -> 0 | I12: =IF($C12<>"",'Player Scoreboard'!I12,"") -> 0 | J12: =HYPERLINK("["&Setup!$C$5&"]'"&B12&"'!D4","Update score") -> Update score | K12: =IF($C12<>"",INDIRECT("'"&$B12&"'!"&"$i"&K$6+14)&" - "&INDIRECT("'"&$B12&"'!"&"$k"&K$6+14),"") -> - | L12: =IF($C12<>"",INDIRECT("'"&$B12&"'!"&"$i"&L$6+14)&" - "&INDIRECT("'"&$B12&"'!"&"$k"&L$6+14),"") -> - | M12: =IF($C12<>"",INDIRECT("'"&$B12&"'!"&"$i"&M$6+14)&" - "&INDIRECT("'"&$B12&"'!"&"$k"&M$6+14),"") -> - | N12: =IF($C12<>"",INDIRECT("'"&$B12&"'!"&"$i"&N$6+14)&" - "&INDIRECT("'"&$B12&"'!"&"$k"&N$6+14),"") -> - | O12: =IF($C12<>"",INDIRECT("'"&$B12&"'!"&"$i"&O$6+14)&" - "&INDIRECT("'"&$B12&"'!"&"$k"&O$6+14),"") -> - | P12: =IF($C12<>"",INDIRECT("'"&$B12&"'!"&"$i"&P$6+14)&" - "&INDIRECT("'"&$B12&"'!"&"$k"&P$6+14),"") -> - | Q12: =IF($C12<>"",INDIRECT("'"&$B12&"'!"&"$i"&Q$6+14)&" - "&INDIRECT("'"&$B12&"'!"&"$k"&Q$6+14),"") -> - | R12: =IF($C12<>"",INDIRECT("'"&$B12&"'!"&"$i"&R$6+14)&" - "&INDIRECT("'"&$B12&"'!"&"$k"&R$6+14),"") -> - | ... BF12: =IF($C12<>"",INDIRECT("'"&$B12&"'!"&"$i"&BF$6+14)&" - "&INDIRECT("'"&$B12&"'!"&"$k"&BF$6+14),"") -> - | BG12: =IF($C12<>"",INDIRECT("'"&$B12&"'!"&"$i"&BG$6+17)&" - "&INDIRECT("'"&$B12&"'!"&"$k"&BG$6+17),"") -> - | BH12: =IF($C12<>"",INDIRECT("'"&$B12&"'!"&"$i"&BH$6+17)&" - "&INDIRECT("'"&$B12&"'!"&"$k"&BH$6+17),"") -> - | BI12: =IF($C12<>"",INDIRECT("'"&$B12&"'!"&"$i"&BI$6+17)&" - "&INDIRECT("'"&$B12&"'!"&"$k"&BI$6+17),"") -> - | BJ12: =IF($C12<>"",INDIRECT("'"&$B12&"'!"&"$i"&BJ$6+17)&" - "&INDIRECT("'"&$B12&"'!"&"$k"&BJ$6+17),"") -> - | BK12: =IF($C12<>"",INDIRECT("'"&$B12&"'!"&"$i"&BK$6+17)&" - "&INDIRECT("'"&$B12&"'!"&"$k"&BK$6+17),"") -> - | BL12: =IF($C12<>"",INDIRECT("'"&$B12&"'!"&"$i"&BL$6+17)&" - "&INDIRECT("'"&$B12&"'!"&"$k"&BL$6+17),"") -> - | BM12: =IF($C12<>"",INDIRECT("'"&$B12&"'!"&"$i"&BM$6+17)&" - "&INDIRECT("'"&$B12&"'!"&"$k"&BM$6+17),"") -> - | BN12: =IF($C12<>"",INDIRECT("'"&$B12&"'!"&"$i"&BN$6+17)&" - "&INDIRECT("'"&$B12&"'!"&"$k"&BN$6+17),"") -> - | ... BV12: =IF($C12<>"",INDIRECT("'"&$B12&"'!"&"$i"&BV$6+17)&" - "&INDIRECT("'"&$B12&"'!"&"$k"&BV$6+17),"") -> -
A13: =IF('Player Scoreboard'!A13<>"",'Player Scoreboard'!A13,"") -> 4 | B13: Player (4) | C13: =IF('Player Name'!C9<>"",'Player Name'!C9,"") -> John 4 | D13: =IF($C13<>"",'Player Scoreboard'!D13,"") -> 0 | E13: =IF($C13<>"",'Player Scoreboard'!E13,"") -> 0 | F13: =IF($C13<>"",'Player Scoreboard'!F13,"") -> 0 | G13: =IF($C13<>"",'Player Scoreboard'!G13,"") -> 0 | H13: =IF($C13<>"",'Player Scoreboard'!H13,"") -> 0 | I13: =IF($C13<>"",'Player Scoreboard'!I13,"") -> 0 | J13: =HYPERLINK("["&Setup!$C$5&"]'"&B13&"'!D4","Update score") -> Update score | K13: =IF($C13<>"",INDIRECT("'"&$B13&"'!"&"$i"&K$6+14)&" - "&INDIRECT("'"&$B13&"'!"&"$k"&K$6+14),"") -> - | L13: =IF($C13<>"",INDIRECT("'"&$B13&"'!"&"$i"&L$6+14)&" - "&INDIRECT("'"&$B13&"'!"&"$k"&L$6+14),"") -> - | M13: =IF($C13<>"",INDIRECT("'"&$B13&"'!"&"$i"&M$6+14)&" - "&INDIRECT("'"&$B13&"'!"&"$k"&M$6+14),"") -> - | N13: =IF($C13<>"",INDIRECT("'"&$B13&"'!"&"$i"&N$6+14)&" - "&INDIRECT("'"&$B13&"'!"&"$k"&N$6+14),"") -> - | O13: =IF($C13<>"",INDIRECT("'"&$B13&"'!"&"$i"&O$6+14)&" - "&INDIRECT("'"&$B13&"'!"&"$k"&O$6+14),"") -> - | P13: =IF($C13<>"",INDIRECT("'"&$B13&"'!"&"$i"&P$6+14)&" - "&INDIRECT("'"&$B13&"'!"&"$k"&P$6+14),"") -> - | Q13: =IF($C13<>"",INDIRECT("'"&$B13&"'!"&"$i"&Q$6+14)&" - "&INDIRECT("'"&$B13&"'!"&"$k"&Q$6+14),"") -> - | R13: =IF($C13<>"",INDIRECT("'"&$B13&"'!"&"$i"&R$6+14)&" - "&INDIRECT("'"&$B13&"'!"&"$k"&R$6+14),"") -> - | ... BF13: =IF($C13<>"",INDIRECT("'"&$B13&"'!"&"$i"&BF$6+14)&" - "&INDIRECT("'"&$B13&"'!"&"$k"&BF$6+14),"") -> - | BG13: =IF($C13<>"",INDIRECT("'"&$B13&"'!"&"$i"&BG$6+17)&" - "&INDIRECT("'"&$B13&"'!"&"$k"&BG$6+17),"") -> - | BH13: =IF($C13<>"",INDIRECT("'"&$B13&"'!"&"$i"&BH$6+17)&" - "&INDIRECT("'"&$B13&"'!"&"$k"&BH$6+17),"") -> - | BI13: =IF($C13<>"",INDIRECT("'"&$B13&"'!"&"$i"&BI$6+17)&" - "&INDIRECT("'"&$B13&"'!"&"$k"&BI$6+17),"") -> - | BJ13: =IF($C13<>"",INDIRECT("'"&$B13&"'!"&"$i"&BJ$6+17)&" - "&INDIRECT("'"&$B13&"'!"&"$k"&BJ$6+17),"") -> - | BK13: =IF($C13<>"",INDIRECT("'"&$B13&"'!"&"$i"&BK$6+17)&" - "&INDIRECT("'"&$B13&"'!"&"$k"&BK$6+17),"") -> - | BL13: =IF($C13<>"",INDIRECT("'"&$B13&"'!"&"$i"&BL$6+17)&" - "&INDIRECT("'"&$B13&"'!"&"$k"&BL$6+17),"") -> - | BM13: =IF($C13<>"",INDIRECT("'"&$B13&"'!"&"$i"&BM$6+17)&" - "&INDIRECT("'"&$B13&"'!"&"$k"&BM$6+17),"") -> - | BN13: =IF($C13<>"",INDIRECT("'"&$B13&"'!"&"$i"&BN$6+17)&" - "&INDIRECT("'"&$B13&"'!"&"$k"&BN$6+17),"") -> - | ... BV13: =IF($C13<>"",INDIRECT("'"&$B13&"'!"&"$i"&BV$6+17)&" - "&INDIRECT("'"&$B13&"'!"&"$k"&BV$6+17),"") -> -
A14: =IF('Player Scoreboard'!A14<>"",'Player Scoreboard'!A14,"") -> 5 | B14: Player (5) | C14: =IF('Player Name'!C10<>"",'Player Name'!C10,"") -> John 5 | D14: =IF($C14<>"",'Player Scoreboard'!D14,"") -> 0 | E14: =IF($C14<>"",'Player Scoreboard'!E14,"") -> 0 | F14: =IF($C14<>"",'Player Scoreboard'!F14,"") -> 0 | G14: =IF($C14<>"",'Player Scoreboard'!G14,"") -> 0 | H14: =IF($C14<>"",'Player Scoreboard'!H14,"") -> 0 | I14: =IF($C14<>"",'Player Scoreboard'!I14,"") -> 0 | J14: =HYPERLINK("["&Setup!$C$5&"]'"&B14&"'!D4","Update score") -> Update score | K14: =IF($C14<>"",INDIRECT("'"&$B14&"'!"&"$i"&K$6+14)&" - "&INDIRECT("'"&$B14&"'!"&"$k"&K$6+14),"") -> - | L14: =IF($C14<>"",INDIRECT("'"&$B14&"'!"&"$i"&L$6+14)&" - "&INDIRECT("'"&$B14&"'!"&"$k"&L$6+14),"") -> - | M14: =IF($C14<>"",INDIRECT("'"&$B14&"'!"&"$i"&M$6+14)&" - "&INDIRECT("'"&$B14&"'!"&"$k"&M$6+14),"") -> - | N14: =IF($C14<>"",INDIRECT("'"&$B14&"'!"&"$i"&N$6+14)&" - "&INDIRECT("'"&$B14&"'!"&"$k"&N$6+14),"") -> - | O14: =IF($C14<>"",INDIRECT("'"&$B14&"'!"&"$i"&O$6+14)&" - "&INDIRECT("'"&$B14&"'!"&"$k"&O$6+14),"") -> - | P14: =IF($C14<>"",INDIRECT("'"&$B14&"'!"&"$i"&P$6+14)&" - "&INDIRECT("'"&$B14&"'!"&"$k"&P$6+14),"") -> - | Q14: =IF($C14<>"",INDIRECT("'"&$B14&"'!"&"$i"&Q$6+14)&" - "&INDIRECT("'"&$B14&"'!"&"$k"&Q$6+14),"") -> - | R14: =IF($C14<>"",INDIRECT("'"&$B14&"'!"&"$i"&R$6+14)&" - "&INDIRECT("'"&$B14&"'!"&"$k"&R$6+14),"") -> - | ... BF14: =IF($C14<>"",INDIRECT("'"&$B14&"'!"&"$i"&BF$6+14)&" - "&INDIRECT("'"&$B14&"'!"&"$k"&BF$6+14),"") -> - | BG14: =IF($C14<>"",INDIRECT("'"&$B14&"'!"&"$i"&BG$6+17)&" - "&INDIRECT("'"&$B14&"'!"&"$k"&BG$6+17),"") -> - | BH14: =IF($C14<>"",INDIRECT("'"&$B14&"'!"&"$i"&BH$6+17)&" - "&INDIRECT("'"&$B14&"'!"&"$k"&BH$6+17),"") -> - | BI14: =IF($C14<>"",INDIRECT("'"&$B14&"'!"&"$i"&BI$6+17)&" - "&INDIRECT("'"&$B14&"'!"&"$k"&BI$6+17),"") -> - | BJ14: =IF($C14<>"",INDIRECT("'"&$B14&"'!"&"$i"&BJ$6+17)&" - "&INDIRECT("'"&$B14&"'!"&"$k"&BJ$6+17),"") -> - | BK14: =IF($C14<>"",INDIRECT("'"&$B14&"'!"&"$i"&BK$6+17)&" - "&INDIRECT("'"&$B14&"'!"&"$k"&BK$6+17),"") -> - | BL14: =IF($C14<>"",INDIRECT("'"&$B14&"'!"&"$i"&BL$6+17)&" - "&INDIRECT("'"&$B14&"'!"&"$k"&BL$6+17),"") -> - | BM14: =IF($C14<>"",INDIRECT("'"&$B14&"'!"&"$i"&BM$6+17)&" - "&INDIRECT("'"&$B14&"'!"&"$k"&BM$6+17),"") -> - | BN14: =IF($C14<>"",INDIRECT("'"&$B14&"'!"&"$i"&BN$6+17)&" - "&INDIRECT("'"&$B14&"'!"&"$k"&BN$6+17),"") -> - | ... BV14: =IF($C14<>"",INDIRECT("'"&$B14&"'!"&"$i"&BV$6+17)&" - "&INDIRECT("'"&$B14&"'!"&"$k"&BV$6+17),"") -> -
A15: =IF('Player Scoreboard'!A15<>"",'Player Scoreboard'!A15,"") -> 6 | B15: Player (6) | C15: =IF('Player Name'!C11<>"",'Player Name'!C11,"") -> John 6 | D15: =IF($C15<>"",'Player Scoreboard'!D15,"") -> 0 | E15: =IF($C15<>"",'Player Scoreboard'!E15,"") -> 0 | F15: =IF($C15<>"",'Player Scoreboard'!F15,"") -> 0 | G15: =IF($C15<>"",'Player Scoreboard'!G15,"") -> 0 | H15: =IF($C15<>"",'Player Scoreboard'!H15,"") -> 0 | I15: =IF($C15<>"",'Player Scoreboard'!I15,"") -> 0 | J15: =HYPERLINK("["&Setup!$C$5&"]'"&B15&"'!D4","Update score") -> Update score | K15: =IF($C15<>"",INDIRECT("'"&$B15&"'!"&"$i"&K$6+14)&" - "&INDIRECT("'"&$B15&"'!"&"$k"&K$6+14),"") -> - | L15: =IF($C15<>"",INDIRECT("'"&$B15&"'!"&"$i"&L$6+14)&" - "&INDIRECT("'"&$B15&"'!"&"$k"&L$6+14),"") -> - | M15: =IF($C15<>"",INDIRECT("'"&$B15&"'!"&"$i"&M$6+14)&" - "&INDIRECT("'"&$B15&"'!"&"$k"&M$6+14),"") -> - | N15: =IF($C15<>"",INDIRECT("'"&$B15&"'!"&"$i"&N$6+14)&" - "&INDIRECT("'"&$B15&"'!"&"$k"&N$6+14),"") -> - | O15: =IF($C15<>"",INDIRECT("'"&$B15&"'!"&"$i"&O$6+14)&" - "&INDIRECT("'"&$B15&"'!"&"$k"&O$6+14),"") -> - | P15: =IF($C15<>"",INDIRECT("'"&$B15&"'!"&"$i"&P$6+14)&" - "&INDIRECT("'"&$B15&"'!"&"$k"&P$6+14),"") -> - | Q15: =IF($C15<>"",INDIRECT("'"&$B15&"'!"&"$i"&Q$6+14)&" - "&INDIRECT("'"&$B15&"'!"&"$k"&Q$6+14),"") -> - | R15: =IF($C15<>"",INDIRECT("'"&$B15&"'!"&"$i"&R$6+14)&" - "&INDIRECT("'"&$B15&"'!"&"$k"&R$6+14),"") -> - | ... BF15: =IF($C15<>"",INDIRECT("'"&$B15&"'!"&"$i"&BF$6+14)&" - "&INDIRECT("'"&$B15&"'!"&"$k"&BF$6+14),"") -> - | BG15: =IF($C15<>"",INDIRECT("'"&$B15&"'!"&"$i"&BG$6+17)&" - "&INDIRECT("'"&$B15&"'!"&"$k"&BG$6+17),"") -> - | BH15: =IF($C15<>"",INDIRECT("'"&$B15&"'!"&"$i"&BH$6+17)&" - "&INDIRECT("'"&$B15&"'!"&"$k"&BH$6+17),"") -> - | BI15: =IF($C15<>"",INDIRECT("'"&$B15&"'!"&"$i"&BI$6+17)&" - "&INDIRECT("'"&$B15&"'!"&"$k"&BI$6+17),"") -> - | BJ15: =IF($C15<>"",INDIRECT("'"&$B15&"'!"&"$i"&BJ$6+17)&" - "&INDIRECT("'"&$B15&"'!"&"$k"&BJ$6+17),"") -> - | BK15: =IF($C15<>"",INDIRECT("'"&$B15&"'!"&"$i"&BK$6+17)&" - "&INDIRECT("'"&$B15&"'!"&"$k"&BK$6+17),"") -> - | BL15: =IF($C15<>"",INDIRECT("'"&$B15&"'!"&"$i"&BL$6+17)&" - "&INDIRECT("'"&$B15&"'!"&"$k"&BL$6+17),"") -> - | BM15: =IF($C15<>"",INDIRECT("'"&$B15&"'!"&"$i"&BM$6+17)&" - "&INDIRECT("'"&$B15&"'!"&"$k"&BM$6+17),"") -> - | BN15: =IF($C15<>"",INDIRECT("'"&$B15&"'!"&"$i"&BN$6+17)&" - "&INDIRECT("'"&$B15&"'!"&"$k"&BN$6+17),"") -> - | ... BV15: =IF($C15<>"",INDIRECT("'"&$B15&"'!"&"$i"&BV$6+17)&" - "&INDIRECT("'"&$B15&"'!"&"$k"&BV$6+17),"") -> -
A16: =IF('Player Scoreboard'!A16<>"",'Player Scoreboard'!A16,"") -> 7 | B16: Player (7) | C16: =IF('Player Name'!C12<>"",'Player Name'!C12,"") -> John 7 | D16: =IF($C16<>"",'Player Scoreboard'!D16,"") -> 0 | E16: =IF($C16<>"",'Player Scoreboard'!E16,"") -> 0 | F16: =IF($C16<>"",'Player Scoreboard'!F16,"") -> 0 | G16: =IF($C16<>"",'Player Scoreboard'!G16,"") -> 0 | H16: =IF($C16<>"",'Player Scoreboard'!H16,"") -> 0 | I16: =IF($C16<>"",'Player Scoreboard'!I16,"") -> 0 | J16: =HYPERLINK("["&Setup!$C$5&"]'"&B16&"'!D4","Update score") -> Update score | K16: =IF($C16<>"",INDIRECT("'"&$B16&"'!"&"$i"&K$6+14)&" - "&INDIRECT("'"&$B16&"'!"&"$k"&K$6+14),"") -> - | L16: =IF($C16<>"",INDIRECT("'"&$B16&"'!"&"$i"&L$6+14)&" - "&INDIRECT("'"&$B16&"'!"&"$k"&L$6+14),"") -> - | M16: =IF($C16<>"",INDIRECT("'"&$B16&"'!"&"$i"&M$6+14)&" - "&INDIRECT("'"&$B16&"'!"&"$k"&M$6+14),"") -> - | N16: =IF($C16<>"",INDIRECT("'"&$B16&"'!"&"$i"&N$6+14)&" - "&INDIRECT("'"&$B16&"'!"&"$k"&N$6+14),"") -> - | O16: =IF($C16<>"",INDIRECT("'"&$B16&"'!"&"$i"&O$6+14)&" - "&INDIRECT("'"&$B16&"'!"&"$k"&O$6+14),"") -> - | P16: =IF($C16<>"",INDIRECT("'"&$B16&"'!"&"$i"&P$6+14)&" - "&INDIRECT("'"&$B16&"'!"&"$k"&P$6+14),"") -> - | Q16: =IF($C16<>"",INDIRECT("'"&$B16&"'!"&"$i"&Q$6+14)&" - "&INDIRECT("'"&$B16&"'!"&"$k"&Q$6+14),"") -> - | R16: =IF($C16<>"",INDIRECT("'"&$B16&"'!"&"$i"&R$6+14)&" - "&INDIRECT("'"&$B16&"'!"&"$k"&R$6+14),"") -> - | ... BF16: =IF($C16<>"",INDIRECT("'"&$B16&"'!"&"$i"&BF$6+14)&" - "&INDIRECT("'"&$B16&"'!"&"$k"&BF$6+14),"") -> - | BG16: =IF($C16<>"",INDIRECT("'"&$B16&"'!"&"$i"&BG$6+17)&" - "&INDIRECT("'"&$B16&"'!"&"$k"&BG$6+17),"") -> - | BH16: =IF($C16<>"",INDIRECT("'"&$B16&"'!"&"$i"&BH$6+17)&" - "&INDIRECT("'"&$B16&"'!"&"$k"&BH$6+17),"") -> - | BI16: =IF($C16<>"",INDIRECT("'"&$B16&"'!"&"$i"&BI$6+17)&" - "&INDIRECT("'"&$B16&"'!"&"$k"&BI$6+17),"") -> - | BJ16: =IF($C16<>"",INDIRECT("'"&$B16&"'!"&"$i"&BJ$6+17)&" - "&INDIRECT("'"&$B16&"'!"&"$k"&BJ$6+17),"") -> - | BK16: =IF($C16<>"",INDIRECT("'"&$B16&"'!"&"$i"&BK$6+17)&" - "&INDIRECT("'"&$B16&"'!"&"$k"&BK$6+17),"") -> - | BL16: =IF($C16<>"",INDIRECT("'"&$B16&"'!"&"$i"&BL$6+17)&" - "&INDIRECT("'"&$B16&"'!"&"$k"&BL$6+17),"") -> - | BM16: =IF($C16<>"",INDIRECT("'"&$B16&"'!"&"$i"&BM$6+17)&" - "&INDIRECT("'"&$B16&"'!"&"$k"&BM$6+17),"") -> - | BN16: =IF($C16<>"",INDIRECT("'"&$B16&"'!"&"$i"&BN$6+17)&" - "&INDIRECT("'"&$B16&"'!"&"$k"&BN$6+17),"") -> - | ... BV16: =IF($C16<>"",INDIRECT("'"&$B16&"'!"&"$i"&BV$6+17)&" - "&INDIRECT("'"&$B16&"'!"&"$k"&BV$6+17),"") -> -
A17: =IF('Player Scoreboard'!A17<>"",'Player Scoreboard'!A17,"") -> 8 | B17: Player (8) | C17: =IF('Player Name'!C13<>"",'Player Name'!C13,"") -> John 8 | D17: =IF($C17<>"",'Player Scoreboard'!D17,"") -> 0 | E17: =IF($C17<>"",'Player Scoreboard'!E17,"") -> 0 | F17: =IF($C17<>"",'Player Scoreboard'!F17,"") -> 0 | G17: =IF($C17<>"",'Player Scoreboard'!G17,"") -> 0 | H17: =IF($C17<>"",'Player Scoreboard'!H17,"") -> 0 | I17: =IF($C17<>"",'Player Scoreboard'!I17,"") -> 0 | J17: =HYPERLINK("["&Setup!$C$5&"]'"&B17&"'!D4","Update score") -> Update score | K17: =IF($C17<>"",INDIRECT("'"&$B17&"'!"&"$i"&K$6+14)&" - "&INDIRECT("'"&$B17&"'!"&"$k"&K$6+14),"") -> - | L17: =IF($C17<>"",INDIRECT("'"&$B17&"'!"&"$i"&L$6+14)&" - "&INDIRECT("'"&$B17&"'!"&"$k"&L$6+14),"") -> - | M17: =IF($C17<>"",INDIRECT("'"&$B17&"'!"&"$i"&M$6+14)&" - "&INDIRECT("'"&$B17&"'!"&"$k"&M$6+14),"") -> - | N17: =IF($C17<>"",INDIRECT("'"&$B17&"'!"&"$i"&N$6+14)&" - "&INDIRECT("'"&$B17&"'!"&"$k"&N$6+14),"") -> - | O17: =IF($C17<>"",INDIRECT("'"&$B17&"'!"&"$i"&O$6+14)&" - "&INDIRECT("'"&$B17&"'!"&"$k"&O$6+14),"") -> - | P17: =IF($C17<>"",INDIRECT("'"&$B17&"'!"&"$i"&P$6+14)&" - "&INDIRECT("'"&$B17&"'!"&"$k"&P$6+14),"") -> - | Q17: =IF($C17<>"",INDIRECT("'"&$B17&"'!"&"$i"&Q$6+14)&" - "&INDIRECT("'"&$B17&"'!"&"$k"&Q$6+14),"") -> - | R17: =IF($C17<>"",INDIRECT("'"&$B17&"'!"&"$i"&R$6+14)&" - "&INDIRECT("'"&$B17&"'!"&"$k"&R$6+14),"") -> - | ... BF17: =IF($C17<>"",INDIRECT("'"&$B17&"'!"&"$i"&BF$6+14)&" - "&INDIRECT("'"&$B17&"'!"&"$k"&BF$6+14),"") -> - | BG17: =IF($C17<>"",INDIRECT("'"&$B17&"'!"&"$i"&BG$6+17)&" - "&INDIRECT("'"&$B17&"'!"&"$k"&BG$6+17),"") -> - | BH17: =IF($C17<>"",INDIRECT("'"&$B17&"'!"&"$i"&BH$6+17)&" - "&INDIRECT("'"&$B17&"'!"&"$k"&BH$6+17),"") -> - | BI17: =IF($C17<>"",INDIRECT("'"&$B17&"'!"&"$i"&BI$6+17)&" - "&INDIRECT("'"&$B17&"'!"&"$k"&BI$6+17),"") -> - | BJ17: =IF($C17<>"",INDIRECT("'"&$B17&"'!"&"$i"&BJ$6+17)&" - "&INDIRECT("'"&$B17&"'!"&"$k"&BJ$6+17),"") -> - | BK17: =IF($C17<>"",INDIRECT("'"&$B17&"'!"&"$i"&BK$6+17)&" - "&INDIRECT("'"&$B17&"'!"&"$k"&BK$6+17),"") -> - | BL17: =IF($C17<>"",INDIRECT("'"&$B17&"'!"&"$i"&BL$6+17)&" - "&INDIRECT("'"&$B17&"'!"&"$k"&BL$6+17),"") -> - | BM17: =IF($C17<>"",INDIRECT("'"&$B17&"'!"&"$i"&BM$6+17)&" - "&INDIRECT("'"&$B17&"'!"&"$k"&BM$6+17),"") -> - | BN17: =IF($C17<>"",INDIRECT("'"&$B17&"'!"&"$i"&BN$6+17)&" - "&INDIRECT("'"&$B17&"'!"&"$k"&BN$6+17),"") -> - | ... BV17: =IF($C17<>"",INDIRECT("'"&$B17&"'!"&"$i"&BV$6+17)&" - "&INDIRECT("'"&$B17&"'!"&"$k"&BV$6+17),"") -> -
