Workbook
Name A1A2: 'Dummy Top Scorer'!$B$3:$B$48
Name A1A3: 'Dummy Top Scorer'!$B$51:$B$96
Name A1A4: 'Dummy Top Scorer'!$B$99:$B$144
Name A2A1: 'Dummy Top Scorer'!$C$3:$C$48
Name A2A3: 'Dummy Top Scorer'!$C$51:$C$96
Name A2A4: 'Dummy Top Scorer'!$C$99:$C$144
Name A3A1: 'Dummy Top Scorer'!$D$3:$D$48
Name A3A2: 'Dummy Top Scorer'!$D$51:$D$96
Name A3A4: 'Dummy Top Scorer'!$D$99:$D$144
Name A4A1: 'Dummy Top Scorer'!$E$3:$E$48
Name A4A2: 'Dummy Top Scorer'!$E$51:$E$96
Name A4A3: 'Dummy Top Scorer'!$E$99:$E$144
Name AC1C2: 'Dummy Top Scorer'!$J$3:$J$48
Name AC1C3: 'Dummy Top Scorer'!$J$51:$J$96
Name AC1C4: 'Dummy Top Scorer'!$J$99:$J$144
Name AC2C1: 'Dummy Top Scorer'!$K$3:$K$48
Name AC2C3: 'Dummy Top Scorer'!$K$51:$K$96
Name AC2C4: 'Dummy Top Scorer'!$K$99:$K$144
Name AC3C1: 'Dummy Top Scorer'!$L$3:$L$48
Name AC3C2: 'Dummy Top Scorer'!$L$51:$L$96
Name AC3C4: 'Dummy Top Scorer'!$L$99:$L$144
Name AC4C1: 'Dummy Top Scorer'!$M$3:$M$48
Name AC4C2: 'Dummy Top Scorer'!$M$51:$M$96
Name AC4C3: 'Dummy Top Scorer'!$M$99:$M$144
Name B1B2: 'Dummy Top Scorer'!$F$3:$F$48
Name B1B3: 'Dummy Top Scorer'!$F$51:$F$96
Name B1B4: 'Dummy Top Scorer'!$F$99:$F$144
Name B2B1: 'Dummy Top Scorer'!$G$3:$G$48
Name B2B3: 'Dummy Top Scorer'!$G$51:$G$96
Name B2B4: 'Dummy Top Scorer'!$G$99:$G$144
Name B3B1: 'Dummy Top Scorer'!$H$3:$H$48
Name B3B2: 'Dummy Top Scorer'!$H$51:$H$96
Name B3B4: 'Dummy Top Scorer'!$H$99:$H$144
Name B4B1: 'Dummy Top Scorer'!$I$3:$I$48
Name B4B2: 'Dummy Top Scorer'!$I$51:$I$96
Name B4B3: 'Dummy Top Scorer'!$I$99:$I$144
Name BIGQ11: 'Dummy Top Scorer'!$AZ$3:$AZ$48
Name BIGQ12: 'Dummy Top Scorer'!$BA$3:$BA$48
Name BIGQ21: 'Dummy Top Scorer'!$BB$3:$BB$48
Name BIGQ22: 'Dummy Top Scorer'!$BC$3:$BC$48
Name BIGQ31: 'Dummy Top Scorer'!$BD$3:$BD$48
Name BIGQ32: 'Dummy Top Scorer'!$BE$3:$BE$48
Name BIGQ41: 'Dummy Top Scorer'!$BF$3:$BF$48
Name BIGQ42: 'Dummy Top Scorer'!$BG$3:$BG$48
Name Cities: 'Countries and Timezone'!$J$2:$J$144
Name Countries: Language!$C$1:$AW$1
Name D1D2: 'Dummy Top Scorer'!$N$3:$N$48
Name D1D3: 'Dummy Top Scorer'!$N$51:$N$96
Name D1D4: 'Dummy Top Scorer'!$N$99:$N$144
Name D2D1: 'Dummy Top Scorer'!$O$3:$O$48
Name D2D3: 'Dummy Top Scorer'!$O$51:$O$96
Name D2D4: 'Dummy Top Scorer'!$O$99:$O$144
Name D3D1: 'Dummy Top Scorer'!$P$3:$P$48
Name D3D2: 'Dummy Top Scorer'!$P$51:$P$96
Name D3D4: 'Dummy Top Scorer'!$P$99:$P$144
Name D4D1: 'Dummy Top Scorer'!$Q$3:$Q$48
Name D4D2: 'Dummy Top Scorer'!$Q$51:$Q$96
Name D4D3: 'Dummy Top Scorer'!$Q$99:$Q$144
Name E1E2: 'Dummy Top Scorer'!$R$3:$R$48
Name E1E3: 'Dummy Top Scorer'!$R$51:$R$96

Sheet Group Stages
C2: =INDEX(Language!$A$1:$AX$115,MATCH("Language",Language!$B$1:$B$115,0),MATCH($G$2,Language!$A$1:$AW$1,0)) -> Language | F2: : | G2: English | N2: =INDEX(Language!$A$1:$AX$115,MATCH("Visit exceltemplate.net for more templates and updates",Language!$B$1:$B$115,0),MATCH($G$2,Language!$A$1:$AW$1,0)) -> Visit exceltemplate.net for more templates and updates
CK3: r musadya
C4: =INDEX(Language!$A$1:$AX$115,MATCH("Timezone",Language!$B$1:$B$115,0),MATCH($G$2,Language!$A$1:$AW$1,0)) -> Timezone | F4: : | G4: London
B6: =INDEX(Language!$A$1:$AX$115,MATCH("World Cup 2014 Schedule and Scoresheet",Language!$B$1:$B$115,0),MATCH($G$2,Language!$A$1:$AW$1,0)) -> World Cup 2014 Schedule and Scoresheet
B8: =INDEX(Language!$A$1:$AX$115,MATCH("Group Stages",Language!$B$1:$B$115,0),MATCH($G$2,Language!$A$1:$AW$1,0)) -> Group Stages
C10: =INDEX(Language!$A$1:$AX$115,MATCH("Matches",Language!$B$1:$B$115,0),MATCH($G$2,Language!$A$1:$AW$1,0)) -> Matches
D12: =INDEX(Language!$A$1:$AX$115,MATCH("Group",Language!$B$1:$B$115,0),MATCH($G$2,Language!$A$1:$AW$1,0)) -> Group | E12: =INDEX(Language!$A$1:$AX$115,MATCH("Match #",Language!$B$1:$B$115,0),MATCH($G$2,Language!$A$1:$AW$1,0)) -> Match # | F12: =INDEX(Language!$A$1:$AX$115,MATCH("Date",Language!$B$1:$B$115,0),MATCH($G$2,Language!$A$1:$AW$1,0)) -> Date | G12: =INDEX(Language!$A$1:$AX$115,MATCH("Time",Language!$B$1:$B$115,0),MATCH($G$2,Language!$A$1:$AW$1,0)) -> Time | H12: =INDEX(Language!$A$1:$AX$115,MATCH("Country",Language!$B$1:$B$115,0),MATCH($G$2,Language!$A$1:$AW$1,0)) -> Country | J12: =INDEX(Language!$A$1:$AX$115,MATCH("Score",Language!$B$1:$B$115,0),MATCH($G$2,Language!$A$1:$AW$1,0)) -> Score | L12: 1st | M12: 2nd | N12: 3rd | O12: 4th | P12: 5th | Q12: 6th | R12: 7th | S12: 8th
D14: A | E14: 1 | F14: =G14 -> 41802.875 | G14: ='Countries and Timezone'!R2 -> 41802.875 | H14: =INDEX(Language!$A$1:$AX$115,MATCH('Countries and Timezone'!$AG$7,Language!$B$1:$B$115,0),MATCH($G$2,Language!$A$1:$AW$1,0)) -> Brazil
F15: Sao Paulo | H15: =INDEX(Language!$A$1:$AX$115,MATCH('Countries and Timezone'!$AG$8,Language!$B$1:$B$115,0),MATCH($G$2,Language!$A$1:$AW$1,0)) -> Croatia | X15: musadya
E16: 2 | F16: =G16 -> 41803.708 | G16: ='Countries and Timezone'!R3 -> 41803.708 | H16: =INDEX(Language!$A$1:$AX$115,MATCH('Countries and Timezone'!$AG$9,Language!$B$1:$B$115,0),MATCH($G$2,Language!$A$1:$AW$1,0)) -> Mexico
F17: Natal | H17: =INDEX(Language!$A$1:$AX$115,MATCH('Countries and Timezone'!$AG$10,Language!$B$1:$B$115,0),MATCH($G$2,Language!$A$1:$AW$1,0)) -> Cameroon
D18: B | E18: 3 | F18: =G18 -> 41803.833 | G18: ='Countries and Timezone'!R4 -> 41803.833 | H18: =INDEX(Language!$A$1:$AX$115,MATCH('Countries and Timezone'!$AG$11,Language!$B$1:$B$115,0),MATCH($G$2,Language!$A$1:$AW$1,0)) -> Spain
F19: Salvador | H19: =INDEX(Language!$A$1:$AX$115,MATCH('Countries and Timezone'!$AG$12,Language!$B$1:$B$115,0),MATCH($G$2,Language!$A$1:$AW$1,0)) -> Netherlands
E20: 4 | F20: =G20 -> 41803.958 | G20: ='Countries and Timezone'!R5 -> 41803.958 | H20: =INDEX(Language!$A$1:$AX$115,MATCH('Countries and Timezone'!$AG$13,Language!$B$1:$B$115,0),MATCH($G$2,Language!$A$1:$AW$1,0)) -> Chile
F21: Cuiaba | H21: =INDEX(Language!$A$1:$AX$115,MATCH('Countries and Timezone'!$AG$14,Language!$B$1:$B$115,0),MATCH($G$2,Language!$A$1:$AW$1,0)) -> Australia
D22: C | E22: 5 | F22: =G22 -> 41804.708 | G22: ='Countries and Timezone'!R6 -> 41804.708 | H22: =INDEX(Language!$A$1:$AX$115,MATCH('Countries and Timezone'!$AG$15,Language!$B$1:$B$115,0),MATCH($G$2,Language!$A$1:$AW$1,0)) -> Colombia
F23: Belo Horizonte | H23: =INDEX(Language!$A$1:$AX$115,MATCH('Countries and Timezone'!$AG$16,Language!$B$1:$B$115,0),MATCH($G$2,Language!$A$1:$AW$1,0)) -> Greece
E24: 6 | F24: =G24 -> 41805.083 | G24: ='Countries and Timezone'!R7 -> 41805.083 | H24: =INDEX(Language!$A$1:$AX$115,MATCH('Countries and Timezone'!$AG$17,Language!$B$1:$B$115,0),MATCH($G$2,Language!$A$1:$AW$1,0)) -> Ivory Coast
F25: Recife | H25: =INDEX(Language!$A$1:$AX$115,MATCH('Countries and Timezone'!$AG$18,Language!$B$1:$B$115,0),MATCH($G$2,Language!$A$1:$AW$1,0)) -> Japan
D26: D | E26: 7 | F26: =G26 -> 41804.833 | G26: ='Countries and Timezone'!R8 -> 41804.833 | H26: =INDEX(Language!$A$1:$AX$115,MATCH('Countries and Timezone'!$AG$19,Language!$B$1:$B$115,0),MATCH($G$2,Language!$A$1:$AW$1,0)) -> Uruguay
F27: Fortaleza | H27: =INDEX(Language!$A$1:$AX$115,MATCH('Countries and Timezone'!$AG$20,Language!$B$1:$B$115,0),MATCH($G$2,Language!$A$1:$AW$1,0)) -> Costa Rica
E28: 8 | F28: =G28 -> 41804.958 | G28: ='Countries and Timezone'!R9 -> 41804.958 | H28: =INDEX(Language!$A$1:$AX$115,MATCH('Countries and Timezone'!$AG$21,Language!$B$1:$B$115,0),MATCH($G$2,Language!$A$1:$AW$1,0)) -> England
F29: Manaus | H29: =INDEX(Language!$A$1:$AX$115,MATCH('Countries and Timezone'!$AG$22,Language!$B$1:$B$115,0),MATCH($G$2,Language!$A$1:$AW$1,0)) -> Italy
D30: E | E30: 9 | F30: =G30 -> 41805.708 | G30: ='Countries and Timezone'!R10 -> 41805.708 | H30: =INDEX(Language!$A$1:$AX$115,MATCH('Countries and Timezone'!$AG$23,Language!$B$1:$B$115,0),MATCH($G$2,Language!$A$1:$AW$1,0)) -> Switzerland
F31: Brasilia | H31: =INDEX(Language!$A$1:$AX$115,MATCH('Countries and Timezone'!$AG$24,Language!$B$1:$B$115,0),MATCH($G$2,Language!$A$1:$AW$1,0)) -> Ecuador
E32: 10 | F32: =G32 -> 41805.833 | G32: ='Countries and Timezone'!R11 -> 41805.833 | H32: =INDEX(Language!$A$1:$AX$115,MATCH('Countries and Timezone'!$AG$25,Language!$B$1:$B$115,0),MATCH($G$2,Language!$A$1:$AW$1,0)) -> France
F33: Porto Alegre | H33: =INDEX(Language!$A$1:$AX$115,MATCH('Countries and Timezone'!$AG$26,Language!$B$1:$B$115,0),MATCH($G$2,Language!$A$1:$AW$1,0)) -> Honduras
D34: F | E34: 11 | F34: =G34 -> 41805.958 | G34: ='Countries and Timezone'!R12 -> 41805.958 | H34: =INDEX(Language!$A$1:$AX$115,MATCH('Countries and Timezone'!$AG$27,Language!$B$1:$B$115,0),MATCH($G$2,Language!$A$1:$AW$1,0)) -> Argentina
F35: Rio de Janeiro | H35: =INDEX(Language!$A$1:$AX$115,MATCH('Countries and Timezone'!$AG$28,Language!$B$1:$B$115,0),MATCH($G$2,Language!$A$1:$AW$1,0)) -> Bosnia-Herzegovina
E36: 12 | F36: =G36 -> 41806.833 | G36: ='Countries and Timezone'!R13 -> 41806.833 | H36: =INDEX(Language!$A$1:$AX$115,MATCH('Countries and Timezone'!$AG$29,Language!$B$1:$B$115,0),MATCH($G$2,Language!$A$1:$AW$1,0)) -> Iran
F37: Curitiba | H37: =INDEX(Language!$A$1:$AX$115,MATCH('Countries and Timezone'!$AG$30,Language!$B$1:$B$115,0),MATCH($G$2,Language!$A$1:$AW$1,0)) -> Nigeria
D38: G | E38: 13 | F38: =G38 -> 41806.708 | G38: ='Countries and Timezone'!R14 -> 41806.708 | H38: =INDEX(Language!$A$1:$AX$115,MATCH('Countries and Timezone'!$AG$31,Language!$B$1:$B$115,0),MATCH($G$2,Language!$A$1:$AW$1,0)) -> Germany
F39: Salvador | H39: =INDEX(Language!$A$1:$AX$115,MATCH('Countries and Timezone'!$AG$32,Language!$B$1:$B$115,0),MATCH($G$2,Language!$A$1:$AW$1,0)) -> Portugal
E40: 14 | F40: =G40 -> 41806.958 | G40: ='Countries and Timezone'!R15 -> 41806.958 | H40: =INDEX(Language!$A$1:$AX$115,MATCH('Countries and Timezone'!$AG$33,Language!$B$1:$B$115,0),MATCH($G$2,Language!$A$1:$AW$1,0)) -> Ghana
F41: Natal | H41: =INDEX(Language!$A$1:$AX$115,MATCH('Countries and Timezone'!$AG$34,Language!$B$1:$B$115,0),MATCH($G$2,Language!$A$1:$AW$1,0)) -> USA
D42: H | E42: 15 | F42: =G42 -> 41807.708 | G42: ='Countries and Timezone'!R16 -> 41807.708 | H42: =INDEX(Language!$A$1:$AX$115,MATCH('Countries and Timezone'!$AG$35,Language!$B$1:$B$115,0),MATCH($G$2,Language!$A$1:$AW$1,0)) -> Belgium
F43: Belo Horizonte | H43: =INDEX(Language!$A$1:$AX$115,MATCH('Countries and Timezone'!$AG$36,Language!$B$1:$B$115,0),MATCH($G$2,Language!$A$1:$AW$1,0)) -> Algeria
E44: 16 | F44: =G44 -> 41807.958 | G44: ='Countries and Timezone'!R17 -> 41807.958 | H44: =INDEX(Language!$A$1:$AX$115,MATCH('Countries and Timezone'!$AG$37,Language!$B$1:$B$115,0),MATCH($G$2,Language!$A$1:$AW$1,0)) -> Russia
F45: Cuiaba | H45: =INDEX(Language!$A$1:$AX$115,MATCH('Countries and Timezone'!$AG$38,Language!$B$1:$B$115,0),MATCH($G$2,Language!$A$1:$AW$1,0)) -> South Korea
D46: A | E46: 17 | F46: =G46 -> 41807.833 | G46: ='Countries and Timezone'!R18 -> 41807.833 | H46: =H14 -> Brazil
...

Sheet Knock Out Stages
B2: =INDEX(Language!$A$1:$AX$115,MATCH("Visit exceltemplate.net for more templates and updates",Language!$B$1:$B$115,0),MATCH($B$5,Language!$A$1:$AW$1,0)) -> Visit exceltemplate.net for more templates and updates
CK3: r musadya
B5: ='Group Stages'!G2 -> English | C5: ='Group Stages'!G4 -> London
B6: =IFERROR(INDEX(Language!$A$1:$AX$115,MATCH("Knock Out Stages",Language!$B$1:$B$115,0),MATCH($B$5,Language!$A$1:$AW$1,0)),"Knock Out Stages") -> Knock Out Stages
C8: =INDEX(Language!$A$1:$AX$115,MATCH("Standings",Language!$B$1:$B$115,0),MATCH($B$5,Language!$A$1:$AW$1,0)) -> Standings
R10: Top Scorer : | W10: =IF(AND(R12="",J83<>"",J84<>""),"Reorder Rank","") | Y10: Rank
R11: ='Dummy Top Scorer'!DB4 | S11: =IF(W11="",IF('Dummy Top Scorer'!DC4<>"",'Dummy Top Scorer'!DC4&" ("&'Dummy Top Scorer'!DD4&")",""),VLOOKUP(Y11,$W$11:$X$20,2,FALSE)) | X11: =IF(W10<>"",IF('Dummy Top Scorer'!DC4<>"",'Dummy Top Scorer'!DC4&" ("&'Dummy Top Scorer'!DD4&")",""),"") | Y11: 1
R12: =IF('Dummy Top Scorer'!DB5='Dummy Top Scorer'!DB4,"",'Dummy Top Scorer'!DB5) | S12: =IF(W12="",IF('Dummy Top Scorer'!DC5<>"",'Dummy Top Scorer'!DC5&" ("&'Dummy Top Scorer'!DD5&")",""),VLOOKUP(Y12,$W$11:$X$20,2,FALSE)) | X12: =IF(W10<>"",IF('Dummy Top Scorer'!DC5<>"",'Dummy Top Scorer'!DC5&" ("&'Dummy Top Scorer'!DD5&")",""),"") | Y12: 2
R13: =IF('Dummy Top Scorer'!DB6='Dummy Top Scorer'!DB5,"",'Dummy Top Scorer'!DB6) | S13: =IF(W13="",IF('Dummy Top Scorer'!DC6<>"",'Dummy Top Scorer'!DC6&" ("&'Dummy Top Scorer'!DD6&")",""),VLOOKUP(Y13,$W$11:$X$20,2,FALSE)) | X13: =IF(AND($W$10<>"",'Dummy Top Scorer'!DB6='Dummy Top Scorer'!$DB$4),IF('Dummy Top Scorer'!DC6<>"",'Dummy Top Scorer'!DC6&" ("&'Dummy Top Scorer'!DD6&")",""),"") | Y13: 3
R14: =IF('Dummy Top Scorer'!DB7='Dummy Top Scorer'!DB6,"",'Dummy Top Scorer'!DB7) | S14: =IF(W14="",IF('Dummy Top Scorer'!DC7<>"",'Dummy Top Scorer'!DC7&" ("&'Dummy Top Scorer'!DD7&")",""),VLOOKUP(Y14,$W$11:$X$20,2,FALSE)) | X14: =IF(AND($W$10<>"",'Dummy Top Scorer'!DB7='Dummy Top Scorer'!$DB$4),IF('Dummy Top Scorer'!DC7<>"",'Dummy Top Scorer'!DC7&" ("&'Dummy Top Scorer'!DD7&")",""),"") | Y14: 4
R15: =IF('Dummy Top Scorer'!DB8='Dummy Top Scorer'!DB7,"",'Dummy Top Scorer'!DB8) | S15: =IF(W15="",IF('Dummy Top Scorer'!DC8<>"",'Dummy Top Scorer'!DC8&" ("&'Dummy Top Scorer'!DD8&")",""),VLOOKUP(Y15,$W$11:$X$20,2,FALSE)) | X15: =IF(AND($W$10<>"",'Dummy Top Scorer'!DB8='Dummy Top Scorer'!$DB$4),IF('Dummy Top Scorer'!DC8<>"",'Dummy Top Scorer'!DC8&" ("&'Dummy Top Scorer'!DD8&")",""),"") | Y15: 5
R16: =IF('Dummy Top Scorer'!DB9='Dummy Top Scorer'!DB8,"",'Dummy Top Scorer'!DB9) | S16: =IF(W16="",IF('Dummy Top Scorer'!DC9<>"",'Dummy Top Scorer'!DC9&" ("&'Dummy Top Scorer'!DD9&")",""),VLOOKUP(Y16,$W$11:$X$20,2,FALSE)) | X16: =IF(AND($W$10<>"",'Dummy Top Scorer'!DB9='Dummy Top Scorer'!$DB$4),IF('Dummy Top Scorer'!DC9<>"",'Dummy Top Scorer'!DC9&" ("&'Dummy Top Scorer'!DD9&")",""),"") | Y16: 6
R17: =IF('Dummy Top Scorer'!DB10='Dummy Top Scorer'!DB9,"",'Dummy Top Scorer'!DB10) | S17: =IF(W17="",IF('Dummy Top Scorer'!DC10<>"",'Dummy Top Scorer'!DC10&" ("&'Dummy Top Scorer'!DD10&")",""),VLOOKUP(Y17,$W$11:$X$20,2,FALSE)) | X17: =IF(AND($W$10<>"",'Dummy Top Scorer'!DB10='Dummy Top Scorer'!$DB$4),IF('Dummy Top Scorer'!DC10<>"",'Dummy Top Scorer'!DC10&" ("&'Dummy Top Scorer'!DD10&")",""),"") | Y17: 7
R18: =IF('Dummy Top Scorer'!DB11='Dummy Top Scorer'!DB10,"",'Dummy Top Scorer'!DB11) | S18: =IF(W18="",IF('Dummy Top Scorer'!DC11<>"",'Dummy Top Scorer'!DC11&" ("&'Dummy Top Scorer'!DD11&")",""),VLOOKUP(Y18,$W$11:$X$20,2,FALSE)) | X18: =IF(AND($W$10<>"",'Dummy Top Scorer'!DB11='Dummy Top Scorer'!$DB$4),IF('Dummy Top Scorer'!DC11<>"",'Dummy Top Scorer'!DC11&" ("&'Dummy Top Scorer'!DD11&")",""),"") | Y18: 8
R19: =IF('Dummy Top Scorer'!DB12='Dummy Top Scorer'!DB11,"",'Dummy Top Scorer'!DB12) | S19: =IF(W19="",IF('Dummy Top Scorer'!DC12<>"",'Dummy Top Scorer'!DC12&" ("&'Dummy Top Scorer'!DD12&")",""),VLOOKUP(Y19,$W$11:$X$20,2,FALSE)) | X19: =IF(AND($W$10<>"",'Dummy Top Scorer'!DB12='Dummy Top Scorer'!$DB$4),IF('Dummy Top Scorer'!DC12<>"",'Dummy Top Scorer'!DC12&" ("&'Dummy Top Scorer'!DD12&")",""),"") | Y19: 9
R20: =IF('Dummy Top Scorer'!DB13='Dummy Top Scorer'!DB12,"",'Dummy Top Scorer'!DB13) | S20: =IF(W20="",IF('Dummy Top Scorer'!DC13<>"",'Dummy Top Scorer'!DC13&" ("&'Dummy Top Scorer'!DD13&")",""),VLOOKUP(Y20,$W$11:$X$20,2,FALSE)) | X20: =IF(AND($W$10<>"",'Dummy Top Scorer'!DB13='Dummy Top Scorer'!$DB$4),IF('Dummy Top Scorer'!DC13<>"",'Dummy Top Scorer'!DC13&" ("&'Dummy Top Scorer'!DD13&")",""),"") | Y20: 10
R21: =IF('Dummy Top Scorer'!DB14='Dummy Top Scorer'!DB13,"",'Dummy Top Scorer'!DB14) | S21: =IF('Dummy Top Scorer'!DC14<>"",'Dummy Top Scorer'!DC14&" ("&'Dummy Top Scorer'!DD14&")","")
R22: =IF('Dummy Top Scorer'!DB15='Dummy Top Scorer'!DB14,"",'Dummy Top Scorer'!DB15) | S22: =IF('Dummy Top Scorer'!DC15<>"",'Dummy Top Scorer'!DC15&" ("&'Dummy Top Scorer'!DD15&")","")
R23: =IF('Dummy Top Scorer'!DB16='Dummy Top Scorer'!DB15,"",'Dummy Top Scorer'!DB16) | S23: =IF('Dummy Top Scorer'!DC16<>"",'Dummy Top Scorer'!DC16&" ("&'Dummy Top Scorer'!DD16&")","")
R24: =IF('Dummy Top Scorer'!DB17='Dummy Top Scorer'!DB16,"",'Dummy Top Scorer'!DB17) | S24: =IF('Dummy Top Scorer'!DC17<>"",'Dummy Top Scorer'!DC17&" ("&'Dummy Top Scorer'!DD17&")","")
R25: =IF('Dummy Top Scorer'!DB18='Dummy Top Scorer'!DB17,"",'Dummy Top Scorer'!DB18) | S25: =IF('Dummy Top Scorer'!DC18<>"",'Dummy Top Scorer'!DC18&" ("&'Dummy Top Scorer'!DD18&")","")
R26: =IF('Dummy Top Scorer'!DB19='Dummy Top Scorer'!DB18,"",'Dummy Top Scorer'!DB19) | S26: =IF('Dummy Top Scorer'!DC19<>"",'Dummy Top Scorer'!DC19&" ("&'Dummy Top Scorer'!DD19&")","")
R27: =IF('Dummy Top Scorer'!DB20='Dummy Top Scorer'!DB19,"",'Dummy Top Scorer'!DB20) | S27: =IF('Dummy Top Scorer'!DC20<>"",'Dummy Top Scorer'!DC20&" ("&'Dummy Top Scorer'!DD20&")","")
R28: =IF('Dummy Top Scorer'!DB21='Dummy Top Scorer'!DB20,"",'Dummy Top Scorer'!DB21) | S28: =IF('Dummy Top Scorer'!DC21<>"",'Dummy Top Scorer'!DC21&" ("&'Dummy Top Scorer'!DD21&")","")
R29: =IF('Dummy Top Scorer'!DB22='Dummy Top Scorer'!DB21,"",'Dummy Top Scorer'!DB22) | S29: =IF('Dummy Top Scorer'!DC22<>"",'Dummy Top Scorer'!DC22&" ("&'Dummy Top Scorer'!DD22&")","")
R30: =IF('Dummy Top Scorer'!DB23='Dummy Top Scorer'!DB22,"",'Dummy Top Scorer'!DB23) | S30: =IF('Dummy Top Scorer'!DC23<>"",'Dummy Top Scorer'!DC23&" ("&'Dummy Top Scorer'!DD23&")","")
R31: =IF('Dummy Top Scorer'!DB24='Dummy Top Scorer'!DB23,"",'Dummy Top Scorer'!DB24) | S31: =IF('Dummy Top Scorer'!DC24<>"",'Dummy Top Scorer'!DC24&" ("&'Dummy Top Scorer'!DD24&")","")
R32: =IF('Dummy Top Scorer'!DB25='Dummy Top Scorer'!DB24,"",'Dummy Top Scorer'!DB25) | S32: =IF('Dummy Top Scorer'!DC25<>"",'Dummy Top Scorer'!DC25&" ("&'Dummy Top Scorer'!DD25&")","")
... R37: =IF('Dummy Top Scorer'!DB30='Dummy Top Scorer'!DB29,"",'Dummy Top Scorer'!DB30) | S37: =IF('Dummy Top Scorer'!DC30<>"",'Dummy Top Scorer'!DC30&" ("&'Dummy Top Scorer'!DD30&")","")
C39: =INDEX(Language!$A$1:$AX$115,MATCH("Round of 16",Language!$B$1:$B$115,0),MATCH($B$5,Language!$A$1:$AW$1,0)) -> Round of 16
D40: musadya | J40: FT | K40: ET | L40: PK
D41: 49 | F41: =G41 -> 41818.708 | G41: ='Countries and Timezone'!R50 -> 41818.708 | H41: =Tournament!H67 -> Group A Winner
F42: Belo Horizonte | H42: =Tournament!N67 -> Group B Runner Up
D43: 50 | F43: =G43 -> 41818.875 | G43: ='Countries and Timezone'!R51 -> 41818.875 | H43: =Tournament!H73 -> Group C Winner
F44: Rio de Janeiro | H44: =Tournament!N73 -> Group D Runner Up
D45: 51 | F45: =G45 -> 41819.708 | G45: ='Countries and Timezone'!R52 -> 41819.708 | H45: =Tournament!H79 -> Group B Winner
F46: Fortaleza | H46: =Tournament!N79 -> Group A Runner Up
D47: 52 | F47: =G47 -> 41819.875 | G47: ='Countries and Timezone'!R53 -> 41819.875 | H47: =Tournament!H85 -> Group D Winner
F48: Recife | H48: =Tournament!N85 -> Group C Runner Up
D49: 53 | F49: =G49 -> 41820.708 | G49: ='Countries and Timezone'!R54 -> 41820.708 | H49: =Tournament!H91 -> Group E Winner
...

Sheet Tournament
C2: =INDEX(Language!$A$1:$AX$115,MATCH("Language",Language!$B$1:$B$115,0),MATCH($G$2,Language!$A$1:$AW$1,0)) -> Language | F2: : | G2: ='Group Stages'!G2:K2 -> English
DC3: r musadya
C4: =INDEX(Language!$A$1:$AX$115,MATCH("Timezone",Language!$B$1:$B$115,0),MATCH($G$2,Language!$A$1:$AW$1,0)) -> Timezone | F4: : | G4: ='Group Stages'!G4:K4 -> London
R10: =INDEX(Language!$A$1:$AX$115,MATCH("Standings",Language!$B$1:$B$115,0),MATCH(Tournament!$G$2,Language!$A$1:$AW$1,0)) -> Standings
S12: =INDEX(Language!$A$1:$AX$115,MATCH("Group A",Language!$B$1:$B$115,0),MATCH(Tournament!$G$2,Language!$A$1:$AW$1,0)) -> Group A | V12: P | W12: W | X12: D | Y12: L | AA12: F - A | AC12: Pt | AF12: A | AJ12: Country | AK12: Draw Result
S13: 1 | T13: =VLOOKUP(1,'Dummy Table'!O4:P7,2,FALSE) -> Brazil | V13: =SUM(W13:Y13) -> 0 | W13: =SUMIF('Dummy Table'!B$4:B$7,Tournament!T13,'Dummy Table'!C$4:C$7) -> 0 | X13: =SUMIF('Dummy Table'!B$4:B$7,Tournament!T13,'Dummy Table'!D$4:D$7) -> 0 | Y13: =SUMIF('Dummy Table'!B$4:B$7,Tournament!T13,'Dummy Table'!E$4:E$7) -> 0 | AA13: =CONCATENATE(SUMIF('Dummy Table'!B$4:B$7,Tournament!T13,'Dummy Table'!F$4:F$7)," - ",SUMIF('Dummy Table'!B$4:B$7,Tournament!T13,'Dummy Table'!G$4:G$7)) -> 0 - 0 | AC13: =SUMIF('Dummy Table'!B$4:B$7,Tournament!T13,'Dummy Table'!I$4:I$7) -> 0 | AJ13: =IF(SUM('Dummy Table'!AM$4:AM$7)>0,IF(ISNA(VLOOKUP(1,'Dummy Table'!AM$4:AN$7,2,FALSE)),"",VLOOKUP(1,'Dummy Table'!AM$4:AN$7,2,FALSE)),"") -> Brazil
D14: 1 | E14: A | F14: =G14 -> 41802.875 | G14: ='Countries and Timezone'!R2 -> 41802.875 | H14: =INDEX(Language!$A$1:$AX$115,MATCH('Countries and Timezone'!$AG$7,Language!$B$1:$B$115,0),MATCH($G$2,Language!$A$1:$AW$1,0)) -> Brazil | J14: =IF(OFFSET('Group Stages'!$J$13,2*$D14-1,0)<>"",OFFSET('Group Stages'!$J$13,2*$D14-1,0),"") | K14: - | L14: =IF(OFFSET('Group Stages'!$J$13,2*$D14,0)<>"",OFFSET('Group Stages'!$J$13,2*$D14,0),"") | N14: =INDEX(Language!$A$1:$AX$115,MATCH('Countries and Timezone'!$AG$8,Language!$B$1:$B$115,0),MATCH($G$2,Language!$A$1:$AW$1,0)) -> Croatia | S14: 2 | T14: =VLOOKUP(2,'Dummy Table'!O4:P7,2,FALSE) -> Croatia | V14: =SUM(W14:Y14) -> 0 | W14: =SUMIF('Dummy Table'!B$4:B$7,Tournament!T14,'Dummy Table'!C$4:C$7) -> 0 | X14: =SUMIF('Dummy Table'!B$4:B$7,Tournament!T14,'Dummy Table'!D$4:D$7) -> 0 | Y14: =SUMIF('Dummy Table'!B$4:B$7,Tournament!T14,'Dummy Table'!E$4:E$7) -> 0 | AA14: =CONCATENATE(SUMIF('Dummy Table'!B$4:B$7,Tournament!T14,'Dummy Table'!F$4:F$7)," - ",SUMIF('Dummy Table'!B$4:B$7,Tournament!T14,'Dummy Table'!G$4:G$7)) -> 0 - 0 | AC14: =SUMIF('Dummy Table'!B$4:B$7,Tournament!T14,'Dummy Table'!I$4:I$7) -> 0 | AJ14: =IF(SUM('Dummy Table'!AM$4:AM$7)>0,IF(ISNA(VLOOKUP(2,'Dummy Table'!AM$4:AN$7,2,FALSE)),"",VLOOKUP(2,'Dummy Table'!AM$4:AN$7,2,FALSE)),"") -> Croatia
D15: 2 | E15: A | F15: =G15 -> 41803.708 | G15: ='Countries and Timezone'!R3 -> 41803.708 | H15: =INDEX(Language!$A$1:$AX$115,MATCH('Countries and Timezone'!$AG$9,Language!$B$1:$B$115,0),MATCH($G$2,Language!$A$1:$AW$1,0)) -> Mexico | J15: =IF(OFFSET('Group Stages'!$J$13,2*$D15-1,0)<>"",OFFSET('Group Stages'!$J$13,2*$D15-1,0),"") | K15: - | L15: =IF(OFFSET('Group Stages'!$J$13,2*$D15,0)<>"",OFFSET('Group Stages'!$J$13,2*$D15,0),"") | N15: =INDEX(Language!$A$1:$AX$115,MATCH('Countries and Timezone'!$AG$10,Language!$B$1:$B$115,0),MATCH($G$2,Language!$A$1:$AW$1,0)) -> Cameroon | S15: 3 | T15: =VLOOKUP(3,'Dummy Table'!O4:P7,2,FALSE) -> Mexico | V15: =SUM(W15:Y15) -> 0 | W15: =SUMIF('Dummy Table'!B$4:B$7,Tournament!T15,'Dummy Table'!C$4:C$7) -> 0 | X15: =SUMIF('Dummy Table'!B$4:B$7,Tournament!T15,'Dummy Table'!D$4:D$7) -> 0 | Y15: =SUMIF('Dummy Table'!B$4:B$7,Tournament!T15,'Dummy Table'!E$4:E$7) -> 0 | AA15: =CONCATENATE(SUMIF('Dummy Table'!B$4:B$7,Tournament!T15,'Dummy Table'!F$4:F$7)," - ",SUMIF('Dummy Table'!B$4:B$7,Tournament!T15,'Dummy Table'!G$4:G$7)) -> 0 - 0 | AC15: =SUMIF('Dummy Table'!B$4:B$7,Tournament!T15,'Dummy Table'!I$4:I$7) -> 0 | AJ15: =IF(SUM('Dummy Table'!AM$4:AM$7)>0,IF(ISNA(VLOOKUP(3,'Dummy Table'!AM$4:AN$7,2,FALSE)),"",VLOOKUP(3,'Dummy Table'!AM$4:AN$7,2,FALSE)),"") -> Mexico
D16: 3 | E16: B | F16: =G16 -> 41803.833 | G16: ='Countries and Timezone'!R4 -> 41803.833 | H16: =INDEX(Language!$A$1:$AX$115,MATCH('Countries and Timezone'!$AG$11,Language!$B$1:$B$115,0),MATCH($G$2,Language!$A$1:$AW$1,0)) -> Spain | J16: =IF(OFFSET('Group Stages'!$J$13,2*$D16-1,0)<>"",OFFSET('Group Stages'!$J$13,2*$D16-1,0),"") | K16: - | L16: =IF(OFFSET('Group Stages'!$J$13,2*$D16,0)<>"",OFFSET('Group Stages'!$J$13,2*$D16,0),"") | N16: =INDEX(Language!$A$1:$AX$115,MATCH('Countries and Timezone'!$AG$12,Language!$B$1:$B$115,0),MATCH($G$2,Language!$A$1:$AW$1,0)) -> Netherlands | S16: 4 | T16: =VLOOKUP(4,'Dummy Table'!O4:P7,2,FALSE) -> Cameroon | V16: =SUM(W16:Y16) -> 0 | W16: =SUMIF('Dummy Table'!B$4:B$7,Tournament!T16,'Dummy Table'!C$4:C$7) -> 0 | X16: =SUMIF('Dummy Table'!B$4:B$7,Tournament!T16,'Dummy Table'!D$4:D$7) -> 0 | Y16: =SUMIF('Dummy Table'!B$4:B$7,Tournament!T16,'Dummy Table'!E$4:E$7) -> 0 | AA16: =CONCATENATE(SUMIF('Dummy Table'!B$4:B$7,Tournament!T16,'Dummy Table'!F$4:F$7)," - ",SUMIF('Dummy Table'!B$4:B$7,Tournament!T16,'Dummy Table'!G$4:G$7)) -> 0 - 0 | AC16: =SUMIF('Dummy Table'!B$4:B$7,Tournament!T16,'Dummy Table'!I$4:I$7) -> 0 | AJ16: =IF(SUM('Dummy Table'!AM$4:AM$7)>0,IF(ISNA(VLOOKUP(4,'Dummy Table'!AM$4:AN$7,2,FALSE)),"",VLOOKUP(4,'Dummy Table'!AM$4:AN$7,2,FALSE)),"") -> Cameroon
D17: 4 | E17: B | F17: =G17 -> 41803.958 | G17: ='Countries and Timezone'!R5 -> 41803.958 | H17: =INDEX(Language!$A$1:$AX$115,MATCH('Countries and Timezone'!$AG$13,Language!$B$1:$B$115,0),MATCH($G$2,Language!$A$1:$AW$1,0)) -> Chile | J17: =IF(OFFSET('Group Stages'!$J$13,2*$D17-1,0)<>"",OFFSET('Group Stages'!$J$13,2*$D17-1,0),"") | K17: - | L17: =IF(OFFSET('Group Stages'!$J$13,2*$D17,0)<>"",OFFSET('Group Stages'!$J$13,2*$D17,0),"") | N17: =INDEX(Language!$A$1:$AX$115,MATCH('Countries and Timezone'!$AG$14,Language!$B$1:$B$115,0),MATCH($G$2,Language!$A$1:$AW$1,0)) -> Australia
D18: 5 | E18: C | F18: =G18 -> 41804.708 | G18: ='Countries and Timezone'!R6 -> 41804.708 | H18: =INDEX(Language!$A$1:$AX$115,MATCH('Countries and Timezone'!$AG$15,Language!$B$1:$B$115,0),MATCH($G$2,Language!$A$1:$AW$1,0)) -> Colombia | J18: =IF(OFFSET('Group Stages'!$J$13,2*$D18-1,0)<>"",OFFSET('Group Stages'!$J$13,2*$D18-1,0),"") | K18: - | L18: =IF(OFFSET('Group Stages'!$J$13,2*$D18,0)<>"",OFFSET('Group Stages'!$J$13,2*$D18,0),"") | N18: =INDEX(Language!$A$1:$AX$115,MATCH('Countries and Timezone'!$AG$16,Language!$B$1:$B$115,0),MATCH($G$2,Language!$A$1:$AW$1,0)) -> Greece | S18: =INDEX(Language!$A$1:$AX$115,MATCH("Group B",Language!$B$1:$B$115,0),MATCH(Tournament!$G$2,Language!$A$1:$AW$1,0)) -> Group B | V18: P | W18: W | X18: D | Y18: L | AA18: F - A | AC18: Pt | AF18: B | AJ18: Country | AK18: Draw Result
D19: 6 | E19: C | F19: =G19 -> 41805.083 | G19: ='Countries and Timezone'!R7 -> 41805.083 | H19: =INDEX(Language!$A$1:$AX$115,MATCH('Countries and Timezone'!$AG$17,Language!$B$1:$B$115,0),MATCH($G$2,Language!$A$1:$AW$1,0)) -> Ivory Coast | J19: =IF(OFFSET('Group Stages'!$J$13,2*$D19-1,0)<>"",OFFSET('Group Stages'!$J$13,2*$D19-1,0),"") | K19: - | L19: =IF(OFFSET('Group Stages'!$J$13,2*$D19,0)<>"",OFFSET('Group Stages'!$J$13,2*$D19,0),"") | N19: =INDEX(Language!$A$1:$AX$115,MATCH('Countries and Timezone'!$AG$18,Language!$B$1:$B$115,0),MATCH($G$2,Language!$A$1:$AW$1,0)) -> Japan | S19: 1 | T19: =VLOOKUP(1,'Dummy Table'!O11:P14,2,FALSE) -> Spain | V19: =SUM(W19:Y19) -> 0 | W19: =SUMIF('Dummy Table'!B$11:B$14,Tournament!T19,'Dummy Table'!C$11:C$14) -> 0 | X19: =SUMIF('Dummy Table'!B$11:B$14,Tournament!T19,'Dummy Table'!D$11:D$14) -> 0 | Y19: =SUMIF('Dummy Table'!B$11:B$14,Tournament!T19,'Dummy Table'!E$11:E$14) -> 0 | AA19: =CONCATENATE(SUMIF('Dummy Table'!B$11:B$14,Tournament!T19,'Dummy Table'!F$11:F$14)," - ",SUMIF('Dummy Table'!B$11:B$14,Tournament!T19,'Dummy Table'!G$11:G$14)) -> 0 - 0 | AC19: =SUMIF('Dummy Table'!B$11:B$14,Tournament!T19,'Dummy Table'!I$11:I$14) -> 0 | AJ19: =IF(SUM('Dummy Table'!AM$11:AM$14)>0,IF(ISNA(VLOOKUP(1,'Dummy Table'!AM$11:AN$14,2,FALSE)),"",VLOOKUP(1,'Dummy Table'!AM$11:AN$14,2,FALSE)),"") -> Spain
D20: 7 | E20: D | F20: =G20 -> 41804.833 | G20: ='Countries and Timezone'!R8 -> 41804.833 | H20: =INDEX(Language!$A$1:$AX$115,MATCH('Countries and Timezone'!$AG$19,Language!$B$1:$B$115,0),MATCH($G$2,Language!$A$1:$AW$1,0)) -> Uruguay | J20: =IF(OFFSET('Group Stages'!$J$13,2*$D20-1,0)<>"",OFFSET('Group Stages'!$J$13,2*$D20-1,0),"") | K20: - | L20: =IF(OFFSET('Group Stages'!$J$13,2*$D20,0)<>"",OFFSET('Group Stages'!$J$13,2*$D20,0),"") | N20: =INDEX(Language!$A$1:$AX$115,MATCH('Countries and Timezone'!$AG$20,Language!$B$1:$B$115,0),MATCH($G$2,Language!$A$1:$AW$1,0)) -> Costa Rica | S20: 2 | T20: =VLOOKUP(2,'Dummy Table'!O11:P14,2,FALSE) -> Netherlands | V20: =SUM(W20:Y20) -> 0 | W20: =SUMIF('Dummy Table'!B$11:B$14,Tournament!T20,'Dummy Table'!C$11:C$14) -> 0 | X20: =SUMIF('Dummy Table'!B$11:B$14,Tournament!T20,'Dummy Table'!D$11:D$14) -> 0 | Y20: =SUMIF('Dummy Table'!B$11:B$14,Tournament!T20,'Dummy Table'!E$11:E$14) -> 0 | AA20: =CONCATENATE(SUMIF('Dummy Table'!B$11:B$14,Tournament!T20,'Dummy Table'!F$11:F$14)," - ",SUMIF('Dummy Table'!B$11:B$14,Tournament!T20,'Dummy Table'!G$11:G$14)) -> 0 - 0 | AC20: =SUMIF('Dummy Table'!B$11:B$14,Tournament!T20,'Dummy Table'!I$11:I$14) -> 0 | AJ20: =IF(SUM('Dummy Table'!AM$11:AM$14)>0,IF(ISNA(VLOOKUP(2,'Dummy Table'!AM$11:AN$14,2,FALSE)),"",VLOOKUP(2,'Dummy Table'!AM$11:AN$14,2,FALSE)),"") -> Netherlands
D21: 8 | E21: D | F21: =G21 -> 41804.958 | G21: ='Countries and Timezone'!R9 -> 41804.958 | H21: =INDEX(Language!$A$1:$AX$115,MATCH('Countries and Timezone'!$AG$21,Language!$B$1:$B$115,0),MATCH($G$2,Language!$A$1:$AW$1,0)) -> England | J21: =IF(OFFSET('Group Stages'!$J$13,2*$D21-1,0)<>"",OFFSET('Group Stages'!$J$13,2*$D21-1,0),"") | K21: - | L21: =IF(OFFSET('Group Stages'!$J$13,2*$D21,0)<>"",OFFSET('Group Stages'!$J$13,2*$D21,0),"") | N21: =INDEX(Language!$A$1:$AX$115,MATCH('Countries and Timezone'!$AG$22,Language!$B$1:$B$115,0),MATCH($G$2,Language!$A$1:$AW$1,0)) -> Italy | S21: 3 | T21: =VLOOKUP(3,'Dummy Table'!O11:P14,2,FALSE) -> Chile | V21: =SUM(W21:Y21) -> 0 | W21: =SUMIF('Dummy Table'!B$11:B$14,Tournament!T21,'Dummy Table'!C$11:C$14) -> 0 | X21: =SUMIF('Dummy Table'!B$11:B$14,Tournament!T21,'Dummy Table'!D$11:D$14) -> 0 | Y21: =SUMIF('Dummy Table'!B$11:B$14,Tournament!T21,'Dummy Table'!E$11:E$14) -> 0 | AA21: =CONCATENATE(SUMIF('Dummy Table'!B$11:B$14,Tournament!T21,'Dummy Table'!F$11:F$14)," - ",SUMIF('Dummy Table'!B$11:B$14,Tournament!T21,'Dummy Table'!G$11:G$14)) -> 0 - 0 | AC21: =SUMIF('Dummy Table'!B$11:B$14,Tournament!T21,'Dummy Table'!I$11:I$14) -> 0 | AJ21: =IF(SUM('Dummy Table'!AM$11:AM$14)>0,IF(ISNA(VLOOKUP(3,'Dummy Table'!AM$11:AN$14,2,FALSE)),"",VLOOKUP(3,'Dummy Table'!AM$11:AN$14,2,FALSE)),"") -> Chile
D22: 9 | E22: E | F22: =G22 -> 41805.708 | G22: ='Countries and Timezone'!R10 -> 41805.708 | H22: =INDEX(Language!$A$1:$AX$115,MATCH('Countries and Timezone'!$AG$23,Language!$B$1:$B$115,0),MATCH($G$2,Language!$A$1:$AW$1,0)) -> Switzerland | J22: =IF(OFFSET('Group Stages'!$J$13,2*$D22-1,0)<>"",OFFSET('Group Stages'!$J$13,2*$D22-1,0),"") | K22: - | L22: =IF(OFFSET('Group Stages'!$J$13,2*$D22,0)<>"",OFFSET('Group Stages'!$J$13,2*$D22,0),"") | N22: =INDEX(Language!$A$1:$AX$115,MATCH('Countries and Timezone'!$AG$24,Language!$B$1:$B$115,0),MATCH($G$2,Language!$A$1:$AW$1,0)) -> Ecuador | S22: 4 | T22: =VLOOKUP(4,'Dummy Table'!O11:P14,2,FALSE) -> Australia | V22: =SUM(W22:Y22) -> 0 | W22: =SUMIF('Dummy Table'!B$11:B$14,Tournament!T22,'Dummy Table'!C$11:C$14) -> 0 | X22: =SUMIF('Dummy Table'!B$11:B$14,Tournament!T22,'Dummy Table'!D$11:D$14) -> 0 | Y22: =SUMIF('Dummy Table'!B$11:B$14,Tournament!T22,'Dummy Table'!E$11:E$14) -> 0 | AA22: =CONCATENATE(SUMIF('Dummy Table'!B$11:B$14,Tournament!T22,'Dummy Table'!F$11:F$14)," - ",SUMIF('Dummy Table'!B$11:B$14,Tournament!T22,'Dummy Table'!G$11:G$14)) -> 0 - 0 | AC22: =SUMIF('Dummy Table'!B$11:B$14,Tournament!T22,'Dummy Table'!I$11:I$14) -> 0 | AJ22: =IF(SUM('Dummy Table'!AM$11:AM$14)>0,IF(ISNA(VLOOKUP(4,'Dummy Table'!AM$11:AN$14,2,FALSE)),"",VLOOKUP(4,'Dummy Table'!AM$11:AN$14,2,FALSE)),"") -> Australia
D23: 10 | E23: E | F23: =G23 -> 41805.833 | G23: ='Countries and Timezone'!R11 -> 41805.833 | H23: =INDEX(Language!$A$1:$AX$115,MATCH('Countries and Timezone'!$AG$25,Language!$B$1:$B$115,0),MATCH($G$2,Language!$A$1:$AW$1,0)) -> France | J23: =IF(OFFSET('Group Stages'!$J$13,2*$D23-1,0)<>"",OFFSET('Group Stages'!$J$13,2*$D23-1,0),"") | K23: - | L23: =IF(OFFSET('Group Stages'!$J$13,2*$D23,0)<>"",OFFSET('Group Stages'!$J$13,2*$D23,0),"") | N23: =INDEX(Language!$A$1:$AX$115,MATCH('Countries and Timezone'!$AG$26,Language!$B$1:$B$115,0),MATCH($G$2,Language!$A$1:$AW$1,0)) -> Honduras
D24: 11 | E24: F | F24: =G24 -> 41805.958 | G24: ='Countries and Timezone'!R12 -> 41805.958 | H24: =INDEX(Language!$A$1:$AX$115,MATCH('Countries and Timezone'!$AG$27,Language!$B$1:$B$115,0),MATCH($G$2,Language!$A$1:$AW$1,0)) -> Argentina | J24: =IF(OFFSET('Group Stages'!$J$13,2*$D24-1,0)<>"",OFFSET('Group Stages'!$J$13,2*$D24-1,0),"") | K24: - | L24: =IF(OFFSET('Group Stages'!$J$13,2*$D24,0)<>"",OFFSET('Group Stages'!$J$13,2*$D24,0),"") | N24: =INDEX(Language!$A$1:$AX$115,MATCH('Countries and Timezone'!$AG$28,Language!$B$1:$B$115,0),MATCH($G$2,Language!$A$1:$AW$1,0)) -> Bosnia-Herzegovina | S24: =INDEX(Language!$A$1:$AX$115,MATCH("Group C",Language!$B$1:$B$115,0),MATCH(Tournament!$G$2,Language!$A$1:$AW$1,0)) -> Group C | V24: P | W24: W | X24: D | Y24: L | AA24: F - A | AC24: Pt | AF24: C | AJ24: Country | AK24: Draw Result
D25: 12 | E25: F | F25: =G25 -> 41806.833 | G25: ='Countries and Timezone'!R13 -> 41806.833 | H25: =INDEX(Language!$A$1:$AX$115,MATCH('Countries and Timezone'!$AG$29,Language!$B$1:$B$115,0),MATCH($G$2,Language!$A$1:$AW$1,0)) -> Iran | J25: =IF(OFFSET('Group Stages'!$J$13,2*$D25-1,0)<>"",OFFSET('Group Stages'!$J$13,2*$D25-1,0),"") | K25: - | L25: =IF(OFFSET('Group Stages'!$J$13,2*$D25,0)<>"",OFFSET('Group Stages'!$J$13,2*$D25,0),"") | N25: =INDEX(Language!$A$1:$AX$115,MATCH('Countries and Timezone'!$AG$30,Language!$B$1:$B$115,0),MATCH($G$2,Language!$A$1:$AW$1,0)) -> Nigeria | S25: 1 | T25: =VLOOKUP(1,'Dummy Table'!O18:P21,2,FALSE) -> Colombia | V25: =SUM(W25:Y25) -> 0 | W25: =SUMIF('Dummy Table'!B$18:B$21,Tournament!T25,'Dummy Table'!C$18:C$21) -> 0 | X25: =SUMIF('Dummy Table'!B$18:B$21,Tournament!T25,'Dummy Table'!D$18:D$21) -> 0 | Y25: =SUMIF('Dummy Table'!B$18:B$21,Tournament!T25,'Dummy Table'!E$18:E$21) -> 0 | AA25: =CONCATENATE(SUMIF('Dummy Table'!B$18:B$21,Tournament!T25,'Dummy Table'!F$18:F$21)," - ",SUMIF('Dummy Table'!B$18:B$21,Tournament!T25,'Dummy Table'!G$18:G$21)) -> 0 - 0 | AC25: =SUMIF('Dummy Table'!B$18:B$21,Tournament!T25,'Dummy Table'!I$18:I$21) -> 0 | AJ25: =IF(SUM('Dummy Table'!AM$18:AM$21)>0,IF(ISNA(VLOOKUP(1,'Dummy Table'!AM$18:AN$21,2,FALSE)),"",VLOOKUP(1,'Dummy Table'!AM$18:AN$21,2,FALSE)),"") -> Colombia
D26: 13 | E26: G | F26: =G26 -> 41806.708 | G26: ='Countries and Timezone'!R14 -> 41806.708 | H26: =INDEX(Language!$A$1:$AX$115,MATCH('Countries and Timezone'!$AG$31,Language!$B$1:$B$115,0),MATCH($G$2,Language!$A$1:$AW$1,0)) -> Germany | J26: =IF(OFFSET('Group Stages'!$J$13,2*$D26-1,0)<>"",OFFSET('Group Stages'!$J$13,2*$D26-1,0),"") | K26: - | L26: =IF(OFFSET('Group Stages'!$J$13,2*$D26,0)<>"",OFFSET('Group Stages'!$J$13,2*$D26,0),"") | N26: =INDEX(Language!$A$1:$AX$115,MATCH('Countries and Timezone'!$AG$32,Language!$B$1:$B$115,0),MATCH($G$2,Language!$A$1:$AW$1,0)) -> Portugal | S26: 2 | T26: =VLOOKUP(2,'Dummy Table'!O18:P21,2,FALSE) -> Greece | V26: =SUM(W26:Y26) -> 0 | W26: =SUMIF('Dummy Table'!B$18:B$21,Tournament!T26,'Dummy Table'!C$18:C$21) -> 0 | X26: =SUMIF('Dummy Table'!B$18:B$21,Tournament!T26,'Dummy Table'!D$18:D$21) -> 0 | Y26: =SUMIF('Dummy Table'!B$18:B$21,Tournament!T26,'Dummy Table'!E$18:E$21) -> 0 | AA26: =CONCATENATE(SUMIF('Dummy Table'!B$18:B$21,Tournament!T26,'Dummy Table'!F$18:F$21)," - ",SUMIF('Dummy Table'!B$18:B$21,Tournament!T26,'Dummy Table'!G$18:G$21)) -> 0 - 0 | AC26: =SUMIF('Dummy Table'!B$18:B$21,Tournament!T26,'Dummy Table'!I$18:I$21) -> 0 | AJ26: =IF(SUM('Dummy Table'!AM$18:AM$21)>0,IF(ISNA(VLOOKUP(2,'Dummy Table'!AM$18:AN$21,2,FALSE)),"",VLOOKUP(2,'Dummy Table'!AM$18:AN$21,2,FALSE)),"") -> Greece
D27: 14 | E27: G | F27: =G27 -> 41806.958 | G27: ='Countries and Timezone'!R15 -> 41806.958 | H27: =INDEX(Language!$A$1:$AX$115,MATCH('Countries and Timezone'!$AG$33,Language!$B$1:$B$115,0),MATCH($G$2,Language!$A$1:$AW$1,0)) -> Ghana | J27: =IF(OFFSET('Group Stages'!$J$13,2*$D27-1,0)<>"",OFFSET('Group Stages'!$J$13,2*$D27-1,0),"") | K27: - | L27: =IF(OFFSET('Group Stages'!$J$13,2*$D27,0)<>"",OFFSET('Group Stages'!$J$13,2*$D27,0),"") | N27: =INDEX(Language!$A$1:$AX$115,MATCH('Countries and Timezone'!$AG$34,Language!$B$1:$B$115,0),MATCH($G$2,Language!$A$1:$AW$1,0)) -> USA | S27: 3 | T27: =VLOOKUP(3,'Dummy Table'!O18:P21,2,FALSE) -> Ivory Coast | V27: =SUM(W27:Y27) -> 0 | W27: =SUMIF('Dummy Table'!B$18:B$21,Tournament!T27,'Dummy Table'!C$18:C$21) -> 0 | X27: =SUMIF('Dummy Table'!B$18:B$21,Tournament!T27,'Dummy Table'!D$18:D$21) -> 0 | Y27: =SUMIF('Dummy Table'!B$18:B$21,Tournament!T27,'Dummy Table'!E$18:E$21) -> 0 | AA27: =CONCATENATE(SUMIF('Dummy Table'!B$18:B$21,Tournament!T27,'Dummy Table'!F$18:F$21)," - ",SUMIF('Dummy Table'!B$18:B$21,Tournament!T27,'Dummy Table'!G$18:G$21)) -> 0 - 0 | AC27: =SUMIF('Dummy Table'!B$18:B$21,Tournament!T27,'Dummy Table'!I$18:I$21) -> 0 | AJ27: =IF(SUM('Dummy Table'!AM$18:AM$21)>0,IF(ISNA(VLOOKUP(3,'Dummy Table'!AM$18:AN$21,2,FALSE)),"",VLOOKUP(3,'Dummy Table'!AM$18:AN$21,2,FALSE)),"") -> Ivory Coast
D28: 15 | E28: H | F28: =G28 -> 41807.708 | G28: ='Countries and Timezone'!R16 -> 41807.708 | H28: =INDEX(Language!$A$1:$AX$115,MATCH('Countries and Timezone'!$AG$35,Language!$B$1:$B$115,0),MATCH($G$2,Language!$A$1:$AW$1,0)) -> Belgium | J28: =IF(OFFSET('Group Stages'!$J$13,2*$D28-1,0)<>"",OFFSET('Group Stages'!$J$13,2*$D28-1,0),"") | K28: - | L28: =IF(OFFSET('Group Stages'!$J$13,2*$D28,0)<>"",OFFSET('Group Stages'!$J$13,2*$D28,0),"") | N28: =INDEX(Language!$A$1:$AX$115,MATCH('Countries and Timezone'!$AG$36,Language!$B$1:$B$115,0),MATCH($G$2,Language!$A$1:$AW$1,0)) -> Algeria | S28: 4 | T28: =VLOOKUP(4,'Dummy Table'!O18:P21,2,FALSE) -> Japan | V28: =SUM(W28:Y28) -> 0 | W28: =SUMIF('Dummy Table'!B$18:B$21,Tournament!T28,'Dummy Table'!C$18:C$21) -> 0 | X28: =SUMIF('Dummy Table'!B$18:B$21,Tournament!T28,'Dummy Table'!D$18:D$21) -> 0 | Y28: =SUMIF('Dummy Table'!B$18:B$21,Tournament!T28,'Dummy Table'!E$18:E$21) -> 0 | AA28: =CONCATENATE(SUMIF('Dummy Table'!B$18:B$21,Tournament!T28,'Dummy Table'!F$18:F$21)," - ",SUMIF('Dummy Table'!B$18:B$21,Tournament!T28,'Dummy Table'!G$18:G$21)) -> 0 - 0 | AC28: =SUMIF('Dummy Table'!B$18:B$21,Tournament!T28,'Dummy Table'!I$18:I$21) -> 0 | AJ28: =IF(SUM('Dummy Table'!AM$18:AM$21)>0,IF(ISNA(VLOOKUP(4,'Dummy Table'!AM$18:AN$21,2,FALSE)),"",VLOOKUP(4,'Dummy Table'!AM$18:AN$21,2,FALSE)),"") -> Japan
D29: 16 | E29: H | F29: =G29 -> 41807.958 | G29: ='Countries and Timezone'!R17 -> 41807.958 | H29: =INDEX(Language!$A$1:$AX$115,MATCH('Countries and Timezone'!$AG$37,Language!$B$1:$B$115,0),MATCH($G$2,Language!$A$1:$AW$1,0)) -> Russia | J29: =IF(OFFSET('Group Stages'!$J$13,2*$D29-1,0)<>"",OFFSET('Group Stages'!$J$13,2*$D29-1,0),"") | K29: - | L29: =IF(OFFSET('Group Stages'!$J$13,2*$D29,0)<>"",OFFSET('Group Stages'!$J$13,2*$D29,0),"") | N29: =INDEX(Language!$A$1:$AX$115,MATCH('Countries and Timezone'!$AG$38,Language!$B$1:$B$115,0),MATCH($G$2,Language!$A$1:$AW$1,0)) -> South Korea
D30: 17 | E30: A | F30: =G30 -> 41807.833 | G30: ='Countries and Timezone'!R18 -> 41807.833 | H30: =H14 -> Brazil | J30: =IF(OFFSET('Group Stages'!$J$13,2*$D30-1,0)<>"",OFFSET('Group Stages'!$J$13,2*$D30-1,0),"") | K30: - | L30: =IF(OFFSET('Group Stages'!$J$13,2*$D30,0)<>"",OFFSET('Group Stages'!$J$13,2*$D30,0),"") | N30: =H15 -> Mexico | S30: =INDEX(Language!$A$1:$AX$115,MATCH("Group D",Language!$B$1:$B$115,0),MATCH(Tournament!$G$2,Language!$A$1:$AW$1,0)) -> Group D | V30: P | W30: W | X30: D | Y30: L | AA30: F - A | AC30: Pt | AF30: D | AJ30: Country | AK30: Draw Result
D31: 18 | E31: A | F31: =G31 -> 41808.958 | G31: ='Countries and Timezone'!R19 -> 41808.958 | H31: =N15 -> Cameroon | J31: =IF(OFFSET('Group Stages'!$J$13,2*$D31-1,0)<>"",OFFSET('Group Stages'!$J$13,2*$D31-1,0),"") | K31: - | L31: =IF(OFFSET('Group Stages'!$J$13,2*$D31,0)<>"",OFFSET('Group Stages'!$J$13,2*$D31,0),"") | N31: =N14 -> Croatia | S31: 1 | T31: =VLOOKUP(1,'Dummy Table'!O25:P28,2,FALSE) -> Uruguay | V31: =SUM(W31:Y31) -> 0 | W31: =SUMIF('Dummy Table'!B$25:B$28,Tournament!T31,'Dummy Table'!C$25:C$28) -> 0 | X31: =SUMIF('Dummy Table'!B$25:B$28,Tournament!T31,'Dummy Table'!D$25:D$28) -> 0 | Y31: =SUMIF('Dummy Table'!B$25:B$28,Tournament!T31,'Dummy Table'!E$25:E$28) -> 0 | AA31: =CONCATENATE(SUMIF('Dummy Table'!B$25:B$28,Tournament!T31,'Dummy Table'!F$25:F$28)," - ",SUMIF('Dummy Table'!B$25:B$28,Tournament!T31,'Dummy Table'!G$25:G$28)) -> 0 - 0 | AC31: =SUMIF('Dummy Table'!B$25:B$28,Tournament!T31,'Dummy Table'!I$25:I$28) -> 0 | AJ31: =IF(SUM('Dummy Table'!AM$25:AM$28)>0,IF(ISNA(VLOOKUP(1,'Dummy Table'!AM$25:AN$28,2,FALSE)),"",VLOOKUP(1,'Dummy Table'!AM$25:AN$28,2,FALSE)),"") -> Uruguay
D32: 19 | E32: B | F32: =G32 -> 41808.833 | G32: ='Countries and Timezone'!R20 -> 41808.833 | H32: =H16 -> Spain | J32: =IF(OFFSET('Group Stages'!$J$13,2*$D32-1,0)<>"",OFFSET('Group Stages'!$J$13,2*$D32-1,0),"") | K32: - | L32: =IF(OFFSET('Group Stages'!$J$13,2*$D32,0)<>"",OFFSET('Group Stages'!$J$13,2*$D32,0),"") | N32: =H17 -> Chile | S32: 2 | T32: =VLOOKUP(2,'Dummy Table'!O25:P28,2,FALSE) -> Italy | V32: =SUM(W32:Y32) -> 0 | W32: =SUMIF('Dummy Table'!B$25:B$28,Tournament!T32,'Dummy Table'!C$25:C$28) -> 0 | X32: =SUMIF('Dummy Table'!B$25:B$28,Tournament!T32,'Dummy Table'!D$25:D$28) -> 0 | Y32: =SUMIF('Dummy Table'!B$25:B$28,Tournament!T32,'Dummy Table'!E$25:E$28) -> 0 | AA32: =CONCATENATE(SUMIF('Dummy Table'!B$25:B$28,Tournament!T32,'Dummy Table'!F$25:F$28)," - ",SUMIF('Dummy Table'!B$25:B$28,Tournament!T32,'Dummy Table'!G$25:G$28)) -> 0 - 0 | AC32: =SUMIF('Dummy Table'!B$25:B$28,Tournament!T32,'Dummy Table'!I$25:I$28) -> 0 | AJ32: =IF(SUM('Dummy Table'!AM$25:AM$28)>0,IF(ISNA(VLOOKUP(2,'Dummy Table'!AM$25:AN$28,2,FALSE)),"",VLOOKUP(2,'Dummy Table'!AM$25:AN$28,2,FALSE)),"") -> Italy
D33: 20 | E33: B | F33: =G33 -> 41808.708 | G33: ='Countries and Timezone'!R21 -> 41808.708 | H33: =N17 -> Australia | J33: =IF(OFFSET('Group Stages'!$J$13,2*$D33-1,0)<>"",OFFSET('Group Stages'!$J$13,2*$D33-1,0),"") | K33: - | L33: =IF(OFFSET('Group Stages'!$J$13,2*$D33,0)<>"",OFFSET('Group Stages'!$J$13,2*$D33,0),"") | N33: =N16 -> Netherlands | S33: 3 | T33: =VLOOKUP(3,'Dummy Table'!O25:P28,2,FALSE) -> England | V33: =SUM(W33:Y33) -> 0 | W33: =SUMIF('Dummy Table'!B$25:B$28,Tournament!T33,'Dummy Table'!C$25:C$28) -> 0 | X33: =SUMIF('Dummy Table'!B$25:B$28,Tournament!T33,'Dummy Table'!D$25:D$28) -> 0 | Y33: =SUMIF('Dummy Table'!B$25:B$28,Tournament!T33,'Dummy Table'!E$25:E$28) -> 0 | AA33: =CONCATENATE(SUMIF('Dummy Table'!B$25:B$28,Tournament!T33,'Dummy Table'!F$25:F$28)," - ",SUMIF('Dummy Table'!B$25:B$28,Tournament!T33,'Dummy Table'!G$25:G$28)) -> 0 - 0 | AC33: =SUMIF('Dummy Table'!B$25:B$28,Tournament!T33,'Dummy Table'!I$25:I$28) -> 0 | AJ33: =IF(SUM('Dummy Table'!AM$25:AM$28)>0,IF(ISNA(VLOOKUP(3,'Dummy Table'!AM$25:AN$28,2,FALSE)),"",VLOOKUP(3,'Dummy Table'!AM$25:AN$28,2,FALSE)),"") -> England
D34: 21 | E34: C | F34: =G34 -> 41809.708 | G34: ='Countries and Timezone'!R22 -> 41809.708 | H34: =H18 -> Colombia | J34: =IF(OFFSET('Group Stages'!$J$13,2*$D34-1,0)<>"",OFFSET('Group Stages'!$J$13,2*$D34-1,0),"") | K34: - | L34: =IF(OFFSET('Group Stages'!$J$13,2*$D34,0)<>"",OFFSET('Group Stages'!$J$13,2*$D34,0),"") | N34: =H19 -> Ivory Coast | S34: 4 | T34: =VLOOKUP(4,'Dummy Table'!O25:P28,2,FALSE) -> Costa Rica | V34: =SUM(W34:Y34) -> 0 | W34: =SUMIF('Dummy Table'!B$25:B$28,Tournament!T34,'Dummy Table'!C$25:C$28) -> 0 | X34: =SUMIF('Dummy Table'!B$25:B$28,Tournament!T34,'Dummy Table'!D$25:D$28) -> 0 | Y34: =SUMIF('Dummy Table'!B$25:B$28,Tournament!T34,'Dummy Table'!E$25:E$28) -> 0 | AA34: =CONCATENATE(SUMIF('Dummy Table'!B$25:B$28,Tournament!T34,'Dummy Table'!F$25:F$28)," - ",SUMIF('Dummy Table'!B$25:B$28,Tournament!T34,'Dummy Table'!G$25:G$28)) -> 0 - 0 | AC34: =SUMIF('Dummy Table'!B$25:B$28,Tournament!T34,'Dummy Table'!I$25:I$28) -> 0 | AJ34: =IF(SUM('Dummy Table'!AM$25:AM$28)>0,IF(ISNA(VLOOKUP(4,'Dummy Table'!AM$25:AN$28,2,FALSE)),"",VLOOKUP(4,'Dummy Table'!AM$25:AN$28,2,FALSE)),"") -> Costa Rica
D35: 22 | E35: C | F35: =G35 -> 41809.958 | G35: ='Countries and Timezone'!R23 -> 41809.958 | H35: =N19 -> Japan | J35: =IF(OFFSET('Group Stages'!$J$13,2*$D35-1,0)<>"",OFFSET('Group Stages'!$J$13,2*$D35-1,0),"") | K35: - | L35: =IF(OFFSET('Group Stages'!$J$13,2*$D35,0)<>"",OFFSET('Group Stages'!$J$13,2*$D35,0),"") | N35: =N18 -> Greece
D36: 23 | E36: D | F36: =G36 -> 41809.833 | G36: ='Countries and Timezone'!R24 -> 41809.833 | H36: =H20 -> Uruguay | J36: =IF(OFFSET('Group Stages'!$J$13,2*$D36-1,0)<>"",OFFSET('Group Stages'!$J$13,2*$D36-1,0),"") | K36: - | L36: =IF(OFFSET('Group Stages'!$J$13,2*$D36,0)<>"",OFFSET('Group Stages'!$J$13,2*$D36,0),"") | N36: =H21 -> England | S36: =INDEX(Language!$A$1:$AX$115,MATCH("Group E",Language!$B$1:$B$115,0),MATCH(Tournament!$G$2,Language!$A$1:$AW$1,0)) -> Group E | V36: P | W36: W | X36: D | Y36: L | AA36: F - A | AC36: Pt | AF36: E | AJ36: Country | AK36: Draw Result
D37: 24 | E37: D | F37: =G37 -> 41810.708 | G37: ='Countries and Timezone'!R25 -> 41810.708 | H37: =N21 -> Italy | J37: =IF(OFFSET('Group Stages'!$J$13,2*$D37-1,0)<>"",OFFSET('Group Stages'!$J$13,2*$D37-1,0),"") | K37: - | L37: =IF(OFFSET('Group Stages'!$J$13,2*$D37,0)<>"",OFFSET('Group Stages'!$J$13,2*$D37,0),"") | N37: =N20 -> Costa Rica | S37: 1 | T37: =VLOOKUP(1,'Dummy Table'!O32:P35,2,FALSE) -> Switzerland | V37: =SUM(W37:Y37) -> 0 | W37: =SUMIF('Dummy Table'!B$32:B$35,Tournament!T37,'Dummy Table'!C$32:C$35) -> 0 | X37: =SUMIF('Dummy Table'!B$32:B$35,Tournament!T37,'Dummy Table'!D$32:D$35) -> 0 | Y37: =SUMIF('Dummy Table'!B$32:B$35,Tournament!T37,'Dummy Table'!E$32:E$35) -> 0 | AA37: =CONCATENATE(SUMIF('Dummy Table'!B$32:B$35,Tournament!T37,'Dummy Table'!F$32:F$35)," - ",SUMIF('Dummy Table'!B$32:B$35,Tournament!T37,'Dummy Table'!G$32:G$35)) -> 0 - 0 | AC37: =SUMIF('Dummy Table'!B$32:B$35,Tournament!T37,'Dummy Table'!I$32:I$35) -> 0 | AJ37: =IF(SUM('Dummy Table'!AM$32:AM$35)>0,IF(ISNA(VLOOKUP(1,'Dummy Table'!AM$32:AN$35,2,FALSE)),"",VLOOKUP(1,'Dummy Table'!AM$32:AN$35,2,FALSE)),"") -> Switzerland
D38: 25 | E38: E | F38: =G38 -> 41810.833 | G38: ='Countries and Timezone'!R26 -> 41810.833 | H38: =H22 -> Switzerland | J38: =IF(OFFSET('Group Stages'!$J$13,2*$D38-1,0)<>"",OFFSET('Group Stages'!$J$13,2*$D38-1,0),"") | K38: - | L38: =IF(OFFSET('Group Stages'!$J$13,2*$D38,0)<>"",OFFSET('Group Stages'!$J$13,2*$D38,0),"") | N38: =H23 -> France | S38: 2 | T38: =VLOOKUP(2,'Dummy Table'!O32:P35,2,FALSE) -> France | V38: =SUM(W38:Y38) -> 0 | W38: =SUMIF('Dummy Table'!B$32:B$35,Tournament!T38,'Dummy Table'!C$32:C$35) -> 0 | X38: =SUMIF('Dummy Table'!B$32:B$35,Tournament!T38,'Dummy Table'!D$32:D$35) -> 0 | Y38: =SUMIF('Dummy Table'!B$32:B$35,Tournament!T38,'Dummy Table'!E$32:E$35) -> 0 | AA38: =CONCATENATE(SUMIF('Dummy Table'!B$32:B$35,Tournament!T38,'Dummy Table'!F$32:F$35)," - ",SUMIF('Dummy Table'!B$32:B$35,Tournament!T38,'Dummy Table'!G$32:G$35)) -> 0 - 0 | AC38: =SUMIF('Dummy Table'!B$32:B$35,Tournament!T38,'Dummy Table'!I$32:I$35) -> 0 | AJ38: =IF(SUM('Dummy Table'!AM$32:AM$35)>0,IF(ISNA(VLOOKUP(2,'Dummy Table'!AM$32:AN$35,2,FALSE)),"",VLOOKUP(2,'Dummy Table'!AM$32:AN$35,2,FALSE)),"") -> France
D39: 26 | E39: E | F39: =G39 -> 41810.958 | G39: ='Countries and Timezone'!R27 -> 41810.958 | H39: =N23 -> Honduras | J39: =IF(OFFSET('Group Stages'!$J$13,2*$D39-1,0)<>"",OFFSET('Group Stages'!$J$13,2*$D39-1,0),"") | K39: - | L39: =IF(OFFSET('Group Stages'!$J$13,2*$D39,0)<>"",OFFSET('Group Stages'!$J$13,2*$D39,0),"") | N39: =N22 -> Ecuador | S39: 3 | T39: =VLOOKUP(3,'Dummy Table'!O32:P35,2,FALSE) -> Ecuador | V39: =SUM(W39:Y39) -> 0 | W39: =SUMIF('Dummy Table'!B$32:B$35,Tournament!T39,'Dummy Table'!C$32:C$35) -> 0 | X39: =SUMIF('Dummy Table'!B$32:B$35,Tournament!T39,'Dummy Table'!D$32:D$35) -> 0 | Y39: =SUMIF('Dummy Table'!B$32:B$35,Tournament!T39,'Dummy Table'!E$32:E$35) -> 0 | AA39: =CONCATENATE(SUMIF('Dummy Table'!B$32:B$35,Tournament!T39,'Dummy Table'!F$32:F$35)," - ",SUMIF('Dummy Table'!B$32:B$35,Tournament!T39,'Dummy Table'!G$32:G$35)) -> 0 - 0 | AC39: =SUMIF('Dummy Table'!B$32:B$35,Tournament!T39,'Dummy Table'!I$32:I$35) -> 0 | AJ39: =IF(SUM('Dummy Table'!AM$32:AM$35)>0,IF(ISNA(VLOOKUP(3,'Dummy Table'!AM$32:AN$35,2,FALSE)),"",VLOOKUP(3,'Dummy Table'!AM$32:AN$35,2,FALSE)),"") -> Ecuador
D40: 27 | E40: F | F40: =G40 -> 41811.708 | G40: ='Countries and Timezone'!R28 -> 41811.708 | H40: =H24 -> Argentina | J40: =IF(OFFSET('Group Stages'!$J$13,2*$D40-1,0)<>"",OFFSET('Group Stages'!$J$13,2*$D40-1,0),"") | K40: - | L40: =IF(OFFSET('Group Stages'!$J$13,2*$D40,0)<>"",OFFSET('Group Stages'!$J$13,2*$D40,0),"") | N40: =H25 -> Iran | S40: 4 | T40: =VLOOKUP(4,'Dummy Table'!O32:P35,2,FALSE) -> Honduras | V40: =SUM(W40:Y40) -> 0 | W40: =SUMIF('Dummy Table'!B$32:B$35,Tournament!T40,'Dummy Table'!C$32:C$35) -> 0 | X40: =SUMIF('Dummy Table'!B$32:B$35,Tournament!T40,'Dummy Table'!D$32:D$35) -> 0 | Y40: =SUMIF('Dummy Table'!B$32:B$35,Tournament!T40,'Dummy Table'!E$32:E$35) -> 0 | AA40: =CONCATENATE(SUMIF('Dummy Table'!B$32:B$35,Tournament!T40,'Dummy Table'!F$32:F$35)," - ",SUMIF('Dummy Table'!B$32:B$35,Tournament!T40,'Dummy Table'!G$32:G$35)) -> 0 - 0 | AC40: =SUMIF('Dummy Table'!B$32:B$35,Tournament!T40,'Dummy Table'!I$32:I$35) -> 0 | AJ40: =IF(SUM('Dummy Table'!AM$32:AM$35)>0,IF(ISNA(VLOOKUP(4,'Dummy Table'!AM$32:AN$35,2,FALSE)),"",VLOOKUP(4,'Dummy Table'!AM$32:AN$35,2,FALSE)),"") -> Honduras
D41: 28 | E41: F | F41: =G41 -> 41811.958 | G41: ='Countries and Timezone'!R29 -> 41811.958 | H41: =N25 -> Nigeria | J41: =IF(OFFSET('Group Stages'!$J$13,2*$D41-1,0)<>"",OFFSET('Group Stages'!$J$13,2*$D41-1,0),"") | K41: - | L41: =IF(OFFSET('Group Stages'!$J$13,2*$D41,0)<>"",OFFSET('Group Stages'!$J$13,2*$D41,0),"") | N41: =N24 -> Bosnia-Herzegovina
D42: 29 | E42: G | F42: =G42 -> 41811.833 | G42: ='Countries and Timezone'!R30 -> 41811.833 | H42: =H26 -> Germany | J42: =IF(OFFSET('Group Stages'!$J$13,2*$D42-1,0)<>"",OFFSET('Group Stages'!$J$13,2*$D42-1,0),"") | K42: - | L42: =IF(OFFSET('Group Stages'!$J$13,2*$D42,0)<>"",OFFSET('Group Stages'!$J$13,2*$D42,0),"") | N42: =H27 -> Ghana | S42: =INDEX(Language!$A$1:$AX$115,MATCH("Group F",Language!$B$1:$B$115,0),MATCH(Tournament!$G$2,Language!$A$1:$AW$1,0)) -> Group F | V42: P | W42: W | X42: D | Y42: L | AA42: F - A | AC42: Pt | AF42: F | AJ42: Country | AK42: Draw Result
D43: 30 | E43: G | F43: =G43 -> 41812.958 | G43: ='Countries and Timezone'!R31 -> 41812.958 | H43: =N27 -> USA | J43: =IF(OFFSET('Group Stages'!$J$13,2*$D43-1,0)<>"",OFFSET('Group Stages'!$J$13,2*$D43-1,0),"") | K43: - | L43: =IF(OFFSET('Group Stages'!$J$13,2*$D43,0)<>"",OFFSET('Group Stages'!$J$13,2*$D43,0),"") | N43: =N26 -> Portugal | S43: 1 | T43: =VLOOKUP(1,'Dummy Table'!O39:P42,2,FALSE) -> Argentina | V43: =SUM(W43:Y43) -> 0 | W43: =SUMIF('Dummy Table'!B$39:B$42,Tournament!T43,'Dummy Table'!C$39:C$42) -> 0 | X43: =SUMIF('Dummy Table'!B$39:B$42,Tournament!T43,'Dummy Table'!D$39:D$42) -> 0 | Y43: =SUMIF('Dummy Table'!B$39:B$42,Tournament!T43,'Dummy Table'!E$39:E$42) -> 0 | AA43: =CONCATENATE(SUMIF('Dummy Table'!B$39:B$42,Tournament!T43,'Dummy Table'!F$39:F$42)," - ",SUMIF('Dummy Table'!B$39:B$42,Tournament!T43,'Dummy Table'!G$39:G$42)) -> 0 - 0 | AC43: =SUMIF('Dummy Table'!B$39:B$42,Tournament!T43,'Dummy Table'!I$39:I$42) -> 0 | AJ43: =IF(SUM('Dummy Table'!AM$39:AM$42)>0,IF(ISNA(VLOOKUP(1,'Dummy Table'!AM$39:AN$42,2,FALSE)),"",VLOOKUP(1,'Dummy Table'!AM$39:AN$42,2,FALSE)),"") -> Argentina
D44: 31 | E44: H | F44: =G44 -> 41812.708 | G44: ='Countries and Timezone'!R32 -> 41812.708 | H44: =H28 -> Belgium | J44: =IF(OFFSET('Group Stages'!$J$13,2*$D44-1,0)<>"",OFFSET('Group Stages'!$J$13,2*$D44-1,0),"") | K44: - | L44: =IF(OFFSET('Group Stages'!$J$13,2*$D44,0)<>"",OFFSET('Group Stages'!$J$13,2*$D44,0),"") | N44: =H29 -> Russia | S44: 2 | T44: =VLOOKUP(2,'Dummy Table'!O39:P42,2,FALSE) -> Bosnia-Herzegovina | V44: =SUM(W44:Y44) -> 0 | W44: =SUMIF('Dummy Table'!B$39:B$42,Tournament!T44,'Dummy Table'!C$39:C$42) -> 0 | X44: =SUMIF('Dummy Table'!B$39:B$42,Tournament!T44,'Dummy Table'!D$39:D$42) -> 0 | Y44: =SUMIF('Dummy Table'!B$39:B$42,Tournament!T44,'Dummy Table'!E$39:E$42) -> 0 | AA44: =CONCATENATE(SUMIF('Dummy Table'!B$39:B$42,Tournament!T44,'Dummy Table'!F$39:F$42)," - ",SUMIF('Dummy Table'!B$39:B$42,Tournament!T44,'Dummy Table'!G$39:G$42)) -> 0 - 0 | AC44: =SUMIF('Dummy Table'!B$39:B$42,Tournament!T44,'Dummy Table'!I$39:I$42) -> 0 | AJ44: =IF(SUM('Dummy Table'!AM$39:AM$42)>0,IF(ISNA(VLOOKUP(2,'Dummy Table'!AM$39:AN$42,2,FALSE)),"",VLOOKUP(2,'Dummy Table'!AM$39:AN$42,2,FALSE)),"") -> Bosnia-Herzegovina
D45: 32 | E45: H | F45: =G45 -> 41812.833 | G45: ='Countries and Timezone'!R33 -> 41812.833 | H45: =N29 -> South Korea | J45: =IF(OFFSET('Group Stages'!$J$13,2*$D45-1,0)<>"",OFFSET('Group Stages'!$J$13,2*$D45-1,0),"") | K45: - | L45: =IF(OFFSET('Group Stages'!$J$13,2*$D45,0)<>"",OFFSET('Group Stages'!$J$13,2*$D45,0),"") | N45: =N28 -> Algeria | S45: 3 | T45: =VLOOKUP(3,'Dummy Table'!O39:P42,2,FALSE) -> Nigeria | V45: =SUM(W45:Y45) -> 0 | W45: =SUMIF('Dummy Table'!B$39:B$42,Tournament!T45,'Dummy Table'!C$39:C$42) -> 0 | X45: =SUMIF('Dummy Table'!B$39:B$42,Tournament!T45,'Dummy Table'!D$39:D$42) -> 0 | Y45: =SUMIF('Dummy Table'!B$39:B$42,Tournament!T45,'Dummy Table'!E$39:E$42) -> 0 | AA45: =CONCATENATE(SUMIF('Dummy Table'!B$39:B$42,Tournament!T45,'Dummy Table'!F$39:F$42)," - ",SUMIF('Dummy Table'!B$39:B$42,Tournament!T45,'Dummy Table'!G$39:G$42)) -> 0 - 0 | AC45: =SUMIF('Dummy Table'!B$39:B$42,Tournament!T45,'Dummy Table'!I$39:I$42) -> 0 | AJ45: =IF(SUM('Dummy Table'!AM$39:AM$42)>0,IF(ISNA(VLOOKUP(3,'Dummy Table'!AM$39:AN$42,2,FALSE)),"",VLOOKUP(3,'Dummy Table'!AM$39:AN$42,2,FALSE)),"") -> Nigeria
D46: 33 | E46: A | F46: =G46 -> 41813.875 | G46: ='Countries and Timezone'!R34 -> 41813.875 | H46: =N15 -> Cameroon | J46: =IF(OFFSET('Group Stages'!$J$13,2*$D46-1,0)<>"",OFFSET('Group Stages'!$J$13,2*$D46-1,0),"") | K46: - | L46: =IF(OFFSET('Group Stages'!$J$13,2*$D46,0)<>"",OFFSET('Group Stages'!$J$13,2*$D46,0),"") | N46: =H14 -> Brazil | S46: 4 | T46: =VLOOKUP(4,'Dummy Table'!O39:P42,2,FALSE) -> Iran | V46: =SUM(W46:Y46) -> 0 | W46: =SUMIF('Dummy Table'!B$39:B$42,Tournament!T46,'Dummy Table'!C$39:C$42) -> 0 | X46: =SUMIF('Dummy Table'!B$39:B$42,Tournament!T46,'Dummy Table'!D$39:D$42) -> 0 | Y46: =SUMIF('Dummy Table'!B$39:B$42,Tournament!T46,'Dummy Table'!E$39:E$42) -> 0 | AA46: =CONCATENATE(SUMIF('Dummy Table'!B$39:B$42,Tournament!T46,'Dummy Table'!F$39:F$42)," - ",SUMIF('Dummy Table'!B$39:B$42,Tournament!T46,'Dummy Table'!G$39:G$42)) -> 0 - 0 | AC46: =SUMIF('Dummy Table'!B$39:B$42,Tournament!T46,'Dummy Table'!I$39:I$42) -> 0 | AJ46: =IF(SUM('Dummy Table'!AM$39:AM$42)>0,IF(ISNA(VLOOKUP(4,'Dummy Table'!AM$39:AN$42,2,FALSE)),"",VLOOKUP(4,'Dummy Table'!AM$39:AN$42,2,FALSE)),"") -> Iran
D47: 34 | E47: A | F47: =G47 -> 41813.875 | G47: ='Countries and Timezone'!R35 -> 41813.875 | H47: =N14 -> Croatia | J47: =IF(OFFSET('Group Stages'!$J$13,2*$D47-1,0)<>"",OFFSET('Group Stages'!$J$13,2*$D47-1,0),"") | K47: - | L47: =IF(OFFSET('Group Stages'!$J$13,2*$D47,0)<>"",OFFSET('Group Stages'!$J$13,2*$D47,0),"") | N47: =H15 -> Mexico
...

Sheet Countries and Timezone
I2: 1 | J2: Addis Ababa | K2: 6 | L2: 0.25 | M2: =VLOOKUP(Tournament!G4,'Countries and Timezone'!J2:K145,2,FALSE) -> 4 | N2: =VLOOKUP(Tournament!G4,'Countries and Timezone'!J2:L145,3,FALSE) -> 0.16666667 | O2: 1 | P2: =Q2 -> 41802.708 | Q2: 41802.708 | R2: =IF(M$2>0,Q2+N$2,Q2-N$2) -> 41802.875
I3: 2 | J3: Adelaide | K3: 12.5 | L3: 0.52083333 | O3: 2 | P3: =Q3 -> 41803.542 | Q3: 41803.542 | R3: =IF(M$2>0,Q3+N$2,Q3-N$2) -> 41803.708
I4: 3 | J4: Aden | K4: 6 | L4: 0.25 | O4: 3 | P4: =Q4 -> 41803.667 | Q4: 41803.667 | R4: =IF(M$2>0,Q4+N$2,Q4-N$2) -> 41803.833
I5: 4 | J5: Algiers | K5: 4 | L5: 0.16666667 | O5: 4 | P5: =Q5 -> 41803.792 | Q5: 41803.792 | R5: =IF(M$2>0,Q5+N$2,Q5-N$2) -> 41803.958
I6: 5 | J6: Almaty | K6: 9 | L6: 0.375 | O6: 5 | P6: =Q6 -> 41804.542 | Q6: 41804.542 | R6: =IF(M$2>0,Q6+N$2,Q6-N$2) -> 41804.708
C7: ='Dummy Table'!B4 -> Brazil | I7: 6 | J7: Amman | K7: 6 | L7: 0.25 | O7: 6 | P7: =Q7 -> 41804.917 | Q7: 41804.917 | R7: =IF(M$2>0,Q7+N$2,Q7-N$2) -> 41805.083 | AG7: Brazil | AH7: Brazil | AI7: South Africa
C8: ='Dummy Table'!B5 -> Croatia | I8: 7 | J8: Amsterdam | K8: 5 | L8: 0.20833333 | O8: 7 | P8: =Q8 -> 41804.667 | Q8: 41804.667 | R8: =IF(M$2>0,Q8+N$2,Q8-N$2) -> 41804.833 | AG8: Croatia | AH8: Croatia | AI8: Mexico
C9: ='Dummy Table'!B6 -> Mexico | I9: 8 | J9: Anadyr | K9: 16 | L9: 0.66666667 | O9: 8 | P9: =Q9 -> 41804.792 | Q9: 41804.792 | R9: =IF(M$2>0,Q9+N$2,Q9-N$2) -> 41804.958 | AG9: Mexico | AH9: Mexico | AI9: Uruguay
C10: ='Dummy Table'!B7 -> Cameroon | I10: 9 | J10: Anchorage | K10: -5 | L10: 0.20833333 | O10: 9 | P10: =Q10 -> 41805.542 | Q10: 41805.542 | R10: =IF(M$2>0,Q10+N$2,Q10-N$2) -> 41805.708 | AG10: Cameroon | AH10: Cameroon | AI10: France
C11: ='Dummy Table'!B11 -> Spain | I11: 10 | J11: Ankara | K11: 6 | L11: 0.25 | O11: 10 | P11: =Q11 -> 41805.667 | Q11: 41805.667 | R11: =IF(M$2>0,Q11+N$2,Q11-N$2) -> 41805.833 | AG11: Spain | AH11: Spain | AI11: Argentina
C12: ='Dummy Table'!B12 -> Netherlands | I12: 11 | J12: Antananarivo | K12: 6 | L12: 0.25 | O12: 11 | P12: =Q12 -> 41805.792 | Q12: 41805.792 | R12: =IF(M$2>0,Q12+N$2,Q12-N$2) -> 41805.958 | AG12: Netherlands | AH12: Netherlands | AI12: Nigeria
C13: ='Dummy Table'!B13 -> Chile | I13: 12 | J13: Asuncion | K13: -1 | L13: 0.041666667 | O13: 12 | P13: =Q13 -> 41806.667 | Q13: 41806.667 | R13: =IF(M$2>0,Q13+N$2,Q13-N$2) -> 41806.833 | AG13: Chile | AH13: Chile | AI13: South Korea
C14: ='Dummy Table'!B14 -> Australia | I14: 13 | J14: Athens | K14: 6 | L14: 0.25 | O14: 13 | P14: =Q14 -> 41806.542 | Q14: 41806.542 | R14: =IF(M$2>0,Q14+N$2,Q14-N$2) -> 41806.708 | AG14: Australia | AH14: Australia | AI14: Greece
C15: ='Dummy Table'!B18 -> Colombia | I15: 14 | J15: Atlanta | K15: -1 | L15: 0.041666667 | O15: 14 | P15: =Q15 -> 41806.792 | Q15: 41806.792 | R15: =IF(M$2>0,Q15+N$2,Q15-N$2) -> 41806.958 | AG15: Colombia | AH15: Colombia | AI15: England
C16: ='Dummy Table'!B19 -> Greece | I16: 15 | J16: Auckland | K16: 15 | L16: 0.625 | O16: 15 | P16: =Q16 -> 41807.542 | Q16: 41807.542 | R16: =IF(M$2>0,Q16+N$2,Q16-N$2) -> 41807.708 | AG16: Greece | AH16: Greece | AI16: USA
C17: ='Dummy Table'!B20 -> Ivory Coast | I17: 16 | J17: Baghdad | K17: 6 | L17: 0.25 | O17: 16 | P17: =Q17 -> 41807.792 | Q17: 41807.792 | R17: =IF(M$2>0,Q17+N$2,Q17-N$2) -> 41807.958 | AG17: Ivory Coast | AH17: Ivory Coast | AI17: Algeria
C18: ='Dummy Table'!B21 -> Japan | I18: 17 | J18: Bangkok | K18: 10 | L18: 0.41666667 | O18: 17 | P18: =Q18 -> 41807.667 | Q18: 41807.667 | R18: =IF(M$2>0,Q18+N$2,Q18-N$2) -> 41807.833 | AG18: Japan | AH18: Japan | AI18: Slovenia
C19: ='Dummy Table'!B25 -> Uruguay | I19: 18 | J19: Barcelona | K19: 5 | L19: 0.20833333 | O19: 18 | P19: =Q19 -> 41808.792 | Q19: 41808.792 | R19: =IF(M$2>0,Q19+N$2,Q19-N$2) -> 41808.958 | AG19: Uruguay | AH19: Uruguay | AI19: Germany
C20: ='Dummy Table'!B26 -> Costa Rica | I20: 19 | J20: Beijing | K20: 11 | L20: 0.45833333 | O20: 19 | P20: =Q20 -> 41808.667 | Q20: 41808.667 | R20: =IF(M$2>0,Q20+N$2,Q20-N$2) -> 41808.833 | AG20: Costa Rica | AH20: Costa Rica | AI20: Australia
C21: ='Dummy Table'!B27 -> England | I21: 20 | J21: Beirut | K21: 6 | L21: 0.25 | O21: 20 | P21: =Q21 -> 41808.542 | Q21: 41808.542 | R21: =IF(M$2>0,Q21+N$2,Q21-N$2) -> 41808.708 | AG21: England | AH21: England | AI21: Serbia
C22: ='Dummy Table'!B28 -> Italy | I22: 21 | J22: Belgrade | K22: 5 | L22: 0.20833333 | O22: 21 | P22: =Q22 -> 41809.542 | Q22: 41809.542 | R22: =IF(M$2>0,Q22+N$2,Q22-N$2) -> 41809.708 | AG22: Italy | AH22: Italy | AI22: Ghana
C23: ='Dummy Table'!B32 -> Switzerland | I23: 22 | J23: Berlin | K23: 5 | L23: 0.20833333 | O23: 22 | P23: =Q23 -> 41809.792 | Q23: 41809.792 | R23: =IF(M$2>0,Q23+N$2,Q23-N$2) -> 41809.958 | AG23: Switzerland | AH23: Switzerland | AI23: Netherlands
C24: ='Dummy Table'!B33 -> Ecuador | I24: 23 | J24: Bogota | K24: -2 | L24: 0.083333333 | O24: 23 | P24: =Q24 -> 41809.667 | Q24: 41809.667 | R24: =IF(M$2>0,Q24+N$2,Q24-N$2) -> 41809.833 | AG24: Ecuador | AH24: Ecuador | AI24: Denmark
C25: ='Dummy Table'!B34 -> France | I25: 24 | J25: Boston | K25: -1 | L25: 0.041666667 | O25: 24 | P25: =Q25 -> 41810.542 | Q25: 41810.542 | R25: =IF(M$2>0,Q25+N$2,Q25-N$2) -> 41810.708 | AG25: France | AH25: France | AI25: Japan
C26: ='Dummy Table'!B35 -> Honduras | I26: 25 | J26: Brasilia | K26: 0 | L26: 0 | O26: 25 | P26: =Q26 -> 41810.667 | Q26: 41810.667 | R26: =IF(M$2>0,Q26+N$2,Q26-N$2) -> 41810.833 | AG26: Honduras | AH26: Honduras | AI26: Cameroon
