Workbook
Name ChartofAccounts: 'Chart of Accounts'!$B$5:$B$103
Name ChartofAccountsTable: 'Chart of Accounts'!$B$5:$C$103

Sheet Chart of Accounts
B2: CHART OF ACCOUNTS
B4: Account # | C4: Account Name | E4: This spreadsheet is part of Accounting System for Merchandise/Service Company
B5: 1000 | C5: ASSETS
B6: 1100 | C6: Current Assets
B7: 1110 | C7: CASH - Petty Cash | E7: PURCHASE PRO VERSION
B8: 1120 | C8: CASH - Operating Account | E8: ◉ FULLY EDITABLE
B9: 1130 | C9: Central Bank | E9: ◉ AVAILABLE IN EXCEL
E10: AND GOOGLE SHEETS
B11: 1200 | C11: RECEIVABLES | E11: ◉ 30 DAYS MONEY BACK
B12: 1250 | C12: Account Receivables | E12: GUARANTEE
E13: ◉ ONE TIME PAYMENT
B14: 1300 | C14: INVENTORIES | E14: ◉ INSTANT DOWNLOAD
B15: 1310 | C15: Product Inventory | E15: * Lite version of complete spreadsheet is available in journalSHEET.com site
B16: 1360 | C16: Office Inventory
B18: 1400 | C18: PREPAID EXPENSES and OTHER CURRENT ASSETS
B19: 1410 | C19: PREPAID - Insurance
B20: 1420 | C20: PREPAID - Rent
B22: 1500 | C22: FIXED ASSETS
B23: 1510 | C23: PPE - Computer Equipment
B24: 1520 | C24: PPE - Machinery and Equipment
B25: 1530 | C25: PPE - Furniture and Fixtures
B26: 1540 | C26: PPE - Vehicles
B27: 1550 | C27: PPE - Leasehold Improvements
B28: 1560 | C28: PPE - Buildings and Lands
B30: 1600 | C30: ACCUMULATED DEPRECIATION and AMORTIZATION
... B103: 8200 | C103: EXP - Bank Charges

Sheet Cash Flow - Indirect
C4: CASH FLOW STATEMENT - INDIRECT METHOD
C5: For the Year Ended MM/DD/YYYY
B7: Checklist
A8: 0 | C8: CoA | D8: Account Name
A9: =IF(D9<>"",A8+1,A8) -> 1 | B9: v | D9: CASH FLOWS FROM OPERATING ACTIVITIES
A10: =IF(D10<>"",A9+1,A9) -> 2 | B10: t | D10: Net Income | F10: 2162.75
A11: =IF(D11<>"",A10+1,A10) -> 3 | B11: t | D11: Adjustment to Net Income
A12: =IF(D12<>"",A11+1,A11) -> 4 | C12: 1620 | D12: =IF(C12<>"",VLOOKUP(C12,ChartofAccountsTable,2,FALSE),"") -> ACCUM DEPR - Machinery and Equipment | E12: 6.25
A13: =IF(D13<>"",A12+1,A12) -> 5 | C13: 1640 | D13: =IF(C13<>"",VLOOKUP(C13,ChartofAccountsTable,2,FALSE),"") -> ACCUM DEPR - Vehicles | E13: 50
A14: =IF(D14<>"",A13+1,A13) -> 5 | D14: =IF(C14<>"",VLOOKUP(C14,ChartofAccountsTable,2,FALSE),"")
A15: =IF(D15<>"",A14+1,A14) -> 5 | D15: =IF(C15<>"",VLOOKUP(C15,ChartofAccountsTable,2,FALSE),"")
A16: =IF(D16<>"",A15+1,A15) -> 5 | D16: =IF(C16<>"",VLOOKUP(C16,ChartofAccountsTable,2,FALSE),"")
A17: =IF(D17<>"",A16+1,A16) -> 5 | D17: =IF(C17<>"",VLOOKUP(C17,ChartofAccountsTable,2,FALSE),"")
A18: =IF(D18<>"",A17+1,A17) -> 5 | D18: =IF(C18<>"",VLOOKUP(C18,ChartofAccountsTable,2,FALSE),"")
A19: =IF(D19<>"",A18+1,A18) -> 5 | D19: =IF(C19<>"",VLOOKUP(C19,ChartofAccountsTable,2,FALSE),"")
A20: =IF(D20<>"",A19+1,A19) -> 5 | D20: =IF(C20<>"",VLOOKUP(C20,ChartofAccountsTable,2,FALSE),"")
A21: =IF(D21<>"",A20+1,A20) -> 5 | D21: =IF(C21<>"",VLOOKUP(C21,ChartofAccountsTable,2,FALSE),"")
A22: =IF(D22<>"",A21+1,A21) -> 5 | D22: =IF(C22<>"",VLOOKUP(C22,ChartofAccountsTable,2,FALSE),"")
A23: =IF(D23<>"",A22+1,A22) -> 5 | D23: =IF(C23<>"",VLOOKUP(C23,ChartofAccountsTable,2,FALSE),"")
A24: =IF(D24<>"",A23+1,A23) -> 5 | D24: =IF(C24<>"",VLOOKUP(C24,ChartofAccountsTable,2,FALSE),"")
A25: =IF(D25<>"",A24+1,A24) -> 5 | D25: =IF(C25<>"",VLOOKUP(C25,ChartofAccountsTable,2,FALSE),"")
A26: =IF(D26<>"",A25+1,A25) -> 5 | D26: =IF(C26<>"",VLOOKUP(C26,ChartofAccountsTable,2,FALSE),"")
A27: =IF(D27<>"",A26+1,A26) -> 6 | B27: t | D27: Total Adjustment to Net Income | F27: =SUM(E12:E26) -> 56.25
A28: =IF(D28<>"",A27+1,A27) -> 7 | B28: t | D28: Increase (Decrease)
A29: =IF(D29<>"",A28+1,A28) -> 8 | C29: 1250 | D29: =IF(C29<>"",VLOOKUP(C29,ChartofAccountsTable,2,FALSE),"") -> Account Receivables | E29: -3422.35
A30: =IF(D30<>"",A29+1,A29) -> 9 | C30: 1310 | D30: =IF(C30<>"",VLOOKUP(C30,ChartofAccountsTable,2,FALSE),"") -> Product Inventory | E30: 615.9
A31: =IF(D31<>"",A30+1,A30) -> 10 | C31: 1360 | D31: =IF(C31<>"",VLOOKUP(C31,ChartofAccountsTable,2,FALSE),"") -> Office Inventory | E31: 9
A32: =IF(D32<>"",A31+1,A31) -> 11 | C32: 1410 | D32: =IF(C32<>"",VLOOKUP(C32,ChartofAccountsTable,2,FALSE),"") -> PREPAID - Insurance | E32: 25
A33: =IF(D33<>"",A32+1,A32) -> 12 | C33: 1420 | D33: =IF(C33<>"",VLOOKUP(C33,ChartofAccountsTable,2,FALSE),"") -> PREPAID - Rent | E33: 50
A34: =IF(D34<>"",A33+1,A33) -> 12 | D34: =IF(C34<>"",VLOOKUP(C34,ChartofAccountsTable,2,FALSE),"")
A35: =IF(D35<>"",A34+1,A34) -> 12 | D35: =IF(C35<>"",VLOOKUP(C35,ChartofAccountsTable,2,FALSE),"")
A36: =IF(D36<>"",A35+1,A35) -> 12 | D36: =IF(C36<>"",VLOOKUP(C36,ChartofAccountsTable,2,FALSE),"")
A37: =IF(D37<>"",A36+1,A36) -> 12 | D37: =IF(C37<>"",VLOOKUP(C37,ChartofAccountsTable,2,FALSE),"")
A38: =IF(D38<>"",A37+1,A37) -> 12 | D38: =IF(C38<>"",VLOOKUP(C38,ChartofAccountsTable,2,FALSE),"")
A39: =IF(D39<>"",A38+1,A38) -> 12 | D39: =IF(C39<>"",VLOOKUP(C39,ChartofAccountsTable,2,FALSE),"")
A40: =IF(D40<>"",A39+1,A39) -> 12 | D40: =IF(C40<>"",VLOOKUP(C40,ChartofAccountsTable,2,FALSE),"")
A41: =IF(D41<>"",A40+1,A40) -> 12 | D41: =IF(C41<>"",VLOOKUP(C41,ChartofAccountsTable,2,FALSE),"")
A42: =IF(D42<>"",A41+1,A41) -> 12 | D42: =IF(C42<>"",VLOOKUP(C42,ChartofAccountsTable,2,FALSE),"")
A43: =IF(D43<>"",A42+1,A42) -> 12 | D43: =IF(C43<>"",VLOOKUP(C43,ChartofAccountsTable,2,FALSE),"")
A44: =IF(D44<>"",A43+1,A43) -> 13 | B44: t | D44: Total Increase (Decrease) | F44: =SUM(E29:E43) -> -2722.45
...

Sheet CF Report - Indirect 1
D5: JOURNALSHEET.COM
D6: CASH FLOW STATEMENT
D7: ='Cash Flow - Indirect'!C5 -> For the Year Ended MM/DD/YYYY
B9: 1 | C9: =IFERROR(VLOOKUP(B9,'Cash Flow - Indirect'!$A$9:$F$120,2,FALSE),"") -> v | D9: =IFERROR(IF(C9<>"v",REPT(" ",4)&VLOOKUP(B9,'Cash Flow - Indirect'!$A$9:$F$120,4,FALSE),UPPER(VLOOKUP(B9,'Cash Flow - Indirect'!$A$9:$F$120,4,FALSE))),"") -> CASH FLOWS FROM OPERATING ACTIVITIES | E9: =IFERROR(IF(OR(C9=0,C9="pa",C9="p"),VLOOKUP(B9,'Cash Flow - Indirect'!$A$9:$F$120,5,FALSE),""),"") | F9: =IFERROR(IF(OR(C9="r",C9="t"),VLOOKUP(B9,'Cash Flow - Indirect'!$A$9:$F$120,6,FALSE),""),"")
B10: 2 | C10: =IFERROR(VLOOKUP(B10,'Cash Flow - Indirect'!$A$9:$F$120,2,FALSE),"") -> t | D10: =IFERROR(IF(C10<>"v",REPT(" ",4)&VLOOKUP(B10,'Cash Flow - Indirect'!$A$9:$F$120,4,FALSE),UPPER(VLOOKUP(B10,'Cash Flow - Indirect'!$A$9:$F$120,4,FALSE))),"") -> Net Income | E10: =IFERROR(IF(OR(C10=0,C10="pa",C10="p"),VLOOKUP(B10,'Cash Flow - Indirect'!$A$9:$F$120,5,FALSE),""),"") | F10: =IFERROR(IF(OR(C10="r",C10="t"),VLOOKUP(B10,'Cash Flow - Indirect'!$A$9:$F$120,6,FALSE),""),"") -> 2162.75
B11: 3 | C11: =IFERROR(VLOOKUP(B11,'Cash Flow - Indirect'!$A$9:$F$120,2,FALSE),"") -> t | D11: =IFERROR(IF(C11<>"v",REPT(" ",4)&VLOOKUP(B11,'Cash Flow - Indirect'!$A$9:$F$120,4,FALSE),UPPER(VLOOKUP(B11,'Cash Flow - Indirect'!$A$9:$F$120,4,FALSE))),"") -> Adjustment to Net Income | E11: =IFERROR(IF(OR(C11=0,C11="pa",C11="p"),VLOOKUP(B11,'Cash Flow - Indirect'!$A$9:$F$120,5,FALSE),""),"") | F11: =IFERROR(IF(OR(C11="r",C11="t"),VLOOKUP(B11,'Cash Flow - Indirect'!$A$9:$F$120,6,FALSE),""),"") -> 0
B12: 4 | C12: =IFERROR(VLOOKUP(B12,'Cash Flow - Indirect'!$A$9:$F$120,2,FALSE),"") -> 0 | D12: =IFERROR(IF(C12<>"v",REPT(" ",4)&VLOOKUP(B12,'Cash Flow - Indirect'!$A$9:$F$120,4,FALSE),UPPER(VLOOKUP(B12,'Cash Flow - Indirect'!$A$9:$F$120,4,FALSE))),"") -> ACCUM DEPR - Machinery and Equipment | E12: =IFERROR(IF(OR(C12=0,C12="pa",C12="p"),VLOOKUP(B12,'Cash Flow - Indirect'!$A$9:$F$120,5,FALSE),""),"") -> 6.25 | F12: =IFERROR(IF(OR(C12="r",C12="t"),VLOOKUP(B12,'Cash Flow - Indirect'!$A$9:$F$120,6,FALSE),""),"")
B13: 5 | C13: =IFERROR(VLOOKUP(B13,'Cash Flow - Indirect'!$A$9:$F$120,2,FALSE),"") -> 0 | D13: =IFERROR(IF(C13<>"v",REPT(" ",4)&VLOOKUP(B13,'Cash Flow - Indirect'!$A$9:$F$120,4,FALSE),UPPER(VLOOKUP(B13,'Cash Flow - Indirect'!$A$9:$F$120,4,FALSE))),"") -> ACCUM DEPR - Vehicles | E13: =IFERROR(IF(OR(C13=0,C13="pa",C13="p"),VLOOKUP(B13,'Cash Flow - Indirect'!$A$9:$F$120,5,FALSE),""),"") -> 50 | F13: =IFERROR(IF(OR(C13="r",C13="t"),VLOOKUP(B13,'Cash Flow - Indirect'!$A$9:$F$120,6,FALSE),""),"")
B14: 6 | C14: =IFERROR(VLOOKUP(B14,'Cash Flow - Indirect'!$A$9:$F$120,2,FALSE),"") -> t | D14: =IFERROR(IF(C14<>"v",REPT(" ",4)&VLOOKUP(B14,'Cash Flow - Indirect'!$A$9:$F$120,4,FALSE),UPPER(VLOOKUP(B14,'Cash Flow - Indirect'!$A$9:$F$120,4,FALSE))),"") -> Total Adjustment to Net Income | E14: =IFERROR(IF(OR(C14=0,C14="pa",C14="p"),VLOOKUP(B14,'Cash Flow - Indirect'!$A$9:$F$120,5,FALSE),""),"") | F14: =IFERROR(IF(OR(C14="r",C14="t"),VLOOKUP(B14,'Cash Flow - Indirect'!$A$9:$F$120,6,FALSE),""),"") -> 56.25
B15: 7 | C15: =IFERROR(VLOOKUP(B15,'Cash Flow - Indirect'!$A$9:$F$120,2,FALSE),"") -> t | D15: =IFERROR(IF(C15<>"v",REPT(" ",4)&VLOOKUP(B15,'Cash Flow - Indirect'!$A$9:$F$120,4,FALSE),UPPER(VLOOKUP(B15,'Cash Flow - Indirect'!$A$9:$F$120,4,FALSE))),"") -> Increase (Decrease) | E15: =IFERROR(IF(OR(C15=0,C15="pa",C15="p"),VLOOKUP(B15,'Cash Flow - Indirect'!$A$9:$F$120,5,FALSE),""),"") | F15: =IFERROR(IF(OR(C15="r",C15="t"),VLOOKUP(B15,'Cash Flow - Indirect'!$A$9:$F$120,6,FALSE),""),"") -> 0
B16: 8 | C16: =IFERROR(VLOOKUP(B16,'Cash Flow - Indirect'!$A$9:$F$120,2,FALSE),"") -> 0 | D16: =IFERROR(IF(C16<>"v",REPT(" ",4)&VLOOKUP(B16,'Cash Flow - Indirect'!$A$9:$F$120,4,FALSE),UPPER(VLOOKUP(B16,'Cash Flow - Indirect'!$A$9:$F$120,4,FALSE))),"") -> Account Receivables | E16: =IFERROR(IF(OR(C16=0,C16="pa",C16="p"),VLOOKUP(B16,'Cash Flow - Indirect'!$A$9:$F$120,5,FALSE),""),"") -> -3422.35 | F16: =IFERROR(IF(OR(C16="r",C16="t"),VLOOKUP(B16,'Cash Flow - Indirect'!$A$9:$F$120,6,FALSE),""),"")
B17: 9 | C17: =IFERROR(VLOOKUP(B17,'Cash Flow - Indirect'!$A$9:$F$120,2,FALSE),"") -> 0 | D17: =IFERROR(IF(C17<>"v",REPT(" ",4)&VLOOKUP(B17,'Cash Flow - Indirect'!$A$9:$F$120,4,FALSE),UPPER(VLOOKUP(B17,'Cash Flow - Indirect'!$A$9:$F$120,4,FALSE))),"") -> Product Inventory | E17: =IFERROR(IF(OR(C17=0,C17="pa",C17="p"),VLOOKUP(B17,'Cash Flow - Indirect'!$A$9:$F$120,5,FALSE),""),"") -> 615.9 | F17: =IFERROR(IF(OR(C17="r",C17="t"),VLOOKUP(B17,'Cash Flow - Indirect'!$A$9:$F$120,6,FALSE),""),"")
B18: 10 | C18: =IFERROR(VLOOKUP(B18,'Cash Flow - Indirect'!$A$9:$F$120,2,FALSE),"") -> 0 | D18: =IFERROR(IF(C18<>"v",REPT(" ",4)&VLOOKUP(B18,'Cash Flow - Indirect'!$A$9:$F$120,4,FALSE),UPPER(VLOOKUP(B18,'Cash Flow - Indirect'!$A$9:$F$120,4,FALSE))),"") -> Office Inventory | E18: =IFERROR(IF(OR(C18=0,C18="pa",C18="p"),VLOOKUP(B18,'Cash Flow - Indirect'!$A$9:$F$120,5,FALSE),""),"") -> 9 | F18: =IFERROR(IF(OR(C18="r",C18="t"),VLOOKUP(B18,'Cash Flow - Indirect'!$A$9:$F$120,6,FALSE),""),"")
B19: 11 | C19: =IFERROR(VLOOKUP(B19,'Cash Flow - Indirect'!$A$9:$F$120,2,FALSE),"") -> 0 | D19: =IFERROR(IF(C19<>"v",REPT(" ",4)&VLOOKUP(B19,'Cash Flow - Indirect'!$A$9:$F$120,4,FALSE),UPPER(VLOOKUP(B19,'Cash Flow - Indirect'!$A$9:$F$120,4,FALSE))),"") -> PREPAID - Insurance | E19: =IFERROR(IF(OR(C19=0,C19="pa",C19="p"),VLOOKUP(B19,'Cash Flow - Indirect'!$A$9:$F$120,5,FALSE),""),"") -> 25 | F19: =IFERROR(IF(OR(C19="r",C19="t"),VLOOKUP(B19,'Cash Flow - Indirect'!$A$9:$F$120,6,FALSE),""),"")
B20: 12 | C20: =IFERROR(VLOOKUP(B20,'Cash Flow - Indirect'!$A$9:$F$120,2,FALSE),"") -> 0 | D20: =IFERROR(IF(C20<>"v",REPT(" ",4)&VLOOKUP(B20,'Cash Flow - Indirect'!$A$9:$F$120,4,FALSE),UPPER(VLOOKUP(B20,'Cash Flow - Indirect'!$A$9:$F$120,4,FALSE))),"") -> PREPAID - Rent | E20: =IFERROR(IF(OR(C20=0,C20="pa",C20="p"),VLOOKUP(B20,'Cash Flow - Indirect'!$A$9:$F$120,5,FALSE),""),"") -> 50 | F20: =IFERROR(IF(OR(C20="r",C20="t"),VLOOKUP(B20,'Cash Flow - Indirect'!$A$9:$F$120,6,FALSE),""),"")
... B96: 88 | C96: =IFERROR(VLOOKUP(B96,'Cash Flow - Indirect'!$A$9:$F$120,2,FALSE),"") | D96: =IFERROR(IF(C96<>"v",REPT(" ",4)&VLOOKUP(B96,'Cash Flow - Indirect'!$A$9:$F$120,4,FALSE),UPPER(VLOOKUP(B96,'Cash Flow - Indirect'!$A$9:$F$120,4,FALSE))),"") | E96: =IFERROR(IF(OR(C96=0,C96="pa",C96="p"),VLOOKUP(B96,'Cash Flow - Indirect'!$A$9:$F$120,5,FALSE),""),"") | F96: =IFERROR(IF(OR(C96="r",C96="t"),VLOOKUP(B96,'Cash Flow - Indirect'!$A$9:$F$120,6,FALSE),""),"")

Sheet CF Report - Indirect 2
B5: JOURNALSHEET.COM
B6: CASH FLOW STATEMENT
B7: ='CF Report - Indirect 1'!D7 -> For the Year Ended MM/DD/YYYY
B9: CASH FLOWS FROM OPERATING ACTIVITIES
B10: Net Income | D10: 2162.75
B11: Adjustment to Net Income
B12: ACCUM DEPR - Machinery and Equipment | C12: 6.25
B13: ACCUM DEPR - Vehicles | C13: 50
B14: Total Adjustment to Net Income | D14: =SUM(C12:C13) -> 56.25
B15: Increase (Decrease)
B16: Account Receivables | C16: -3422.35
B17: Inventory | C17: 615.9
B18: Office Supplies | C18: 9
B19: PREPAID - Insurance | C19: 25
B20: PREPAID - Rent | C20: 50
B21: Total Increase (Decrease) | D21: =SUM(C16:C20) -> -2722.45
B22: NET CASH PROVIDED (USED) BY OPERATING ACTIVITIES | D22: =D10+D14+D21 -> -503.45
B24: CASH FLOWS FROM INVESTING ACTIVITIES
B25: Purchase of Assets
B26: PPE - Computer Equipment | C26: -400
B27: PPE - Vehicles | C27: 0
B28: Total Purchase of Assets | D28: -400
B29: NET CASH PROVIDED (USED) BY INVESTING ACTIVITIES | D29: =D28 -> -400
B31: CASH FLOWS FROM FINANCING ACTIVITIES
B32: Cash Receipts
B33: VAT - Output | C33: 613.1
B34: Bank XYZ | C34: 0
B35: Owner's Capital | C35: 2500
B36: Total Cash Receipts | D36: =SUM(C33:C35) -> 3113.1
B37: Cash Paid
B38: A/P - Trade | C38: 826.85
B39: VAT - Input | C39: -248.35
B40: Total Cash Paid For | D40: =SUM(C38:C39) -> 578.5
B41: NET CASH PROVIDED (USED) BY FINANCING ACTIVITIES | D41: =D36-D40 -> 2534.6
B43: Net Increase (Decrease) in Cash | D43: =D22+D29+D41 -> 1631.15
B44: Cash at Beginning of Period | D44: 2427.5
B45: Cash at End of Period | D45: =D44+D43 -> 4058.65

Sheet PRO Version
C3: LITE version | E3: PRO version
D4: Service Company | E4: Merchandise Company | F4: Manufacturing Company
B5: Price
B6: Price
B7: EXCEL version
B8: ▶ Product Page | D8: XL Service Company System | E8: XL Merchandise Company System | F8: XL Manufacturing Company System
B9: ▶ Single User | C9: ✘ | D9: USD 24.99 | E9: USD 29.99 | F9: USD 34.99
B10: ▶ Multi User | C10: ✔ | D10: USD 44.99 | E10: USD 49.99 | F10: USD 54.99
B11: GOOGLE SHEETS version
B12: ▶ Product Page | D12: GS Service Company System | E12: GS Merchandise Company System | F12: GS Manufacturing Company System
B13: ▶ Single User | C13: ✘ | D13: USD 29.99 | E13: USD 34.99 | F13: USD 39.99
B14: ▶ Multi User | C14: ✘ | D14: USD 49.99 | E14: USD 54.99 | F14: USD 59.99
B15: Modules
B16: Menu | C16: ✔ | D16: ✔ | E16: ✔ | F16: ✔
B17: Company Data | C17: ✔ | D17: ✔ | E17: ✔ | F17: ✔
C18: Start from 1st January only | D18: Start from any dates | E18: Start from any dates | F18: Start from any dates
B19: Chart Of Accounts | C19: ✔ | D19: ✔ | E19: ✔ | F19: ✔
C20: 100 lines | D20: 200 lines (expandable) | E20: 200 lines (expandable) | F20: 200 lines (expandable)
B21: Customer Data | C21: ✔ | D21: ✔ | E21: ✔ | F21: ✔
C22: 50 lines | D22: 200 lines (expandable) | E22: 200 lines (expandable) | F22: 200 lines (expandable)
B23: Supplier Data | C23: ✔ | D23: ✔ | E23: ✔ | F23: ✔
C24: 50 lines | D24: 200 lines (expandable) | E24: 200 lines (expandable) | F24: 200 lines (expandable)
B25: Inventory | C25: ✔ | D25: ✘ | E25: ✔ | F25: ✔
B26: Inventory | CoGS | C26: ✔ | D26: ✘ | E26: ✔ | F26: ✔
C27: fiscal year calculation only | E27: monthly/yearly calculation | F27: monthly/yearly calculation
B28: Inventory | Flow | C28: ✔ | D28: ✘ | E28: ✔ | F28: ✔
C29: 1000 lines | E29: 3500 lines (expandable) | F29: 3500 lines (expandable)
B30: Inventory | Raw Material | C30: ✘ | D30: ✘ | E30: ✘ | F30: ✔
F31: monthly/yearly calculation
B32: General Journal | C32: ✔ | D32: ✔ | E32: ✔ | F32: ✔
C33: 1000 lines | D33: 3500 lines (expandable) | E33: 3500 lines (expandable) | F33: 3500 lines (expandable)
B34: Cash Journal | C34: ✔ | D34: ✘ | E34: ✔ | F34: ✔
C35: 1000 lines | E35: 3500 lines (expandable) | F35: 3500 lines (expandable)
B36: Purchase Journal | C36: ✔ | D36: ✘ | E36: ✔ | F36: ✔
C37: 1000 lines | E37: 3500 lines (expandable) | F37: 3500 lines (expandable)
B38: Sales Journal | C38: ✔ | D38: ✘ | E38: ✔ | F38: ✔
C39: 1000 lines | E39: 3500 lines (expandable) | F39: 3500 lines (expandable)
B40: Adjusting Journal | C40: ✔ | D40: ✔ | E40: ✔ | F40: ✔
C41: 1000 lines | D41: 3500 lines (expandable) | E41: 3500 lines (expandable) | F41: 3500 lines (expandable)
B42: Closing Journal | C42: ✔ | D42: ✔ | E42: ✔ | F42: ✔
...
