Workbook
Name CurrentRound: Matches!$A$7
Name Donation: 'Player List'!$H$5
Name JackPot: 'Player List'!$H$7
Name KOTeam3: Matches!$F$99:$K$112
Name KOTeams: Matches!$F$83:$K$114
Name Players: 'Pick Board'!$A$6
Name Qualified: Matches!$B$99:$B$115
Name Round1: Matches!$O$8:$O$31
Name Round2: Matches!$O$32:$O$55
Name Round3: Matches!$O$56:$O$79
Name Round4: Matches!$O$83:$O$98
Name Round5: Matches!$O$99:$O$106
Name Round6: Matches!$O$107:$O$110
Name Round7: Matches!$O$111:$O$112
Name Round8: Matches!$O$113:$O$114
Name TeamParticipant: Setup!$D$6:$D$53

Sheet Setup
B3: TOURNAMENT SETUP | J3: Click here Purchase A Fully Editable Spreadsheet for 100 Players. Compatible with Google Sheets
B5: G | C5: No | D5: Team | E5: FIFA Rank | F5: Fair Play Points | J5: ● You may translate team name to your language in column D. Retype other texts in Game Board worksheet to translate it to your language
B6: A | C6: 1 | D6: Mexico | E6: 16 | J6: World Cup 2026 Group Tiebreaker Policy
B7: A | C7: 2 | D7: South Africa | E7: 60
B8: A | C8: 3 | D8: Korea Republic | E8: 22 | L8: OFFICIAL | M8: GAME ACTUAL RESULTS | N8: GAME PREDICTION RESULTS
B9: A | C9: 4 | D9: Czechia | E9: 43 | J9: The ranking of teams in the group stage is determined as follows:
B10: B | C10: =C6 -> 1 | D10: Canada | E10: 29 | J10: 1 | K10: Points obtained in all group matches; | L10: v | M10: v | N10: v
B11: B | C11: =C7 -> 2 | D11: Bosnia and Herzegovina | E11: 71 | J11: 2 | K11: Points obtained in the matches played between the teams in question; | L11: v | M11: v | N11: v
B12: B | C12: =C8 -> 3 | D12: Qatar | E12: 56 | J12: 3 | K12: Goal difference in the matches played between the teams in question; | L12: v | M12: v | N12: v
B13: B | C13: =C9 -> 4 | D13: Switzerland | E13: 18 | J13: 4 | K13: Number of goals scored in the matches played between the teams in question; | L13: v | M13: v | N13: v
B14: C | C14: =C10 -> 1 | D14: Brazil | E14: 5 | J14: 5 | K14: If, after having applied criteria 1 to 3, teams still have an equal ranking, criteria 2 to 4 are reapplied exclusively to the matches between the teams who are still level to determine their final rankings.[a] If this procedure does not lead to a decision, criteria 6 to 9 will apply; | L14: v | M14: v | N14: v
B15: C | C15: =C11 -> 2 | D15: Morocco | E15: 8 | J15: 6 | K15: Goal difference in all group matches; | L15: v | M15: v | N15: v
B16: C | C16: =C12 -> 3 | D16: Haiti | E16: 83 | J16: 7 | K16: Number of goals scored in all group matches; | L16: v | M16: v | N16: v
B17: C | C17: =C13 -> 4 | D17: Scotland | E17: 38 | J17: 8 | K17: Fair play points in all group matches | L17: v | M17: v* | N17: x***
B18: D | C18: =C14 -> 1 | D18: USA | E18: 15 | K18: > Yellow card: −1 point;
B19: D | C19: =C15 -> 2 | D19: Paraguay | E19: 40 | K19: > Indirect red card (second yellow card): −3 points;
B20: D | C20: =C16 -> 3 | D20: Australia | E20: 27 | K20: > Direct red card: −4 points;
B21: D | C21: =C17 -> 4 | D21: Türkiye | E21: 25 | K21: > Yellow card and direct red card: −5 points;
B22: E | C22: =C18 -> 1 | D22: Germany | E22: 10 | J22: 9 | K22: Better position in the most recent FIFA Men's World Ranking; | L22: v | M22: x** | N22: x****
B23: E | C23: =C19 -> 2 | D23: Curacao | E23: 81
B24: E | C24: =C20 -> 3 | D24: Cote D'Voire | E24: 37 | J24: NOTES
B25: E | C25: =C21 -> 4 | D25: Ecuador | E25: 23 | J25: * | K25: FILL FAIR PLAY POINTS between the teams concerned in COLUMN D to differentiate their standings (example, -1 and -4). If it is leaved empty, they will be ranked based on FIFA World Ranking points
B26: F | C26: =C22 -> 1 | D26: Netherlands | E26: 7 | J26: ** | K26: If, it has to go through tie-breaker No 9 to decide group winner and runner up, you change it by overwriting it in Player Game Board table in cell F60:I67
B27: F | C27: =C23 -> 2 | D27: Japan | E27: 19 | J27: *** | K27: There is no needs to differentiate team standings based on fair play points. Players can adjust their prediction scores to get one team rank upper than the other.
B28: F | C28: =C24 -> 3 | D28: Sweden | E28: 42 | J28: **** | K28: There is no needs to differentiate team standings based on drawing of lots. Players can adjust their prediction scores to get one team rank upper than the other.
B29: F | C29: =C25 -> 4 | D29: Tunisia | E29: 47 | K29: FIFA World Men's Ranking
B30: G | C30: =C26 -> 1 | D30: Belgium | E30: 9
B31: G | C31: =C27 -> 2 | D31: Egypt | E31: 31 | J31: Game Regulation
B32: G | C32: =C28 -> 3 | D32: Iran | E32: 20 | J32: ☑ | K32: Player can pick ONE TEAM that will win the match in each round
B33: G | C33: =C29 -> 4 | D33: New Zealand | E33: 85 | J33: ☑ | K33: Player CAN'T PICK SIMILAR TEAM in each rounds
B34: H | C34: =C30 -> 1 | D34: Spain | E34: 1 | J34: ☑ | K34: Player will be ELIMINATED if their CHOSEN TEAMS ARE NOT WINNING
B35: H | C35: =C31 -> 2 | D35: Cabo Verde | E35: 67 | J35: ☑ | K35: Game winner is THE LAST PLAYER who stay alive in this game
B36: H | C36: =C32 -> 3 | D36: Saudi Arabia | E36: 61
B37: H | C37: =C33 -> 4 | D37: Uruguay | E37: 17 | J37: How to Use
B38: I | C38: =C34 -> 1 | D38: France | E38: 3 | J38: 1 | K38: Type Player Name
B39: I | C39: =C35 -> 2 | D39: Senegal | E39: 12 | K39: Go to Pick Board Worksheet
B40: I | C40: =C36 -> 3 | D40: Iraq | E40: 58 | K40: > Type player name in player name column. Player name must be unique. Differentiate player name if there are similar player name (add 1, A or others)
B41: I | C41: =C37 -> 4 | D41: Norway | E41: 32
B42: J | C42: =C38 -> 1 | D42: Argentina | E42: 2 | J42: 2 | K42: Pick Team Winner
B43: J | C43: =C39 -> 2 | D43: Algeria | E43: 28 | K43: Go to Pick Board Worksheet
B44: J | C44: =C40 -> 3 | D44: Austria | E44: 24 | K44: > Pick team in each rounds. Pick wisely, player can't pick same team twice. Try to start from last round (Final Round).
B45: J | C45: =C41 -> 4 | D45: Jordan | E45: 64 | J45: 3 | K45: Type Actual Results
B46: K | C46: =C42 -> 1 | D46: Portugal | E46: 6 | K46: Go to Matches Worksheet
B47: K | C47: =C43 -> 2 | D47: DR Congo | E47: 48 | K47: > Put scores in score box tables. Team winner will be revealed automatically in Round Winner column
B48: K | C48: =C44 -> 3 | D48: Uzbekistan | E48: 52 | K48: > Pairing matches in KO rounds will be placed automatically. Just in case the order of top 4 best 3rd-place team are different, rewrite team names in Round of 16 brackets
B49: K | C49: =C45 -> 4 | D49: Colombia | E49: 14
B50: L | C50: =C46 -> 1 | D50: England | E50: 4 | K50: > Team winner in KO rounds is based on Full Time + Penalty Shoot Out results
B51: L | C51: =C47 -> 2 | D51: Croatia | E51: 11 | J51: 4 | K51: Track LAST MAN STANDING results
B52: L | C52: =C48 -> 3 | D52: Ghana | E52: 72 | K52: Go to Race Board worksheets
B53: L | C53: =C49 -> 4 | D53: Panama | E53: 33 | K53: > Track last man standing race sorted by player entry order (Race Board) and by higher correct predictions (Leader Board)
J54: 5 | K54: Crown LAST MAN STANDING WINNER
K55: > The winner is the last man standing. If there are more than one winner, then all of them are winners unless you set different policy
J57: How to Use
J58: ● | K58: You may edit team name (in paid version only). All team names will be adjusted accordingly. But remember to edit it before you pick your player's pick.
J59: ● | K59: To unprotect particular sheet, go to Review tab menu > Unprotect Sheet

Sheet Dummy
B1: 0 | AH1: Rule
K2: dicek lagi ranking dunia ditaruh di A | V2: table rank 1 | AH2: 1 | AI2: 2 | AJ2: 3 | AK2: 5 | AL2: 6 | AM2: 9 | AP2: table rank 2 | BJ2: table rank 3 | CD2: table rank 4 | DA2: =INDEX(Matches!E8:E115,MATCH(105,Matches!C8:C115,0),0) -> 0 | DB2: GS | DC2: GA
D3: W | E3: D | F3: L | G3: GS | H3: GA | I3: Diff | J3: Points | K3: Rank | L3: rankall points | N3: rerank | Q3: rank 1 | R3: rank 2 | S3: rank 3 | T3: rank 4 | V3: Team | W3: W | X3: D | Y3: L | Z3: GS | AA3: GA | AB3: Diff | AC3: P | AD3: Sdif | AE3: SGS | AF3: Koef | AG3: Pts | AH3: R | AI3: GD | AJ3: GS | AK3: Sdiff | AL3: SGS | AM3: Koef | AN3: FR | AP3: Team | AQ3: W | AR3: D | AS3: L | AT3: GS | AU3: GA | AV3: Diff | AW3: P | AX3: Sdif | AY3: SGS | AZ3: Koef | BA3: Pts | BB3: R | BC3: GD | BD3: GS | BE3: Sdiff | BF3: SGS | BG3: Koef | BH3: FR | BJ3: Team | BK3: W | BL3: D | BM3: L | BN3: GS | BO3: GA | BP3: Diff | BQ3: P | BR3: Sdif | BS3: SGS | BT3: Koef | BU3: Pts | BV3: R | BW3: GD | BX3: GS | BY3: Sdif | BZ3: SGS | CA3: Koef | CB3: FR | CD3: Team | CE3: W | CF3: D | CG3: L | CH3: GS | CI3: GA | CJ3: Diff | CK3: P | CL3: Sdif | CM3: SGS | CN3: Koef | CO3: Pts | CP3: R | CQ3: GD | CR3: GS | CS3: Sdif | CT3: SGS | CU3: Koef | CV3: FR | CZ3: 1 | DA3: =Matches!F8 -> Mexico | DB3: =IF(DA2<>"",IF(AND(Matches!H8<>"",Matches!I8<>""),Matches!H8,0),"") -> 0 | DC3: =IF(DA2<>"",IF(AND(Matches!H8<>"",Matches!I8<>""),Matches!I8,0),"") -> 0 | DD3: =Matches!K8 -> South Africa | DE3: =IF(AND(Matches!H8<>"",Matches!I8<>""),IF(DB3>DC3,"W",IF(DB3=DC3,"D","L")),"") | DF3: =IF(DE3<>"",IF(DE3="W","L",IF(DE3="L","W","D")),"")
A4: =Setup!E6+100 -> 116 | B4: =VLOOKUP(C4,CX4:CY8,2,FALSE) -> 1 | C4: =Setup!D6 -> Mexico | D4: =SUMPRODUCT((DA3:DA105=C4)*(DE3:DE105="W"))+SUMPRODUCT((DD3:DD105=C4)*(DF3:DF105="W")) -> 0 | E4: =SUMPRODUCT((DA3:DA105=C4)*(DE3:DE105="D"))+SUMPRODUCT((DD3:DD105=C4)*(DF3:DF105="D")) -> 0 | F4: =SUMPRODUCT((DA3:DA105=C4)*(DE3:DE105="L"))+SUMPRODUCT((DD3:DD105=C4)*(DF3:DF105="L")) -> 0 | G4: =SUMIF(DA3:DA123,C4,DB3:DB123)+SUMIF(DD3:DD123,C4,DC3:DC123) -> 0 | H4: =SUMIF(DD3:DD123,C4,DB3:DB123)+SUMIF(DA3:DA123,C4,DC3:DC123) -> 0 | I4: =G4-H4+1000 -> 1000 | J4: =D4*3+E4*1 -> 0 | K4: =IF(Setup!F6<>"",Setup!F6,-A4) -> -116 | L4: =IF(COUNTIF(J4:J8,4)<>4,RANK(J4,J4:J8),J83) -> 1 | N4: =SUMPRODUCT((L4:L7=L4)*(K4:K7<K4))+L4 -> 4 | O4: =INDEX(C4:C8,MATCH(1,N4:N8,0),0) -> South Africa | P4: =INDEX(L4:L8,MATCH(O4,C4:C8,0),0) -> 1 | Q4: =IF(P5=1,O4,"") -> South Africa | R4: =IF(P6=2,O5,"") | S4: =IF(P7=3,O6,"") | T4: =IF(P8=4,O7,"") | V4: =IF(Q4<>"",Q4,"") -> South Africa | W4: =SUMPRODUCT((DA3:DA105=V4)*(DD3:DD105=V5)*(DE3:DE105="W"))+SUMPRODUCT((DA3:DA105=V4)*(DD3:DD105=V6)*(DE3:DE105="W"))+SUMPRODUCT((DA3:DA105=V4)*(DD3:DD105=V7)*(DE3:DE105="W"))+SUMPRODUCT((DA3:DA105=V4)*(DD3:DD105=V8)*(DE3:DE105="W"))+SUMPRODUCT((DA3:DA105=V5)*(DD3:DD105=V4)*(DF3:DF105="W"))+SUMPRODUCT((DA3:DA105=V6)*(DD3:DD105=V4)*(DF3:DF105="W"))+SUMPRODUCT((DA3:DA105=V7)*(DD3:DD105=V4)*(DF3:DF105="W"))+SUMPRODUCT((DA3:DA105=V8)*(DD3:DD105=V4)*(DF3:DF105="W")) -> 0 | X4: =SUMPRODUCT((DA3:DA105=V4)*(DD3:DD105=V5)*(DE3:DE105="D"))+SUMPRODUCT((DA3:DA105=V4)*(DD3:DD105=V6)*(DE3:DE105="D"))+SUMPRODUCT((DA3:DA105=V4)*(DD3:DD105=V7)*(DE3:DE105="D"))+SUMPRODUCT((DA3:DA105=V4)*(DD3:DD105=V8)*(DE3:DE105="D"))+SUMPRODUCT((DA3:DA105=V5)*(DD3:DD105=V4)*(DE3:DE105="D"))+SUMPRODUCT((DA3:DA105=V6)*(DD3:DD105=V4)*(DE3:DE105="D"))+SUMPRODUCT((DA3:DA105=V7)*(DD3:DD105=V4)*(DE3:DE105="D"))+SUMPRODUCT((DA3:DA105=V8)*(DD3:DD105=V4)*(DE3:DE105="D")) -> 0 | Y4: =SUMPRODUCT((DA3:DA105=V4)*(DD3:DD105=V5)*(DE3:DE105="L"))+SUMPRODUCT((DA3:DA105=V4)*(DD3:DD105=V6)*(DE3:DE105="L"))+SUMPRODUCT((DA3:DA105=V4)*(DD3:DD105=V7)*(DE3:DE105="L"))+SUMPRODUCT((DA3:DA105=V4)*(DD3:DD105=V8)*(DE3:DE105="L"))+SUMPRODUCT((DA3:DA105=V5)*(DD3:DD105=V4)*(DF3:DF105="L"))+SUMPRODUCT((DA3:DA105=V6)*(DD3:DD105=V4)*(DF3:DF105="L"))+SUMPRODUCT((DA3:DA105=V7)*(DD3:DD105=V4)*(DF3:DF105="L"))+SUMPRODUCT((DA3:DA105=V8)*(DD3:DD105=V4)*(DF3:DF105="L")) -> 0 | Z4: =SUMPRODUCT((DA3:DA105=V4)*(DD3:DD105=V5)*DB3:DB105)+SUMPRODUCT((DA3:DA105=V4)*(DD3:DD105=V6)*DB3:DB105)+SUMPRODUCT((DA3:DA105=V4)*(DD3:DD105=V7)*DB3:DB105)+SUMPRODUCT((DA3:DA105=V4)*(DD3:DD105=V8)*DB3:DB105)+SUMPRODUCT((DA3:DA105=V5)*(DD3:DD105=V4)*DC3:DC105)+SUMPRODUCT((DA3:DA105=V6)*(DD3:DD105=V4)*DC3:DC105)+SUMPRODUCT((DA3:DA105=V7)*(DD3:DD105=V4)*DC3:DC105)+SUMPRODUCT((DA3:DA105=V8)*(DD3:DD105=V4)*DC3:DC105) -> 0 | AA4: =SUMPRODUCT((DA3:DA105=V4)*(DD3:DD105=V5)*DC3:DC105)+SUMPRODUCT((DA3:DA105=V4)*(DD3:DD105=V6)*DC3:DC105)+SUMPRODUCT((DA3:DA105=V4)*(DD3:DD105=V7)*DC3:DC105)+SUMPRODUCT((DA3:DA105=V4)*(DD3:DD105=V8)*DC3:DC105)+SUMPRODUCT((DA3:DA105=V5)*(DD3:DD105=V4)*DB3:DB105)+SUMPRODUCT((DA3:DA105=V6)*(DD3:DD105=V4)*DB3:DB105)+SUMPRODUCT((DA3:DA105=V7)*(DD3:DD105=V4)*DB3:DB105)+SUMPRODUCT((DA3:DA105=V8)*(DD3:DD105=V4)*DB3:DB105) -> 0 | AB4: =Z4-AA4+1000 -> 1000 | AC4: =IF(V4<>"",W4*3+X4*1,"") -> 0 | AD4: =IF(V4<>"",VLOOKUP(V4,C4:I52,7,FALSE),"") -> 1000 | AE4: =IF(V4<>"",VLOOKUP(V4,C4:I52,5,FALSE),"") -> 0 | AF4: =IF(V4<>"",VLOOKUP(V4,C4:K52,9,FALSE),"") -> -160 | AG4: =AC4 -> 0 | AH4: =IF(V4<>"",RANK(AG4,AG4:AG8),"") -> 1 | AI4: =IF(V4<>"",SUMPRODUCT((AG4:AG8=AG4)*(AB4:AB8>AB4)),"") -> 0 | AJ4: =IF(V4<>"",SUMPRODUCT((AG4:AG8=AG4)*(AB4:AB8=AB4)*(Z4:Z8>Z4)),"") -> 0 | AK4: =IF(V4<>"",SUMPRODUCT((AG4:AG8=AG4)*(AB4:AB8=AB4)*(Z4:Z8=Z4)*(AD4:AD8>AD4)),"") -> 0 | AL4: =IF(V4<>"",SUMPRODUCT((AG4:AG8=AG4)*(AB4:AB8=AB4)*(Z4:Z8=Z4)*(AD4:AD8=AD4)*(AE4:AE8>AE4)),"") -> 0 | AM4: =IF(V4<>"",SUMPRODUCT((AG4:AG8=AG4)*(AB4:AB8=AB4)*(Z4:Z8=Z4)*(AD4:AD8=AD4)*(AE4:AE8=AE4)*(AF4:AF8>AF4)),"") -> 3 | AN4: =IF(V4<>"",IF(SUM(X4:X7)=12,SUM(AH4:AM4),IF(AN83<>"",IF(U82=3,AN83,AN83+U82),SUM(AH4:AM4))),"") -> 4 | AO4: =IF(V4<>"",INDEX(V4:V8,MATCH(1,AN4:AN8,0),0),"") -> Mexico | CX4: =IF(AO4<>"",AO4,O4) -> Mexico | CY4: 1 | CZ4: 2 | DA4: =Matches!F9 -> Korea Republic | DB4: =IF(DA2<>"",IF(AND(Matches!H9<>"",Matches!I9<>""),Matches!H9,0),"") -> 0 | DC4: =IF(DA2<>"",IF(AND(Matches!H9<>"",Matches!I9<>""),Matches!I9,0),"") -> 0 | DD4: =Matches!K9 -> Czechia | DE4: =IF(AND(Matches!H9<>"",Matches!I9<>""),IF(DB4>DC4,"W",IF(DB4=DC4,"D","L")),"") | DF4: =IF(DE4<>"",IF(DE4="W","L",IF(DE4="L","W","D")),"")
A5: =Setup!E7+100 -> 160 | B5: =VLOOKUP(C5,CX4:CY8,2,FALSE) -> 4 | C5: =Setup!D7 -> South Africa | D5: =SUMPRODUCT((DA3:DA105=C5)*(DE3:DE105="W"))+SUMPRODUCT((DD3:DD105=C5)*(DF3:DF105="W")) -> 0 | E5: =SUMPRODUCT((DA3:DA105=C5)*(DE3:DE105="D"))+SUMPRODUCT((DD3:DD105=C5)*(DF3:DF105="D")) -> 0 | F5: =SUMPRODUCT((DA3:DA105=C5)*(DE3:DE105="L"))+SUMPRODUCT((DD3:DD105=C5)*(DF3:DF105="L")) -> 0 | G5: =SUMIF(DA3:DA123,C5,DB3:DB123)+SUMIF(DD3:DD123,C5,DC3:DC123) -> 0 | H5: =SUMIF(DD3:DD123,C5,DB3:DB123)+SUMIF(DA3:DA123,C5,DC3:DC123) -> 0 | I5: =G5-H5+1000 -> 1000 | J5: =D5*3+E5*1 -> 0 | K5: =IF(Setup!F7<>"",Setup!F7,-A5) -> -160 | L5: =IF(COUNTIF(J4:J8,4)<>4,RANK(J5,J4:J8),J84) -> 1 | N5: =SUMPRODUCT((L4:L7=L5)*(K4:K7<K5))+L5 -> 1 | O5: =INDEX(C4:C8,MATCH(2,N4:N8,0),0) -> Czechia | P5: =INDEX(L4:L8,MATCH(O5,C4:C8,0),0) -> 1 | Q5: =IF(Q4<>"",O5,"") -> Czechia | R5: =IF(R4<>"",O6,"") | S5: =IF(S4<>"",O7,"") | T5: =IF(T4<>"",O8,"") | V5: =IF(Q5<>"",Q5,"") -> Czechia | W5: =SUMPRODUCT((DA3:DA105=V5)*(DD3:DD105=V6)*(DE3:DE105="W"))+SUMPRODUCT((DA3:DA105=V5)*(DD3:DD105=V7)*(DE3:DE105="W"))+SUMPRODUCT((DA3:DA105=V5)*(DD3:DD105=V8)*(DE3:DE105="W"))+SUMPRODUCT((DA3:DA105=V5)*(DD3:DD105=V4)*(DE3:DE105="W"))+SUMPRODUCT((DA3:DA105=V6)*(DD3:DD105=V5)*(DF3:DF105="W"))+SUMPRODUCT((DA3:DA105=V7)*(DD3:DD105=V5)*(DF3:DF105="W"))+SUMPRODUCT((DA3:DA105=V8)*(DD3:DD105=V5)*(DF3:DF105="W"))+SUMPRODUCT((DA3:DA105=V4)*(DD3:DD105=V5)*(DF3:DF105="W")) -> 0 | X5: =SUMPRODUCT((DA3:DA105=V5)*(DD3:DD105=V6)*(DE3:DE105="D"))+SUMPRODUCT((DA3:DA105=V5)*(DD3:DD105=V7)*(DE3:DE105="D"))+SUMPRODUCT((DA3:DA105=V5)*(DD3:DD105=V8)*(DE3:DE105="D"))+SUMPRODUCT((DA3:DA105=V5)*(DD3:DD105=V4)*(DE3:DE105="D"))+SUMPRODUCT((DA3:DA105=V6)*(DD3:DD105=V5)*(DE3:DE105="D"))+SUMPRODUCT((DA3:DA105=V7)*(DD3:DD105=V5)*(DE3:DE105="D"))+SUMPRODUCT((DA3:DA105=V8)*(DD3:DD105=V5)*(DE3:DE105="D"))+SUMPRODUCT((DA3:DA105=V4)*(DD3:DD105=V5)*(DE3:DE105="D")) -> 0 | Y5: =SUMPRODUCT((DA3:DA105=V5)*(DD3:DD105=V6)*(DE3:DE105="L"))+SUMPRODUCT((DA3:DA105=V5)*(DD3:DD105=V7)*(DE3:DE105="L"))+SUMPRODUCT((DA3:DA105=V5)*(DD3:DD105=V8)*(DE3:DE105="L"))+SUMPRODUCT((DA3:DA105=V5)*(DD3:DD105=V4)*(DE3:DE105="L"))+SUMPRODUCT((DA3:DA105=V6)*(DD3:DD105=V5)*(DF3:DF105="L"))+SUMPRODUCT((DA3:DA105=V7)*(DD3:DD105=V5)*(DF3:DF105="L"))+SUMPRODUCT((DA3:DA105=V8)*(DD3:DD105=V5)*(DF3:DF105="L"))+SUMPRODUCT((DA3:DA105=V4)*(DD3:DD105=V5)*(DF3:DF105="L")) -> 0 | Z5: =SUMPRODUCT((DA3:DA105=V5)*(DD3:DD105=V6)*DB3:DB105)+SUMPRODUCT((DA3:DA105=V5)*(DD3:DD105=V7)*DB3:DB105)+SUMPRODUCT((DA3:DA105=V5)*(DD3:DD105=V8)*DB3:DB105)+SUMPRODUCT((DA3:DA105=V5)*(DD3:DD105=V4)*DB3:DB105)+SUMPRODUCT((DA3:DA105=V6)*(DD3:DD105=V5)*DC3:DC105)+SUMPRODUCT((DA3:DA105=V7)*(DD3:DD105=V5)*DC3:DC105)+SUMPRODUCT((DA3:DA105=V8)*(DD3:DD105=V5)*DC3:DC105)+SUMPRODUCT((DA3:DA105=V4)*(DD3:DD105=V5)*DC3:DC105) -> 0 | AA5: =SUMPRODUCT((DA3:DA105=V5)*(DD3:DD105=V6)*DC3:DC105)+SUMPRODUCT((DA3:DA105=V5)*(DD3:DD105=V7)*DC3:DC105)+SUMPRODUCT((DA3:DA105=V5)*(DD3:DD105=V8)*DC3:DC105)+SUMPRODUCT((DA3:DA105=V5)*(DD3:DD105=V4)*DC3:DC105)+SUMPRODUCT((DA3:DA105=V6)*(DD3:DD105=V5)*DB3:DB105)+SUMPRODUCT((DA3:DA105=V7)*(DD3:DD105=V5)*DB3:DB105)+SUMPRODUCT((DA3:DA105=V8)*(DD3:DD105=V5)*DB3:DB105)+SUMPRODUCT((DA3:DA105=V4)*(DD3:DD105=V5)*DB3:DB105) -> 0 | AB5: =Z5-AA5+1000 -> 1000 | AC5: =IF(V5<>"",W5*3+X5*1,"") -> 0 | AD5: =IF(V5<>"",VLOOKUP(V5,C4:I52,7,FALSE),"") -> 1000 | AE5: =IF(V5<>"",VLOOKUP(V5,C4:I52,5,FALSE),"") -> 0 | AF5: =IF(V5<>"",VLOOKUP(V5,C4:K52,9,FALSE),"") -> -143 | AG5: =AC5 -> 0 | AH5: =IF(V5<>"",RANK(AG5,AG4:AG8),"") -> 1 | AI5: =IF(V5<>"",SUMPRODUCT((AG4:AG8=AG5)*(AB4:AB8>AB5)),"") -> 0 | AJ5: =IF(V5<>"",SUMPRODUCT((AG4:AG8=AG5)*(AB4:AB8=AB5)*(Z4:Z8>Z5)),"") -> 0 | AK5: =IF(V5<>"",SUMPRODUCT((AG4:AG8=AG5)*(AB4:AB8=AB5)*(Z4:Z8=Z5)*(AD4:AD8>AD5)),"") -> 0 | AL5: =IF(V5<>"",SUMPRODUCT((AG4:AG8=AG5)*(AB4:AB8=AB5)*(Z4:Z8=Z5)*(AD4:AD8=AD5)*(AE4:AE8>AE5)),"") -> 0 | AM5: =IF(V5<>"",SUMPRODUCT((AG4:AG8=AG5)*(AB4:AB8=AB5)*(Z4:Z8=Z5)*(AD4:AD8=AD5)*(AE4:AE8=AE5)*(AF4:AF8>AF5)),"") -> 2 | AN5: =IF(V5<>"",IF(SUM(X4:X7)=12,SUM(AH5:AM5),IF(AN84<>"",IF(U82=3,AN84,AN84+U82),SUM(AH5:AM5))),"") -> 3 | AO5: =IF(V5<>"",INDEX(V4:V8,MATCH(2,AN4:AN8,0),0),"") -> Korea Republic | AP5: =IF(R4<>"",R4,"") | AQ5: =SUMPRODUCT((DA3:DA105=AP5)*(DD3:DD105=AP6)*(DE3:DE105="W"))+SUMPRODUCT((DA3:DA105=AP5)*(DD3:DD105=AP7)*(DE3:DE105="W"))+SUMPRODUCT((DA3:DA105=AP5)*(DD3:DD105=AP8)*(DE3:DE105="W"))+SUMPRODUCT((DA3:DA105=AP6)*(DD3:DD105=AP5)*(DF3:DF105="W"))+SUMPRODUCT((DA3:DA105=AP7)*(DD3:DD105=AP5)*(DF3:DF105="W"))+SUMPRODUCT((DA3:DA105=AP8)*(DD3:DD105=AP5)*(DF3:DF105="W")) -> 0 | AR5: =SUMPRODUCT((DA3:DA105=AP5)*(DD3:DD105=AP6)*(DE3:DE105="D"))+SUMPRODUCT((DA3:DA105=AP5)*(DD3:DD105=AP7)*(DE3:DE105="D"))+SUMPRODUCT((DA3:DA105=AP5)*(DD3:DD105=AP8)*(DE3:DE105="D"))+SUMPRODUCT((DA3:DA105=AP6)*(DD3:DD105=AP5)*(DE3:DE105="D"))+SUMPRODUCT((DA3:DA105=AP7)*(DD3:DD105=AP5)*(DE3:DE105="D"))+SUMPRODUCT((DA3:DA105=AP8)*(DD3:DD105=AP5)*(DE3:DE105="D")) -> 0 | AS5: =SUMPRODUCT((DA3:DA105=AP5)*(DD3:DD105=AP6)*(DE3:DE105="L"))+SUMPRODUCT((DA3:DA105=AP5)*(DD3:DD105=AP7)*(DE3:DE105="L"))+SUMPRODUCT((DA3:DA105=AP5)*(DD3:DD105=AP8)*(DE3:DE105="L"))+SUMPRODUCT((DA3:DA105=AP6)*(DD3:DD105=AP5)*(DF3:DF105="L"))+SUMPRODUCT((DA3:DA105=AP7)*(DD3:DD105=AP5)*(DF3:DF105="L"))+SUMPRODUCT((DA3:DA105=AP8)*(DD3:DD105=AP5)*(DF3:DF105="L")) -> 0 | AT5: =SUMPRODUCT((DA3:DA105=AP5)*(DD3:DD105=AP6)*DB3:DB105)+SUMPRODUCT((DA3:DA105=AP5)*(DD3:DD105=AP7)*DB3:DB105)+SUMPRODUCT((DA3:DA105=AP5)*(DD3:DD105=AP8)*DB3:DB105)+SUMPRODUCT((DA3:DA105=AP5)*(DD3:DD105=AP4)*DB3:DB105)+SUMPRODUCT((DA3:DA105=AP6)*(DD3:DD105=AP5)*DC3:DC105)+SUMPRODUCT((DA3:DA105=AP7)*(DD3:DD105=AP5)*DC3:DC105)+SUMPRODUCT((DA3:DA105=AP8)*(DD3:DD105=AP5)*DC3:DC105)+SUMPRODUCT((DA3:DA105=AP4)*(DD3:DD105=AP5)*DC3:DC105) -> 0 | AU5: =SUMPRODUCT((DA3:DA105=AP5)*(DD3:DD105=AP6)*DC3:DC105)+SUMPRODUCT((DA3:DA105=AP5)*(DD3:DD105=AP7)*DC3:DC105)+SUMPRODUCT((DA3:DA105=AP5)*(DD3:DD105=AP8)*DC3:DC105)+SUMPRODUCT((DA3:DA105=AP5)*(DD3:DD105=AP4)*DC3:DC105)+SUMPRODUCT((DA3:DA105=AP6)*(DD3:DD105=AP5)*DB3:DB105)+SUMPRODUCT((DA3:DA105=AP7)*(DD3:DD105=AP5)*DB3:DB105)+SUMPRODUCT((DA3:DA105=AP8)*(DD3:DD105=AP5)*DB3:DB105)+SUMPRODUCT((DA3:DA105=AP4)*(DD3:DD105=AP5)*DB3:DB105) -> 0 | AV5: =AT5-AU5+1000 -> 1000 | AW5: =IF(AP5<>"",AQ5*3+AR5*1,"") | AX5: =IF(AP5<>"",VLOOKUP(AP5,C4:I52,7,FALSE),"") | AY5: =IF(AP5<>"",VLOOKUP(AP5,C4:I52,5,FALSE),"") | AZ5: =IF(AP5<>"",VLOOKUP(AP5,C4:K52,9,FALSE),"") | BA5: =AW5 | BB5: =IF(AP5<>"",RANK(BA5,BA4:BA8),"") | BC5: =IF(AP5<>"",SUMPRODUCT((BA4:BA8=BA5)*(AV4:AV8>AV5)),"") | BD5: =IF(AP5<>"",SUMPRODUCT((BA4:BA8=BA5)*(AV4:AV8=AV5)*(AT4:AT8>AT5)),"") | BE5: =IF(AP5<>"",SUMPRODUCT((BA4:BA8=BA5)*(AV4:AV8=AV5)*(AT4:AT8=AT5)*(AX4:AX8>AX5)),"") | BF5: =IF(AP5<>"",SUMPRODUCT((BA4:BA8=BA5)*(AV4:AV8=AV5)*(AT4:AT8=AT5)*(AX4:AX8=AX5)*(AY4:AY8>AY5)),"") | BG5: =IF(AP5<>"",SUMPRODUCT((BA4:BA8=BA5)*(AV4:AV8=AV5)*(AT4:AT8=AT5)*(AX4:AX8=AX5)*(AY4:AY8=AY5)*(AZ4:AZ8>AZ5)),"") | BH5: =IF(AP5<>"",IF(BH84<>"",IF(AO82=3,BH84,BH84+AO82),SUM(BB5:BG5)+1),"") | BI5: =IF(AP5<>"",INDEX(AP5:AP8,MATCH(2,BH5:BH8,0),0),"") | CX5: =IF(BI5<>"",BI5,IF(AO5<>"",AO5,O5)) -> Korea Republic | CY5: 2 | CZ5: 3 | DA5: =Matches!F10 -> Canada | DB5: =IF(DA2<>"",IF(AND(Matches!H10<>"",Matches!I10<>""),Matches!H10,0),"") -> 0 | DC5: =IF(DA2<>"",IF(AND(Matches!H10<>"",Matches!I10<>""),Matches!I10,0),"") -> 0 | DD5: =Matches!K10 -> Bosnia and Herzegovina | DE5: =IF(AND(Matches!H10<>"",Matches!I10<>""),IF(DB5>DC5,"W",IF(DB5=DC5,"D","L")),"") | DF5: =IF(DE5<>"",IF(DE5="W","L",IF(DE5="L","W","D")),"")
A6: =Setup!E8+100 -> 122 | B6: =VLOOKUP(C6,CX4:CY8,2,FALSE) -> 2 | C6: =Setup!D8 -> Korea Republic | D6: =SUMPRODUCT((DA3:DA105=C6)*(DE3:DE105="W"))+SUMPRODUCT((DD3:DD105=C6)*(DF3:DF105="W")) -> 0 | E6: =SUMPRODUCT((DA3:DA105=C6)*(DE3:DE105="D"))+SUMPRODUCT((DD3:DD105=C6)*(DF3:DF105="D")) -> 0 | F6: =SUMPRODUCT((DA3:DA105=C6)*(DE3:DE105="L"))+SUMPRODUCT((DD3:DD105=C6)*(DF3:DF105="L")) -> 0 | G6: =SUMIF(DA3:DA123,C6,DB3:DB123)+SUMIF(DD3:DD123,C6,DC3:DC123) -> 0 | H6: =SUMIF(DD3:DD123,C6,DB3:DB123)+SUMIF(DA3:DA123,C6,DC3:DC123) -> 0 | I6: =G6-H6+1000 -> 1000 | J6: =D6*3+E6*1 -> 0 | K6: =IF(Setup!F8<>"",Setup!F8,-A6) -> -122 | L6: =IF(COUNTIF(J4:J8,4)<>4,RANK(J6,J4:J8),J85) -> 1 | N6: =SUMPRODUCT((L4:L7=L6)*(K4:K7<K6))+L6 -> 3 | O6: =INDEX(C4:C8,MATCH(3,N4:N8,0),0) -> Korea Republic | P6: =INDEX(L4:L8,MATCH(O6,C4:C8,0),0) -> 1 | Q6: =IF(AND(Q5<>"",P6=1),O6,"") -> Korea Republic | R6: =IF(AND(R5<>"",P7=2),O7,"") | S6: =IF(AND(S5<>"",P8=3),O8,"") | V6: =IF(Q6<>"",Q6,"") -> Korea Republic | W6: =SUMPRODUCT((DA3:DA105=V6)*(DD3:DD105=V7)*(DE3:DE105="W"))+SUMPRODUCT((DA3:DA105=V6)*(DD3:DD105=V8)*(DE3:DE105="W"))+SUMPRODUCT((DA3:DA105=V6)*(DD3:DD105=V4)*(DE3:DE105="W"))+SUMPRODUCT((DA3:DA105=V6)*(DD3:DD105=V5)*(DE3:DE105="W"))+SUMPRODUCT((DA3:DA105=V7)*(DD3:DD105=V6)*(DF3:DF105="W"))+SUMPRODUCT((DA3:DA105=V8)*(DD3:DD105=V6)*(DF3:DF105="W"))+SUMPRODUCT((DA3:DA105=V4)*(DD3:DD105=V6)*(DF3:DF105="W"))+SUMPRODUCT((DA3:DA105=V5)*(DD3:DD105=V6)*(DF3:DF105="W")) -> 0 | X6: =SUMPRODUCT((DA3:DA105=V6)*(DD3:DD105=V7)*(DE3:DE105="D"))+SUMPRODUCT((DA3:DA105=V6)*(DD3:DD105=V8)*(DE3:DE105="D"))+SUMPRODUCT((DA3:DA105=V6)*(DD3:DD105=V4)*(DE3:DE105="D"))+SUMPRODUCT((DA3:DA105=V6)*(DD3:DD105=V5)*(DE3:DE105="D"))+SUMPRODUCT((DA3:DA105=V7)*(DD3:DD105=V6)*(DE3:DE105="D"))+SUMPRODUCT((DA3:DA105=V8)*(DD3:DD105=V6)*(DE3:DE105="D"))+SUMPRODUCT((DA3:DA105=V4)*(DD3:DD105=V6)*(DE3:DE105="D"))+SUMPRODUCT((DA3:DA105=V5)*(DD3:DD105=V6)*(DE3:DE105="D")) -> 0 | Y6: =SUMPRODUCT((DA3:DA105=V6)*(DD3:DD105=V7)*(DE3:DE105="L"))+SUMPRODUCT((DA3:DA105=V6)*(DD3:DD105=V8)*(DE3:DE105="L"))+SUMPRODUCT((DA3:DA105=V6)*(DD3:DD105=V4)*(DE3:DE105="L"))+SUMPRODUCT((DA3:DA105=V6)*(DD3:DD105=V5)*(DE3:DE105="L"))+SUMPRODUCT((DA3:DA105=V7)*(DD3:DD105=V6)*(DF3:DF105="L"))+SUMPRODUCT((DA3:DA105=V8)*(DD3:DD105=V6)*(DF3:DF105="L"))+SUMPRODUCT((DA3:DA105=V4)*(DD3:DD105=V6)*(DF3:DF105="L"))+SUMPRODUCT((DA3:DA105=V5)*(DD3:DD105=V6)*(DF3:DF105="L")) -> 0 | Z6: =SUMPRODUCT((DA3:DA105=V6)*(DD3:DD105=V7)*DB3:DB105)+SUMPRODUCT((DA3:DA105=V6)*(DD3:DD105=V8)*DB3:DB105)+SUMPRODUCT((DA3:DA105=V6)*(DD3:DD105=V4)*DB3:DB105)+SUMPRODUCT((DA3:DA105=V6)*(DD3:DD105=V5)*DB3:DB105)+SUMPRODUCT((DA3:DA105=V7)*(DD3:DD105=V6)*DC3:DC105)+SUMPRODUCT((DA3:DA105=V8)*(DD3:DD105=V6)*DC3:DC105)+SUMPRODUCT((DA3:DA105=V4)*(DD3:DD105=V6)*DC3:DC105)+SUMPRODUCT((DA3:DA105=V5)*(DD3:DD105=V6)*DC3:DC105) -> 0 | AA6: =SUMPRODUCT((DA3:DA105=V6)*(DD3:DD105=V7)*DC3:DC105)+SUMPRODUCT((DA3:DA105=V6)*(DD3:DD105=V8)*DC3:DC105)+SUMPRODUCT((DA3:DA105=V6)*(DD3:DD105=V4)*DC3:DC105)+SUMPRODUCT((DA3:DA105=V6)*(DD3:DD105=V5)*DC3:DC105)+SUMPRODUCT((DA3:DA105=V7)*(DD3:DD105=V6)*DB3:DB105)+SUMPRODUCT((DA3:DA105=V8)*(DD3:DD105=V6)*DB3:DB105)+SUMPRODUCT((DA3:DA105=V4)*(DD3:DD105=V6)*DB3:DB105)+SUMPRODUCT((DA3:DA105=V5)*(DD3:DD105=V6)*DB3:DB105) -> 0 | AB6: =Z6-AA6+1000 -> 1000 | AC6: =IF(V6<>"",W6*3+X6*1,"") -> 0 | AD6: =IF(V6<>"",VLOOKUP(V6,C4:I52,7,FALSE),"") -> 1000 | AE6: =IF(V6<>"",VLOOKUP(V6,C4:I52,5,FALSE),"") -> 0 | AF6: =IF(V6<>"",VLOOKUP(V6,C4:K52,9,FALSE),"") -> -122 | AG6: =AC6 -> 0 | AH6: =IF(V6<>"",RANK(AG6,AG4:AG8),"") -> 1 | AI6: =IF(V6<>"",SUMPRODUCT((AG4:AG8=AG6)*(AB4:AB8>AB6)),"") -> 0 | AJ6: =IF(V6<>"",SUMPRODUCT((AG4:AG8=AG6)*(AB4:AB8=AB6)*(Z4:Z8>Z6)),"") -> 0 | AK6: =IF(V6<>"",SUMPRODUCT((AG4:AG8=AG6)*(AB4:AB8=AB6)*(Z4:Z8=Z6)*(AD4:AD8>AD6)),"") -> 0 | AL6: =IF(V6<>"",SUMPRODUCT((AG4:AG8=AG6)*(AB4:AB8=AB6)*(Z4:Z8=Z6)*(AD4:AD8=AD6)*(AE4:AE8>AE6)),"") -> 0 | AM6: =IF(V6<>"",SUMPRODUCT((AG4:AG8=AG6)*(AB4:AB8=AB6)*(Z4:Z8=Z6)*(AD4:AD8=AD6)*(AE4:AE8=AE6)*(AF4:AF8>AF6)),"") -> 1 | AN6: =IF(V6<>"",IF(SUM(X4:X7)=12,SUM(AH6:AM6),IF(AN85<>"",IF(U82=3,AN85,AN85+U82),SUM(AH6:AM6))),"") -> 2 | AO6: =IF(V6<>"",INDEX(V4:V8,MATCH(3,AN4:AN8,0),0),"") -> Czechia | AP6: =IF(R5<>"",R5,"") | AQ6: =SUMPRODUCT((DA3:DA105=AP6)*(DD3:DD105=AP7)*(DE3:DE105="W"))+SUMPRODUCT((DA3:DA105=AP6)*(DD3:DD105=AP8)*(DE3:DE105="W"))+SUMPRODUCT((DA3:DA105=AP6)*(DD3:DD105=AP5)*(DE3:DE105="W"))+SUMPRODUCT((DA3:DA105=AP7)*(DD3:DD105=AP6)*(DF3:DF105="W"))+SUMPRODUCT((DA3:DA105=AP8)*(DD3:DD105=AP6)*(DF3:DF105="W"))+SUMPRODUCT((DA3:DA105=AP5)*(DD3:DD105=AP6)*(DF3:DF105="W")) -> 0 | AR6: =SUMPRODUCT((DA3:DA105=AP6)*(DD3:DD105=AP7)*(DE3:DE105="D"))+SUMPRODUCT((DA3:DA105=AP6)*(DD3:DD105=AP8)*(DE3:DE105="D"))+SUMPRODUCT((DA3:DA105=AP6)*(DD3:DD105=AP5)*(DE3:DE105="D"))+SUMPRODUCT((DA3:DA105=AP7)*(DD3:DD105=AP6)*(DE3:DE105="D"))+SUMPRODUCT((DA3:DA105=AP8)*(DD3:DD105=AP6)*(DE3:DE105="D"))+SUMPRODUCT((DA3:DA105=AP5)*(DD3:DD105=AP6)*(DE3:DE105="D")) -> 0 | AS6: =SUMPRODUCT((DA3:DA105=AP6)*(DD3:DD105=AP7)*(DE3:DE105="L"))+SUMPRODUCT((DA3:DA105=AP6)*(DD3:DD105=AP8)*(DE3:DE105="L"))+SUMPRODUCT((DA3:DA105=AP6)*(DD3:DD105=AP5)*(DE3:DE105="L"))+SUMPRODUCT((DA3:DA105=AP7)*(DD3:DD105=AP6)*(DF3:DF105="L"))+SUMPRODUCT((DA3:DA105=AP8)*(DD3:DD105=AP6)*(DF3:DF105="L"))+SUMPRODUCT((DA3:DA105=AP5)*(DD3:DD105=AP6)*(DF3:DF105="L")) -> 0 | AT6: =SUMPRODUCT((DA3:DA105=AP6)*(DD3:DD105=AP7)*DB3:DB105)+SUMPRODUCT((DA3:DA105=AP6)*(DD3:DD105=AP8)*DB3:DB105)+SUMPRODUCT((DA3:DA105=AP6)*(DD3:DD105=AP4)*DB3:DB105)+SUMPRODUCT((DA3:DA105=AP6)*(DD3:DD105=AP5)*DB3:DB105)+SUMPRODUCT((DA3:DA105=AP7)*(DD3:DD105=AP6)*DC3:DC105)+SUMPRODUCT((DA3:DA105=AP8)*(DD3:DD105=AP6)*DC3:DC105)+SUMPRODUCT((DA3:DA105=AP4)*(DD3:DD105=AP6)*DC3:DC105)+SUMPRODUCT((DA3:DA105=AP5)*(DD3:DD105=AP6)*DC3:DC105) -> 0 | AU6: =SUMPRODUCT((DA3:DA105=AP6)*(DD3:DD105=AP7)*DC3:DC105)+SUMPRODUCT((DA3:DA105=AP6)*(DD3:DD105=AP8)*DC3:DC105)+SUMPRODUCT((DA3:DA105=AP6)*(DD3:DD105=AP4)*DC3:DC105)+SUMPRODUCT((DA3:DA105=AP6)*(DD3:DD105=AP5)*DC3:DC105)+SUMPRODUCT((DA3:DA105=AP7)*(DD3:DD105=AP6)*DB3:DB105)+SUMPRODUCT((DA3:DA105=AP8)*(DD3:DD105=AP6)*DB3:DB105)+SUMPRODUCT((DA3:DA105=AP4)*(DD3:DD105=AP6)*DB3:DB105)+SUMPRODUCT((DA3:DA105=AP5)*(DD3:DD105=AP6)*DB3:DB105) -> 0 | AV6: =AT6-AU6+1000 -> 1000 | AW6: =IF(AP6<>"",AQ6*3+AR6*1,"") | AX6: =IF(AP6<>"",VLOOKUP(AP6,C4:I52,7,FALSE),"") | AY6: =IF(AP6<>"",VLOOKUP(AP6,C4:I52,5,FALSE),"") | AZ6: =IF(AP6<>"",VLOOKUP(AP6,C4:K52,9,FALSE),"") | BA6: =AW6 | BB6: =IF(AP6<>"",RANK(BA6,BA4:BA8),"") | BC6: =IF(AP6<>"",SUMPRODUCT((BA4:BA8=BA6)*(AV4:AV8>AV6)),"") | BD6: =IF(AP6<>"",SUMPRODUCT((BA4:BA8=BA6)*(AV4:AV8=AV6)*(AT4:AT8>AT6)),"") | BE6: =IF(AP6<>"",SUMPRODUCT((BA4:BA8=BA6)*(AV4:AV8=AV6)*(AT4:AT8=AT6)*(AX4:AX8>AX6)),"") | BF6: =IF(AP6<>"",SUMPRODUCT((BA4:BA8=BA6)*(AV4:AV8=AV6)*(AT4:AT8=AT6)*(AX4:AX8=AX6)*(AY4:AY8>AY6)),"") | BG6: =IF(AP6<>"",SUMPRODUCT((BA4:BA8=BA6)*(AV4:AV8=AV6)*(AT4:AT8=AT6)*(AX4:AX8=AX6)*(AY4:AY8=AY6)*(AZ4:AZ8>AZ6)),"") | BH6: =IF(AP6<>"",IF(BH85<>"",IF(AO82=3,BH85,BH85+AO82),SUM(BB6:BG6)+1),"") | BI6: =IF(AP6<>"",INDEX(AP5:AP8,MATCH(3,BH5:BH8,0),0),"") | BJ6: =IF(S4<>"",S4,"") | BK6: =SUMPRODUCT((DA3:DA105=BJ6)*(DD3:DD105=BJ7)*(DE3:DE105="W"))+SUMPRODUCT((DA3:DA105=BJ6)*(DD3:DD105=BJ8)*(DE3:DE105="W"))+SUMPRODUCT((DA3:DA105=BJ6)*(DD3:DD105=BJ9)*(DE3:DE105="W"))+SUMPRODUCT((DA3:DA105=BJ7)*(DD3:DD105=BJ6)*(DF3:DF105="W"))+SUMPRODUCT((DA3:DA105=BJ8)*(DD3:DD105=BJ6)*(DF3:DF105="W"))+SUMPRODUCT((DA3:DA105=BJ9)*(DD3:DD105=BJ6)*(DF3:DF105="W")) -> 0 | BL6: =SUMPRODUCT((DA3:DA105=BJ6)*(DD3:DD105=BJ7)*(DE3:DE105="D"))+SUMPRODUCT((DA3:DA105=BJ6)*(DD3:DD105=BJ8)*(DE3:DE105="D"))+SUMPRODUCT((DA3:DA105=BJ6)*(DD3:DD105=BJ9)*(DE3:DE105="D"))+SUMPRODUCT((DA3:DA105=BJ7)*(DD3:DD105=BJ6)*(DE3:DE105="D"))+SUMPRODUCT((DA3:DA105=BJ8)*(DD3:DD105=BJ6)*(DE3:DE105="D"))+SUMPRODUCT((DA3:DA105=BJ9)*(DD3:DD105=BJ6)*(DE3:DE105="D")) -> 0 | BM6: =SUMPRODUCT((DA3:DA105=BJ6)*(DD3:DD105=BJ7)*(DE3:DE105="L"))+SUMPRODUCT((DA3:DA105=BJ6)*(DD3:DD105=BJ8)*(DE3:DE105="L"))+SUMPRODUCT((DA3:DA105=BJ6)*(DD3:DD105=BJ9)*(DE3:DE105="L"))+SUMPRODUCT((DA3:DA105=BJ7)*(DD3:DD105=BJ6)*(DF3:DF105="L"))+SUMPRODUCT((DA3:DA105=BJ8)*(DD3:DD105=BJ6)*(DF3:DF105="L"))+SUMPRODUCT((DA3:DA105=BJ9)*(DD3:DD105=BJ6)*(DF3:DF105="L")) -> 0 | BN6: =SUMPRODUCT((DA3:DA105=BJ6)*(DD3:DD105=BJ7)*DB3:DB105)+SUMPRODUCT((DA3:DA105=BJ6)*(DD3:DD105=BJ8)*DB3:DB105)+SUMPRODUCT((DA3:DA105=BJ6)*(DD3:DD105=BJ4)*DB3:DB105)+SUMPRODUCT((DA3:DA105=BJ6)*(DD3:DD105=BJ5)*DB3:DB105)+SUMPRODUCT((DA3:DA105=BJ7)*(DD3:DD105=BJ6)*DC3:DC105)+SUMPRODUCT((DA3:DA105=BJ8)*(DD3:DD105=BJ6)*DC3:DC105)+SUMPRODUCT((DA3:DA105=BJ4)*(DD3:DD105=BJ6)*DC3:DC105)+SUMPRODUCT((DA3:DA105=BJ5)*(DD3:DD105=BJ6)*DC3:DC105) -> 0 | BO6: =SUMPRODUCT((DA3:DA105=BJ6)*(DD3:DD105=BJ7)*DC3:DC105)+SUMPRODUCT((DA3:DA105=BJ6)*(DD3:DD105=BJ8)*DC3:DC105)+SUMPRODUCT((DA3:DA105=BJ6)*(DD3:DD105=BJ4)*DC3:DC105)+SUMPRODUCT((DA3:DA105=BJ6)*(DD3:DD105=BJ5)*DC3:DC105)+SUMPRODUCT((DA3:DA105=BJ7)*(DD3:DD105=BJ6)*DB3:DB105)+SUMPRODUCT((DA3:DA105=BJ8)*(DD3:DD105=BJ6)*DB3:DB105)+SUMPRODUCT((DA3:DA105=BJ4)*(DD3:DD105=BJ6)*DB3:DB105)+SUMPRODUCT((DA3:DA105=BJ5)*(DD3:DD105=BJ6)*DB3:DB105) -> 0 | BP6: =BN6-BO6+1000 -> 1000 | BQ6: =IF(BJ6<>"",BK6*3+BL6*1,"") | BR6: =IF(BJ6<>"",VLOOKUP(BJ6,C4:I52,7,FALSE),"") | BS6: =IF(BJ6<>"",VLOOKUP(BJ6,C4:I52,5,FALSE),"") | BT6: =IF(BJ6<>"",VLOOKUP(BJ6,C4:K52,9,FALSE),"") | BU6: =BQ6 | BV6: =IF(BJ6<>"",RANK(BU6,BU4:BU8),"") | BW6: =IF(BJ6<>"",SUMPRODUCT((BU4:BU8=BU6)*(BP4:BP8>BP6)),"") | BX6: =IF(BJ6<>"",SUMPRODUCT((BU4:BU8=BU6)*(BP4:BP8=BP6)*(BN4:BN8>BN6)),"") | BY6: =IF(BJ6<>"",SUMPRODUCT((BU4:BU8=BU6)*(BP4:BP8=BP6)*(BN4:BN8=BN6)*(BR4:BR8>BR6)),"") | BZ6: =IF(BJ6<>"",SUMPRODUCT((BU4:BU8=BU6)*(BP4:BP8=BP6)*(BN4:BN8=BN6)*(BR4:BR8=BR6)*(BS4:BS8>BS6)),"") | CA6: =IF(BJ6<>"",SUMPRODUCT((BU4:BU8=BU6)*(BP4:BP8=BP6)*(BN4:BN8=BN6)*(BR4:BR8=BR6)*(BS4:BS8=BS6)*(BT4:BT8>BT6)),"") | CB6: =IF(BJ6<>"",SUM(BV6:CA6)+2,"") | CC6: =IF(BJ6<>"",INDEX(BJ6:BJ8,MATCH(3,CB6:CB8,0),0),"") | CX6: =IF(CC6<>"",CC6,IF(BI6<>"",BI6,IF(AO6<>"",AO6,O6))) -> Czechia | CY6: 3 | CZ6: 4 | DA6: =Matches!F11 -> USA | DB6: =IF(DA2<>"",IF(AND(Matches!H11<>"",Matches!I11<>""),Matches!H11,0),"") -> 0 | DC6: =IF(DA2<>"",IF(AND(Matches!H11<>"",Matches!I11<>""),Matches!I11,0),"") -> 0 | DD6: =Matches!K11 -> Paraguay | DE6: =IF(AND(Matches!H11<>"",Matches!I11<>""),IF(DB6>DC6,"W",IF(DB6=DC6,"D","L")),"") | DF6: =IF(DE6<>"",IF(DE6="W","L",IF(DE6="L","W","D")),"")
A7: =Setup!E9+100 -> 143 | B7: =VLOOKUP(C7,CX4:CY8,2,FALSE) -> 3 | C7: =Setup!D9 -> Czechia | D7: =SUMPRODUCT((DA3:DA105=C7)*(DE3:DE105="W"))+SUMPRODUCT((DD3:DD105=C7)*(DF3:DF105="W")) -> 0 | E7: =SUMPRODUCT((DA3:DA105=C7)*(DE3:DE105="D"))+SUMPRODUCT((DD3:DD105=C7)*(DF3:DF105="D")) -> 0 | F7: =SUMPRODUCT((DA3:DA105=C7)*(DE3:DE105="L"))+SUMPRODUCT((DD3:DD105=C7)*(DF3:DF105="L")) -> 0 | G7: =SUMIF(DA3:DA123,C7,DB3:DB123)+SUMIF(DD3:DD123,C7,DC3:DC123) -> 0 | H7: =SUMIF(DD3:DD123,C7,DB3:DB123)+SUMIF(DA3:DA123,C7,DC3:DC123) -> 0 | I7: =G7-H7+1000 -> 1000 | J7: =D7*3+E7*1 -> 0 | K7: =IF(Setup!F9<>"",Setup!F9,-A7) -> -143 | L7: =IF(COUNTIF(J4:J8,4)<>4,RANK(J7,J4:J8),J86) -> 1 | N7: =SUMPRODUCT((L4:L7=L7)*(K4:K7<K7))+L7 -> 2 | O7: =INDEX(C4:C8,MATCH(4,N4:N8,0),0) -> Mexico | P7: =INDEX(L4:L8,MATCH(O7,C4:C8,0),0) -> 1 | Q7: =IF(AND(Q6<>"",P7=1),O7,"") -> Mexico | R7: =IF(AND(R6<>"",P8=2),O8,"") | V7: =IF(Q7<>"",Q7,"") -> Mexico | W7: =SUMPRODUCT((DA3:DA105=V7)*(DD3:DD105=V8)*(DE3:DE105="W"))+SUMPRODUCT((DA3:DA105=V7)*(DD3:DD105=V4)*(DE3:DE105="W"))+SUMPRODUCT((DA3:DA105=V7)*(DD3:DD105=V5)*(DE3:DE105="W"))+SUMPRODUCT((DA3:DA105=V7)*(DD3:DD105=V6)*(DE3:DE105="W"))+SUMPRODUCT((DA3:DA105=V8)*(DD3:DD105=V7)*(DF3:DF105="W"))+SUMPRODUCT((DA3:DA105=V4)*(DD3:DD105=V7)*(DF3:DF105="W"))+SUMPRODUCT((DA3:DA105=V5)*(DD3:DD105=V7)*(DF3:DF105="W"))+SUMPRODUCT((DA3:DA105=V6)*(DD3:DD105=V7)*(DF3:DF105="W")) -> 0 | X7: =SUMPRODUCT((DA3:DA105=V7)*(DD3:DD105=V8)*(DE3:DE105="D"))+SUMPRODUCT((DA3:DA105=V7)*(DD3:DD105=V4)*(DE3:DE105="D"))+SUMPRODUCT((DA3:DA105=V7)*(DD3:DD105=V5)*(DE3:DE105="D"))+SUMPRODUCT((DA3:DA105=V7)*(DD3:DD105=V6)*(DE3:DE105="D"))+SUMPRODUCT((DA3:DA105=V8)*(DD3:DD105=V7)*(DE3:DE105="D"))+SUMPRODUCT((DA3:DA105=V4)*(DD3:DD105=V7)*(DE3:DE105="D"))+SUMPRODUCT((DA3:DA105=V5)*(DD3:DD105=V7)*(DE3:DE105="D"))+SUMPRODUCT((DA3:DA105=V6)*(DD3:DD105=V7)*(DE3:DE105="D")) -> 0 | Y7: =SUMPRODUCT((DA3:DA105=V7)*(DD3:DD105=V8)*(DE3:DE105="L"))+SUMPRODUCT((DA3:DA105=V7)*(DD3:DD105=V4)*(DE3:DE105="L"))+SUMPRODUCT((DA3:DA105=V7)*(DD3:DD105=V5)*(DE3:DE105="L"))+SUMPRODUCT((DA3:DA105=V7)*(DD3:DD105=V6)*(DE3:DE105="L"))+SUMPRODUCT((DA3:DA105=V8)*(DD3:DD105=V7)*(DF3:DF105="L"))+SUMPRODUCT((DA3:DA105=V4)*(DD3:DD105=V7)*(DF3:DF105="L"))+SUMPRODUCT((DA3:DA105=V5)*(DD3:DD105=V7)*(DF3:DF105="L"))+SUMPRODUCT((DA3:DA105=V6)*(DD3:DD105=V7)*(DF3:DF105="L")) -> 0 | Z7: =SUMPRODUCT((DA3:DA105=V7)*(DD3:DD105=V8)*DB3:DB105)+SUMPRODUCT((DA3:DA105=V7)*(DD3:DD105=V4)*DB3:DB105)+SUMPRODUCT((DA3:DA105=V7)*(DD3:DD105=V5)*DB3:DB105)+SUMPRODUCT((DA3:DA105=V7)*(DD3:DD105=V6)*DB3:DB105)+SUMPRODUCT((DA3:DA105=V8)*(DD3:DD105=V7)*DC3:DC105)+SUMPRODUCT((DA3:DA105=V4)*(DD3:DD105=V7)*DC3:DC105)+SUMPRODUCT((DA3:DA105=V5)*(DD3:DD105=V7)*DC3:DC105)+SUMPRODUCT((DA3:DA105=V6)*(DD3:DD105=V7)*DC3:DC105) -> 0 | AA7: =SUMPRODUCT((DA3:DA105=V7)*(DD3:DD105=V8)*DC3:DC105)+SUMPRODUCT((DA3:DA105=V7)*(DD3:DD105=V4)*DC3:DC105)+SUMPRODUCT((DA3:DA105=V7)*(DD3:DD105=V5)*DC3:DC105)+SUMPRODUCT((DA3:DA105=V7)*(DD3:DD105=V6)*DC3:DC105)+SUMPRODUCT((DA3:DA105=V8)*(DD3:DD105=V7)*DB3:DB105)+SUMPRODUCT((DA3:DA105=V4)*(DD3:DD105=V7)*DB3:DB105)+SUMPRODUCT((DA3:DA105=V5)*(DD3:DD105=V7)*DB3:DB105)+SUMPRODUCT((DA3:DA105=V6)*(DD3:DD105=V7)*DB3:DB105) -> 0 | AB7: =Z7-AA7+1000 -> 1000 | AC7: =IF(V7<>"",W7*3+X7*1,"") -> 0 | AD7: =IF(V7<>"",VLOOKUP(V7,C4:I52,7,FALSE),"") -> 1000 | AE7: =IF(V7<>"",VLOOKUP(V7,C4:I52,5,FALSE),"") -> 0 | AF7: =IF(V7<>"",VLOOKUP(V7,C4:K52,9,FALSE),"") -> -116 | AG7: =AC7 -> 0 | AH7: =IF(V7<>"",RANK(AG7,AG4:AG8),"") -> 1 | AI7: =IF(V7<>"",SUMPRODUCT((AG4:AG8=AG7)*(AB4:AB8>AB7)),"") -> 0 | AJ7: =IF(V7<>"",SUMPRODUCT((AG4:AG8=AG7)*(AB4:AB8=AB7)*(Z4:Z8>Z7)),"") -> 0 | AK7: =IF(V7<>"",SUMPRODUCT((AG4:AG8=AG7)*(AB4:AB8=AB7)*(Z4:Z8=Z7)*(AD4:AD8>AD7)),"") -> 0 | AL7: =IF(V7<>"",SUMPRODUCT((AG4:AG8=AG7)*(AB4:AB8=AB7)*(Z4:Z8=Z7)*(AD4:AD8=AD7)*(AE4:AE8>AE7)),"") -> 0 | AM7: =IF(V7<>"",SUMPRODUCT((AG4:AG8=AG7)*(AB4:AB8=AB7)*(Z4:Z8=Z7)*(AD4:AD8=AD7)*(AE4:AE8=AE7)*(AF4:AF8>AF7)),"") -> 0 | AN7: =IF(V7<>"",IF(SUM(X4:X7)=12,SUM(AH7:AM7),IF(AN86<>"",IF(U82=3,AN86,AN86+U82),SUM(AH7:AM7))),"") -> 1 | AO7: =IF(V7<>"",INDEX(V4:V8,MATCH(4,AN4:AN8,0),0),"") -> South Africa | AP7: =IF(R6<>"",R6,"") | AQ7: =SUMPRODUCT((DA3:DA105=AP7)*(DD3:DD105=AP8)*(DE3:DE105="W"))+SUMPRODUCT((DA3:DA105=AP7)*(DD3:DD105=AP5)*(DE3:DE105="W"))+SUMPRODUCT((DA3:DA105=AP7)*(DD3:DD105=AP6)*(DE3:DE105="W"))+SUMPRODUCT((DA3:DA105=AP8)*(DD3:DD105=AP7)*(DF3:DF105="W"))+SUMPRODUCT((DA3:DA105=AP5)*(DD3:DD105=AP7)*(DF3:DF105="W"))+SUMPRODUCT((DA3:DA105=AP6)*(DD3:DD105=AP7)*(DF3:DF105="W")) -> 0 | AR7: =SUMPRODUCT((DA3:DA105=AP7)*(DD3:DD105=AP8)*(DE3:DE105="D"))+SUMPRODUCT((DA3:DA105=AP7)*(DD3:DD105=AP5)*(DE3:DE105="D"))+SUMPRODUCT((DA3:DA105=AP7)*(DD3:DD105=AP6)*(DE3:DE105="D"))+SUMPRODUCT((DA3:DA105=AP8)*(DD3:DD105=AP7)*(DE3:DE105="D"))+SUMPRODUCT((DA3:DA105=AP5)*(DD3:DD105=AP7)*(DE3:DE105="D"))+SUMPRODUCT((DA3:DA105=AP6)*(DD3:DD105=AP7)*(DE3:DE105="D")) -> 0 | AS7: =SUMPRODUCT((DA3:DA105=AP7)*(DD3:DD105=AP8)*(DE3:DE105="L"))+SUMPRODUCT((DA3:DA105=AP7)*(DD3:DD105=AP5)*(DE3:DE105="L"))+SUMPRODUCT((DA3:DA105=AP7)*(DD3:DD105=AP6)*(DE3:DE105="L"))+SUMPRODUCT((DA3:DA105=AP8)*(DD3:DD105=AP7)*(DF3:DF105="L"))+SUMPRODUCT((DA3:DA105=AP5)*(DD3:DD105=AP7)*(DF3:DF105="L"))+SUMPRODUCT((DA3:DA105=AP6)*(DD3:DD105=AP7)*(DF3:DF105="L")) -> 0 | AT7: =SUMPRODUCT((DA3:DA105=AP7)*(DD3:DD105=AP8)*DB3:DB105)+SUMPRODUCT((DA3:DA105=AP7)*(DD3:DD105=AP4)*DB3:DB105)+SUMPRODUCT((DA3:DA105=AP7)*(DD3:DD105=AP5)*DB3:DB105)+SUMPRODUCT((DA3:DA105=AP7)*(DD3:DD105=AP6)*DB3:DB105)+SUMPRODUCT((DA3:DA105=AP8)*(DD3:DD105=AP7)*DC3:DC105)+SUMPRODUCT((DA3:DA105=AP4)*(DD3:DD105=AP7)*DC3:DC105)+SUMPRODUCT((DA3:DA105=AP5)*(DD3:DD105=AP7)*DC3:DC105)+SUMPRODUCT((DA3:DA105=AP6)*(DD3:DD105=AP7)*DC3:DC105) -> 0 | AU7: =SUMPRODUCT((DA3:DA105=AP7)*(DD3:DD105=AP8)*DC3:DC105)+SUMPRODUCT((DA3:DA105=AP7)*(DD3:DD105=AP4)*DC3:DC105)+SUMPRODUCT((DA3:DA105=AP7)*(DD3:DD105=AP5)*DC3:DC105)+SUMPRODUCT((DA3:DA105=AP7)*(DD3:DD105=AP6)*DC3:DC105)+SUMPRODUCT((DA3:DA105=AP8)*(DD3:DD105=AP7)*DB3:DB105)+SUMPRODUCT((DA3:DA105=AP4)*(DD3:DD105=AP7)*DB3:DB105)+SUMPRODUCT((DA3:DA105=AP5)*(DD3:DD105=AP7)*DB3:DB105)+SUMPRODUCT((DA3:DA105=AP6)*(DD3:DD105=AP7)*DB3:DB105) -> 0 | AV7: =AT7-AU7+1000 -> 1000 | AW7: =IF(AP7<>"",AQ7*3+AR7*1,"") | AX7: =IF(AP7<>"",VLOOKUP(AP7,C4:I52,7,FALSE),"") | AY7: =IF(AP7<>"",VLOOKUP(AP7,C4:I52,5,FALSE),"") | AZ7: =IF(AP7<>"",VLOOKUP(AP7,C4:K52,9,FALSE),"") | BA7: =AW7 | BB7: =IF(AP7<>"",RANK(BA7,BA4:BA8),"") | BC7: =IF(AP7<>"",SUMPRODUCT((BA4:BA8=BA7)*(AV4:AV8>AV7)),"") | BD7: =IF(AP7<>"",SUMPRODUCT((BA4:BA8=BA7)*(AV4:AV8=AV7)*(AT4:AT8>AT7)),"") | BE7: =IF(AP7<>"",SUMPRODUCT((BA4:BA8=BA7)*(AV4:AV8=AV7)*(AT4:AT8=AT7)*(AX4:AX8>AX7)),"") | BF7: =IF(AP7<>"",SUMPRODUCT((BA4:BA8=BA7)*(AV4:AV8=AV7)*(AT4:AT8=AT7)*(AX4:AX8=AX7)*(AY4:AY8>AY7)),"") | BG7: =IF(AP7<>"",SUMPRODUCT((BA4:BA8=BA7)*(AV4:AV8=AV7)*(AT4:AT8=AT7)*(AX4:AX8=AX7)*(AY4:AY8=AY7)*(AZ4:AZ8>AZ7)),"") | BH7: =IF(AP7<>"",IF(BH86<>"",IF(AO82=3,BH86,BH86+AO82),SUM(BB7:BG7)+1),"") | BI7: =IF(AP7<>"",INDEX(AP5:AP8,MATCH(4,BH5:BH8,0),0),"") | BJ7: =IF(S5<>"",S5,"") | BK7: =SUMPRODUCT((DA3:DA105=BJ7)*(DD3:DD105=BJ8)*(DE3:DE105="W"))+SUMPRODUCT((DA3:DA105=BJ7)*(DD3:DD105=BJ9)*(DE3:DE105="W"))+SUMPRODUCT((DA3:DA105=BJ7)*(DD3:DD105=BJ6)*(DE3:DE105="W"))+SUMPRODUCT((DA3:DA105=BJ8)*(DD3:DD105=BJ7)*(DF3:DF105="W"))+SUMPRODUCT((DA3:DA105=BJ9)*(DD3:DD105=BJ7)*(DF3:DF105="W"))+SUMPRODUCT((DA3:DA105=BJ6)*(DD3:DD105=BJ7)*(DF3:DF105="W")) -> 0 | BL7: =SUMPRODUCT((DA3:DA105=BJ7)*(DD3:DD105=BJ8)*(DE3:DE105="D"))+SUMPRODUCT((DA3:DA105=BJ7)*(DD3:DD105=BJ9)*(DE3:DE105="D"))+SUMPRODUCT((DA3:DA105=BJ7)*(DD3:DD105=BJ6)*(DE3:DE105="D"))+SUMPRODUCT((DA3:DA105=BJ8)*(DD3:DD105=BJ7)*(DE3:DE105="D"))+SUMPRODUCT((DA3:DA105=BJ9)*(DD3:DD105=BJ7)*(DE3:DE105="D"))+SUMPRODUCT((DA3:DA105=BJ6)*(DD3:DD105=BJ7)*(DE3:DE105="D")) -> 0 | BM7: =SUMPRODUCT((DA3:DA105=BJ7)*(DD3:DD105=BJ8)*(DE3:DE105="L"))+SUMPRODUCT((DA3:DA105=BJ7)*(DD3:DD105=BJ9)*(DE3:DE105="L"))+SUMPRODUCT((DA3:DA105=BJ7)*(DD3:DD105=BJ6)*(DE3:DE105="L"))+SUMPRODUCT((DA3:DA105=BJ8)*(DD3:DD105=BJ7)*(DF3:DF105="L"))+SUMPRODUCT((DA3:DA105=BJ9)*(DD3:DD105=BJ7)*(DF3:DF105="L"))+SUMPRODUCT((DA3:DA105=BJ6)*(DD3:DD105=BJ7)*(DF3:DF105="L")) -> 0 | BN7: =SUMPRODUCT((DA3:DA105=BJ7)*(DD3:DD105=BJ8)*DB3:DB105)+SUMPRODUCT((DA3:DA105=BJ7)*(DD3:DD105=BJ4)*DB3:DB105)+SUMPRODUCT((DA3:DA105=BJ7)*(DD3:DD105=BJ5)*DB3:DB105)+SUMPRODUCT((DA3:DA105=BJ7)*(DD3:DD105=BJ6)*DB3:DB105)+SUMPRODUCT((DA3:DA105=BJ8)*(DD3:DD105=BJ7)*DC3:DC105)+SUMPRODUCT((DA3:DA105=BJ4)*(DD3:DD105=BJ7)*DC3:DC105)+SUMPRODUCT((DA3:DA105=BJ5)*(DD3:DD105=BJ7)*DC3:DC105)+SUMPRODUCT((DA3:DA105=BJ6)*(DD3:DD105=BJ7)*DC3:DC105) -> 0 | BO7: =SUMPRODUCT((DA3:DA105=BJ7)*(DD3:DD105=BJ8)*DC3:DC105)+SUMPRODUCT((DA3:DA105=BJ7)*(DD3:DD105=BJ4)*DC3:DC105)+SUMPRODUCT((DA3:DA105=BJ7)*(DD3:DD105=BJ5)*DC3:DC105)+SUMPRODUCT((DA3:DA105=BJ7)*(DD3:DD105=BJ6)*DC3:DC105)+SUMPRODUCT((DA3:DA105=BJ8)*(DD3:DD105=BJ7)*DB3:DB105)+SUMPRODUCT((DA3:DA105=BJ4)*(DD3:DD105=BJ7)*DB3:DB105)+SUMPRODUCT((DA3:DA105=BJ5)*(DD3:DD105=BJ7)*DB3:DB105)+SUMPRODUCT((DA3:DA105=BJ6)*(DD3:DD105=BJ7)*DB3:DB105) -> 0 | BP7: =BN7-BO7+1000 -> 1000 | BQ7: =IF(BJ7<>"",BK7*3+BL7*1,"") | BR7: =IF(BJ7<>"",VLOOKUP(BJ7,C4:I52,7,FALSE),"") | BS7: =IF(BJ7<>"",VLOOKUP(BJ7,C4:I52,5,FALSE),"") | BT7: =IF(BJ7<>"",VLOOKUP(BJ7,C4:K52,9,FALSE),"") | BU7: =BQ7 | BV7: =IF(BJ7<>"",RANK(BU7,BU4:BU8),"") | BW7: =IF(BJ7<>"",SUMPRODUCT((BU4:BU8=BU7)*(BP4:BP8>BP7)),"") | BX7: =IF(BJ7<>"",SUMPRODUCT((BU4:BU8=BU7)*(BP4:BP8=BP7)*(BN4:BN8>BN7)),"") | BY7: =IF(BJ7<>"",SUMPRODUCT((BU4:BU8=BU7)*(BP4:BP8=BP7)*(BN4:BN8=BN7)*(BR4:BR8>BR7)),"") | BZ7: =IF(BJ7<>"",SUMPRODUCT((BU4:BU8=BU7)*(BP4:BP8=BP7)*(BN4:BN8=BN7)*(BR4:BR8=BR7)*(BS4:BS8>BS7)),"") | CA7: =IF(BJ7<>"",SUMPRODUCT((BU4:BU8=BU7)*(BP4:BP8=BP7)*(BN4:BN8=BN7)*(BR4:BR8=BR7)*(BS4:BS8=BS7)*(BT4:BT8>BT7)),"") | CB7: =IF(BJ7<>"",SUM(BV7:CA7)+2,"") | CC7: =IF(BJ7<>"",INDEX(BJ6:BJ8,MATCH(4,CB6:CB8,0),0),"") | CD7: =IF(T4<>"",T4,"") | CE7: =SUMPRODUCT((DA3:DA105=CD7)*(DD3:DD105=CD8)*(DE3:DE105="W"))+SUMPRODUCT((DA3:DA105=CD7)*(DD3:DD105=CD9)*(DE3:DE105="W"))+SUMPRODUCT((DA3:DA105=CD7)*(DD3:DD105=CD10)*(DE3:DE105="W"))+SUMPRODUCT((DA3:DA105=CD8)*(DD3:DD105=CD7)*(DF3:DF105="W"))+SUMPRODUCT((DA3:DA105=CD9)*(DD3:DD105=CD7)*(DF3:DF105="W"))+SUMPRODUCT((DA3:DA105=CD10)*(DD3:DD105=CD7)*(DF3:DF105="W")) -> 0 | CF7: =SUMPRODUCT((DA3:DA105=CD7)*(DD3:DD105=CD8)*(DE3:DE105="D"))+SUMPRODUCT((DA3:DA105=CD7)*(DD3:DD105=CD9)*(DE3:DE105="D"))+SUMPRODUCT((DA3:DA105=CD7)*(DD3:DD105=CD10)*(DE3:DE105="D"))+SUMPRODUCT((DA3:DA105=CD8)*(DD3:DD105=CD7)*(DE3:DE105="D"))+SUMPRODUCT((DA3:DA105=CD9)*(DD3:DD105=CD7)*(DE3:DE105="D"))+SUMPRODUCT((DA3:DA105=CD10)*(DD3:DD105=CD7)*(DE3:DE105="D")) -> 0 | CG7: =SUMPRODUCT((DA3:DA105=CD7)*(DD3:DD105=CD8)*(DE3:DE105="L"))+SUMPRODUCT((DA3:DA105=CD7)*(DD3:DD105=CD9)*(DE3:DE105="L"))+SUMPRODUCT((DA3:DA105=CD7)*(DD3:DD105=CD10)*(DE3:DE105="L"))+SUMPRODUCT((DA3:DA105=CD8)*(DD3:DD105=CD7)*(DF3:DF105="L"))+SUMPRODUCT((DA3:DA105=CD9)*(DD3:DD105=CD7)*(DF3:DF105="L"))+SUMPRODUCT((DA3:DA105=CD10)*(DD3:DD105=CD7)*(DF3:DF105="L")) -> 0 | CH7: =SUMPRODUCT((DA3:DA105=CD7)*(DD3:DD105=CD8)*DB3:DB105)+SUMPRODUCT((DA3:DA105=CD7)*(DD3:DD105=CD4)*DB3:DB105)+SUMPRODUCT((DA3:DA105=CD7)*(DD3:DD105=CD5)*DB3:DB105)+SUMPRODUCT((DA3:DA105=CD7)*(DD3:DD105=CD6)*DB3:DB105)+SUMPRODUCT((DA3:DA105=CD8)*(DD3:DD105=CD7)*DC3:DC105)+SUMPRODUCT((DA3:DA105=CD4)*(DD3:DD105=CD7)*DC3:DC105)+SUMPRODUCT((DA3:DA105=CD5)*(DD3:DD105=CD7)*DC3:DC105)+SUMPRODUCT((DA3:DA105=CD6)*(DD3:DD105=CD7)*DC3:DC105) -> 0 | CI7: =SUMPRODUCT((DA3:DA105=CD7)*(DD3:DD105=CD8)*DC3:DC105)+SUMPRODUCT((DA3:DA105=CD7)*(DD3:DD105=CD4)*DC3:DC105)+SUMPRODUCT((DA3:DA105=CD7)*(DD3:DD105=CD5)*DC3:DC105)+SUMPRODUCT((DA3:DA105=CD7)*(DD3:DD105=CD6)*DC3:DC105)+SUMPRODUCT((DA3:DA105=CD8)*(DD3:DD105=CD7)*DB3:DB105)+SUMPRODUCT((DA3:DA105=CD4)*(DD3:DD105=CD7)*DB3:DB105)+SUMPRODUCT((DA3:DA105=CD5)*(DD3:DD105=CD7)*DB3:DB105)+SUMPRODUCT((DA3:DA105=CD6)*(DD3:DD105=CD7)*DB3:DB105) -> 0 | CJ7: =CH7-CI7+1000 -> 1000 | CK7: =IF(CD7<>"",CE7*3+CF7*1,"") | CL7: =IF(CD7<>"",VLOOKUP(CD7,C4:I52,7,FALSE),"") | CM7: =IF(CD7<>"",VLOOKUP(CD7,C4:I52,5,FALSE),"") | CN7: =IF(CD7<>"",VLOOKUP(CD7,C4:K52,9,FALSE),"") | CO7: =CK7 | CP7: =IF(CD7<>"",RANK(CO7,CO4:CO8),"") | CQ7: =IF(CD7<>"",SUMPRODUCT((CO4:CO8=CO7)*(CJ4:CJ8>CJ7)),"") | CR7: =IF(CD7<>"",SUMPRODUCT((CO4:CO8=CO7)*(CJ4:CJ8=CJ7)*(CH4:CH8>CH7)),"") | CS7: =IF(CD7<>"",SUMPRODUCT((CO4:CO8=CO7)*(CJ4:CJ8=CJ7)*(CH4:CH8=CH7)*(CL4:CL8>CL7)),"") | CT7: =IF(CD7<>"",SUMPRODUCT((CO4:CO8=CO7)*(CJ4:CJ8=CJ7)*(CH4:CH8=CH7)*(CL4:CL8=CL7)*(CM4:CM8>CM7)),"") | CU7: =IF(CD7<>"",SUMPRODUCT((CO4:CO8=CO7)*(CJ4:CJ8=CJ7)*(CH4:CH8=CH7)*(CL4:CL8=CL7)*(CM4:CM8=CM7)*(CN4:CN8>CN7)),"") | CV7: =IF(CD7<>"",SUM(CP7:CU7)+3,"") | CW7: =IF(CD7<>"",IF(CV7=4,CD7,CD8),"") | CX7: =IF(CW7<>"",CW7,IF(CC7<>"",CC7,IF(BI7<>"",BI7,IF(AO7<>"",AO7,O7)))) -> South Africa | CY7: 4 | CZ7: 5 | DA7: =Matches!F12 -> Haiti | DB7: =IF(DA2<>"",IF(AND(Matches!H12<>"",Matches!I12<>""),Matches!H12,0),"") -> 0 | DC7: =IF(DA2<>"",IF(AND(Matches!H12<>"",Matches!I12<>""),Matches!I12,0),"") -> 0 | DD7: =Matches!K12 -> Scotland | DE7: =IF(AND(Matches!H12<>"",Matches!I12<>""),IF(DB7>DC7,"W",IF(DB7=DC7,"D","L")),"") | DF7: =IF(DE7<>"",IF(DE7="W","L",IF(DE7="L","W","D")),"")
CZ8: 6 | DA8: =Matches!F13 -> Australia | DB8: =IF(DA2<>"",IF(AND(Matches!H13<>"",Matches!I13<>""),Matches!H13,0),"") -> 0 | DC8: =IF(DA2<>"",IF(AND(Matches!H13<>"",Matches!I13<>""),Matches!I13,0),"") -> 0 | DD8: =Matches!K13 -> Türkiye | DE8: =IF(AND(Matches!H13<>"",Matches!I13<>""),IF(DB8>DC8,"W",IF(DB8=DC8,"D","L")),"") | DF8: =IF(DE8<>"",IF(DE8="W","L",IF(DE8="L","W","D")),"")
BH9: Y | CZ9: 7 | DA9: =Matches!F14 -> Brazil | DB9: =IF(DA2<>"",IF(AND(Matches!H14<>"",Matches!I14<>""),Matches!H14,0),"") -> 0 | DC9: =IF(DA2<>"",IF(AND(Matches!H14<>"",Matches!I14<>""),Matches!I14,0),"") -> 0 | DD9: =Matches!K14 -> Morocco | DE9: =IF(AND(Matches!H14<>"",Matches!I14<>""),IF(DB9>DC9,"W",IF(DB9=DC9,"D","L")),"") | DF9: =IF(DE9<>"",IF(DE9="W","L",IF(DE9="L","W","D")),"")
CZ10: 8 | DA10: =Matches!F15 -> Qatar | DB10: =IF(DA2<>"",IF(AND(Matches!H15<>"",Matches!I15<>""),Matches!H15,0),"") -> 0 | DC10: =IF(DA2<>"",IF(AND(Matches!H15<>"",Matches!I15<>""),Matches!I15,0),"") -> 0 | DD10: =Matches!K15 -> Switzerland | DE10: =IF(AND(Matches!H15<>"",Matches!I15<>""),IF(DB10>DC10,"W",IF(DB10=DC10,"D","L")),"") | DF10: =IF(DE10<>"",IF(DE10="W","L",IF(DE10="L","W","D")),"")
A11: =Setup!E10+100 -> 129 | B11: =VLOOKUP(C11,CX11:CY15,2,FALSE) -> 2 | C11: =Setup!D10 -> Canada | D11: =SUMPRODUCT((DA3:DA105=C11)*(DE3:DE105="W"))+SUMPRODUCT((DD3:DD105=C11)*(DF3:DF105="W")) -> 0 | E11: =SUMPRODUCT((DA3:DA105=C11)*(DE3:DE105="D"))+SUMPRODUCT((DD3:DD105=C11)*(DF3:DF105="D")) -> 0 | F11: =SUMPRODUCT((DA3:DA105=C11)*(DE3:DE105="L"))+SUMPRODUCT((DD3:DD105=C11)*(DF3:DF105="L")) -> 0 | G11: =SUMIF(DA3:DA123,C11,DB3:DB123)+SUMIF(DD3:DD123,C11,DC3:DC123) -> 0 | H11: =SUMIF(DD3:DD123,C11,DB3:DB123)+SUMIF(DA3:DA123,C11,DC3:DC123) -> 0 | I11: =G11-H11+1000 -> 1000 | J11: =D11*3+E11*1 -> 0 | K11: =IF(Setup!F10<>"",Setup!F10,-A11) -> -129 | L11: =IF(COUNTIF(J11:J15,4)<>4,RANK(J11,J11:J15),J90) -> 1 | N11: =SUMPRODUCT((L11:L14=L11)*(K11:K14<K11))+L11 -> 3 | O11: =INDEX(C11:C15,MATCH(1,N11:N15,0),0) -> Bosnia and Herzegovina | P11: =INDEX(L11:L15,MATCH(O11,C11:C15,0),0) -> 1 | Q11: =IF(P12=1,O11,"") -> Bosnia and Herzegovina | R11: =IF(P13=2,O12,"") | S11: =IF(P14=3,O13,"") | T11: =IF(P15=4,O14,"") | V11: =IF(Q11<>"",Q11,"") -> Bosnia and Herzegovina | W11: =SUMPRODUCT((DA3:DA105=V11)*(DD3:DD105=V12)*(DE3:DE105="W"))+SUMPRODUCT((DA3:DA105=V11)*(DD3:DD105=V13)*(DE3:DE105="W"))+SUMPRODUCT((DA3:DA105=V11)*(DD3:DD105=V14)*(DE3:DE105="W"))+SUMPRODUCT((DA3:DA105=V11)*(DD3:DD105=V15)*(DE3:DE105="W"))+SUMPRODUCT((DA3:DA105=V12)*(DD3:DD105=V11)*(DF3:DF105="W"))+SUMPRODUCT((DA3:DA105=V13)*(DD3:DD105=V11)*(DF3:DF105="W"))+SUMPRODUCT((DA3:DA105=V14)*(DD3:DD105=V11)*(DF3:DF105="W"))+SUMPRODUCT((DA3:DA105=V15)*(DD3:DD105=V11)*(DF3:DF105="W")) -> 0 | X11: =SUMPRODUCT((DA3:DA105=V11)*(DD3:DD105=V12)*(DE3:DE105="D"))+SUMPRODUCT((DA3:DA105=V11)*(DD3:DD105=V13)*(DE3:DE105="D"))+SUMPRODUCT((DA3:DA105=V11)*(DD3:DD105=V14)*(DE3:DE105="D"))+SUMPRODUCT((DA3:DA105=V11)*(DD3:DD105=V15)*(DE3:DE105="D"))+SUMPRODUCT((DA3:DA105=V12)*(DD3:DD105=V11)*(DE3:DE105="D"))+SUMPRODUCT((DA3:DA105=V13)*(DD3:DD105=V11)*(DE3:DE105="D"))+SUMPRODUCT((DA3:DA105=V14)*(DD3:DD105=V11)*(DE3:DE105="D"))+SUMPRODUCT((DA3:DA105=V15)*(DD3:DD105=V11)*(DE3:DE105="D")) -> 0 | Y11: =SUMPRODUCT((DA3:DA105=V11)*(DD3:DD105=V12)*(DE3:DE105="L"))+SUMPRODUCT((DA3:DA105=V11)*(DD3:DD105=V13)*(DE3:DE105="L"))+SUMPRODUCT((DA3:DA105=V11)*(DD3:DD105=V14)*(DE3:DE105="L"))+SUMPRODUCT((DA3:DA105=V11)*(DD3:DD105=V15)*(DE3:DE105="L"))+SUMPRODUCT((DA3:DA105=V12)*(DD3:DD105=V11)*(DF3:DF105="L"))+SUMPRODUCT((DA3:DA105=V13)*(DD3:DD105=V11)*(DF3:DF105="L"))+SUMPRODUCT((DA3:DA105=V14)*(DD3:DD105=V11)*(DF3:DF105="L"))+SUMPRODUCT((DA3:DA105=V15)*(DD3:DD105=V11)*(DF3:DF105="L")) -> 0 | Z11: =SUMPRODUCT((DA3:DA105=V11)*(DD3:DD105=V12)*DB3:DB105)+SUMPRODUCT((DA3:DA105=V11)*(DD3:DD105=V13)*DB3:DB105)+SUMPRODUCT((DA3:DA105=V11)*(DD3:DD105=V14)*DB3:DB105)+SUMPRODUCT((DA3:DA105=V11)*(DD3:DD105=V15)*DB3:DB105)+SUMPRODUCT((DA3:DA105=V12)*(DD3:DD105=V11)*DC3:DC105)+SUMPRODUCT((DA3:DA105=V13)*(DD3:DD105=V11)*DC3:DC105)+SUMPRODUCT((DA3:DA105=V14)*(DD3:DD105=V11)*DC3:DC105)+SUMPRODUCT((DA3:DA105=V15)*(DD3:DD105=V11)*DC3:DC105) -> 0 | AA11: =SUMPRODUCT((DA3:DA105=V11)*(DD3:DD105=V12)*DC3:DC105)+SUMPRODUCT((DA3:DA105=V11)*(DD3:DD105=V13)*DC3:DC105)+SUMPRODUCT((DA3:DA105=V11)*(DD3:DD105=V14)*DC3:DC105)+SUMPRODUCT((DA3:DA105=V11)*(DD3:DD105=V15)*DC3:DC105)+SUMPRODUCT((DA3:DA105=V12)*(DD3:DD105=V11)*DB3:DB105)+SUMPRODUCT((DA3:DA105=V13)*(DD3:DD105=V11)*DB3:DB105)+SUMPRODUCT((DA3:DA105=V14)*(DD3:DD105=V11)*DB3:DB105)+SUMPRODUCT((DA3:DA105=V15)*(DD3:DD105=V11)*DB3:DB105) -> 0 | AB11: =Z11-AA11+1000 -> 1000 | AC11: =IF(V11<>"",W11*3+X11*1,"") -> 0 | AD11: =IF(V11<>"",VLOOKUP(V11,C4:I52,7,FALSE),"") -> 1000 | AE11: =IF(V11<>"",VLOOKUP(V11,C4:I52,5,FALSE),"") -> 0 | AF11: =IF(V11<>"",VLOOKUP(V11,C4:K52,9,FALSE),"") -> -171 | AG11: =AC11 -> 0 | AH11: =IF(V11<>"",RANK(AG11,AG11:AG15),"") -> 1 | AI11: =IF(V11<>"",SUMPRODUCT((AG11:AG15=AG11)*(AB11:AB15>AB11)),"") -> 0 | AJ11: =IF(V11<>"",SUMPRODUCT((AG11:AG15=AG11)*(AB11:AB15=AB11)*(Z11:Z15>Z11)),"") -> 0 | AK11: =IF(V11<>"",SUMPRODUCT((AG11:AG15=AG11)*(AB11:AB15=AB11)*(Z11:Z15=Z11)*(AD11:AD15>AD11)),"") -> 0 | AL11: =IF(V11<>"",SUMPRODUCT((AG11:AG15=AG11)*(AB11:AB15=AB11)*(Z11:Z15=Z11)*(AD11:AD15=AD11)*(AE11:AE15>AE11)),"") -> 0 | AM11: =IF(V11<>"",SUMPRODUCT((AG11:AG15=AG11)*(AB11:AB15=AB11)*(Z11:Z15=Z11)*(AD11:AD15=AD11)*(AE11:AE15=AE11)*(AF11:AF15>AF11)),"") -> 3 | AN11: =IF(V11<>"",IF(SUM(X11:X14)=12,SUM(AH11:AM11),IF(AN90<>"",IF(U89=3,AN90,AN90+U89),SUM(AH11:AM11))),"") -> 4 | AO11: =IF(V11<>"",INDEX(V11:V15,MATCH(1,AN11:AN15,0),0),"") -> Switzerland | CX11: =IF(AO11<>"",AO11,O11) -> Switzerland | CY11: 1 | CZ11: 9 | DA11: =Matches!F16 -> Cote D'Voire | DB11: =IF(DA2<>"",IF(AND(Matches!H16<>"",Matches!I16<>""),Matches!H16,0),"") -> 0 | DC11: =IF(DA2<>"",IF(AND(Matches!H16<>"",Matches!I16<>""),Matches!I16,0),"") -> 0 | DD11: =Matches!K16 -> Ecuador | DE11: =IF(AND(Matches!H16<>"",Matches!I16<>""),IF(DB11>DC11,"W",IF(DB11=DC11,"D","L")),"") | DF11: =IF(DE11<>"",IF(DE11="W","L",IF(DE11="L","W","D")),"")
A12: =Setup!E11+100 -> 171 | B12: =VLOOKUP(C12,CX11:CY15,2,FALSE) -> 4 | C12: =Setup!D11 -> Bosnia and Herzegovina | D12: =SUMPRODUCT((DA3:DA105=C12)*(DE3:DE105="W"))+SUMPRODUCT((DD3:DD105=C12)*(DF3:DF105="W")) -> 0 | E12: =SUMPRODUCT((DA3:DA105=C12)*(DE3:DE105="D"))+SUMPRODUCT((DD3:DD105=C12)*(DF3:DF105="D")) -> 0 | F12: =SUMPRODUCT((DA3:DA105=C12)*(DE3:DE105="L"))+SUMPRODUCT((DD3:DD105=C12)*(DF3:DF105="L")) -> 0 | G12: =SUMIF(DA3:DA123,C12,DB3:DB123)+SUMIF(DD3:DD123,C12,DC3:DC123) -> 0 | H12: =SUMIF(DD3:DD123,C12,DB3:DB123)+SUMIF(DA3:DA123,C12,DC3:DC123) -> 0 | I12: =G12-H12+1000 -> 1000 | J12: =D12*3+E12*1 -> 0 | K12: =IF(Setup!F11<>"",Setup!F11,-A12) -> -171 | L12: =IF(COUNTIF(J11:J15,4)<>4,RANK(J12,J11:J15),J91) -> 1 | N12: =SUMPRODUCT((L11:L14=L12)*(K11:K14<K12))+L12 -> 1 | O12: =INDEX(C11:C15,MATCH(2,N11:N15,0),0) -> Qatar | P12: =INDEX(L11:L15,MATCH(O12,C11:C15,0),0) -> 1 | Q12: =IF(Q11<>"",O12,"") -> Qatar | R12: =IF(R11<>"",O13,"") | S12: =IF(S11<>"",O14,"") | T12: =IF(T11<>"",O15,"") | V12: =IF(Q12<>"",Q12,"") -> Qatar | W12: =SUMPRODUCT((DA3:DA105=V12)*(DD3:DD105=V13)*(DE3:DE105="W"))+SUMPRODUCT((DA3:DA105=V12)*(DD3:DD105=V14)*(DE3:DE105="W"))+SUMPRODUCT((DA3:DA105=V12)*(DD3:DD105=V15)*(DE3:DE105="W"))+SUMPRODUCT((DA3:DA105=V12)*(DD3:DD105=V11)*(DE3:DE105="W"))+SUMPRODUCT((DA3:DA105=V13)*(DD3:DD105=V12)*(DF3:DF105="W"))+SUMPRODUCT((DA3:DA105=V14)*(DD3:DD105=V12)*(DF3:DF105="W"))+SUMPRODUCT((DA3:DA105=V15)*(DD3:DD105=V12)*(DF3:DF105="W"))+SUMPRODUCT((DA3:DA105=V11)*(DD3:DD105=V12)*(DF3:DF105="W")) -> 0 | X12: =SUMPRODUCT((DA3:DA105=V12)*(DD3:DD105=V13)*(DE3:DE105="D"))+SUMPRODUCT((DA3:DA105=V12)*(DD3:DD105=V14)*(DE3:DE105="D"))+SUMPRODUCT((DA3:DA105=V12)*(DD3:DD105=V15)*(DE3:DE105="D"))+SUMPRODUCT((DA3:DA105=V12)*(DD3:DD105=V11)*(DE3:DE105="D"))+SUMPRODUCT((DA3:DA105=V13)*(DD3:DD105=V12)*(DE3:DE105="D"))+SUMPRODUCT((DA3:DA105=V14)*(DD3:DD105=V12)*(DE3:DE105="D"))+SUMPRODUCT((DA3:DA105=V15)*(DD3:DD105=V12)*(DE3:DE105="D"))+SUMPRODUCT((DA3:DA105=V11)*(DD3:DD105=V12)*(DE3:DE105="D")) -> 0 | Y12: =SUMPRODUCT((DA3:DA105=V12)*(DD3:DD105=V13)*(DE3:DE105="L"))+SUMPRODUCT((DA3:DA105=V12)*(DD3:DD105=V14)*(DE3:DE105="L"))+SUMPRODUCT((DA3:DA105=V12)*(DD3:DD105=V15)*(DE3:DE105="L"))+SUMPRODUCT((DA3:DA105=V12)*(DD3:DD105=V11)*(DE3:DE105="L"))+SUMPRODUCT((DA3:DA105=V13)*(DD3:DD105=V12)*(DF3:DF105="L"))+SUMPRODUCT((DA3:DA105=V14)*(DD3:DD105=V12)*(DF3:DF105="L"))+SUMPRODUCT((DA3:DA105=V15)*(DD3:DD105=V12)*(DF3:DF105="L"))+SUMPRODUCT((DA3:DA105=V11)*(DD3:DD105=V12)*(DF3:DF105="L")) -> 0 | Z12: =SUMPRODUCT((DA3:DA105=V12)*(DD3:DD105=V13)*DB3:DB105)+SUMPRODUCT((DA3:DA105=V12)*(DD3:DD105=V14)*DB3:DB105)+SUMPRODUCT((DA3:DA105=V12)*(DD3:DD105=V15)*DB3:DB105)+SUMPRODUCT((DA3:DA105=V12)*(DD3:DD105=V11)*DB3:DB105)+SUMPRODUCT((DA3:DA105=V13)*(DD3:DD105=V12)*DC3:DC105)+SUMPRODUCT((DA3:DA105=V14)*(DD3:DD105=V12)*DC3:DC105)+SUMPRODUCT((DA3:DA105=V15)*(DD3:DD105=V12)*DC3:DC105)+SUMPRODUCT((DA3:DA105=V11)*(DD3:DD105=V12)*DC3:DC105) -> 0 | AA12: =SUMPRODUCT((DA3:DA105=V12)*(DD3:DD105=V13)*DC3:DC105)+SUMPRODUCT((DA3:DA105=V12)*(DD3:DD105=V14)*DC3:DC105)+SUMPRODUCT((DA3:DA105=V12)*(DD3:DD105=V15)*DC3:DC105)+SUMPRODUCT((DA3:DA105=V12)*(DD3:DD105=V11)*DC3:DC105)+SUMPRODUCT((DA3:DA105=V13)*(DD3:DD105=V12)*DB3:DB105)+SUMPRODUCT((DA3:DA105=V14)*(DD3:DD105=V12)*DB3:DB105)+SUMPRODUCT((DA3:DA105=V15)*(DD3:DD105=V12)*DB3:DB105)+SUMPRODUCT((DA3:DA105=V11)*(DD3:DD105=V12)*DB3:DB105) -> 0 | AB12: =Z12-AA12+1000 -> 1000 | AC12: =IF(V12<>"",W12*3+X12*1,"") -> 0 | AD12: =IF(V12<>"",VLOOKUP(V12,C4:I52,7,FALSE),"") -> 1000 | AE12: =IF(V12<>"",VLOOKUP(V12,C4:I52,5,FALSE),"") -> 0 | AF12: =IF(V12<>"",VLOOKUP(V12,C4:K52,9,FALSE),"") -> -156 | AG12: =AC12 -> 0 | AH12: =IF(V12<>"",RANK(AG12,AG11:AG15),"") -> 1 | AI12: =IF(V12<>"",SUMPRODUCT((AG11:AG15=AG12)*(AB11:AB15>AB12)),"") -> 0 | AJ12: =IF(V12<>"",SUMPRODUCT((AG11:AG15=AG12)*(AB11:AB15=AB12)*(Z11:Z15>Z12)),"") -> 0 | AK12: =IF(V12<>"",SUMPRODUCT((AG11:AG15=AG12)*(AB11:AB15=AB12)*(Z11:Z15=Z12)*(AD11:AD15>AD12)),"") -> 0 | AL12: =IF(V12<>"",SUMPRODUCT((AG11:AG15=AG12)*(AB11:AB15=AB12)*(Z11:Z15=Z12)*(AD11:AD15=AD12)*(AE11:AE15>AE12)),"") -> 0 | AM12: =IF(V12<>"",SUMPRODUCT((AG11:AG15=AG12)*(AB11:AB15=AB12)*(Z11:Z15=Z12)*(AD11:AD15=AD12)*(AE11:AE15=AE12)*(AF11:AF15>AF12)),"") -> 2 | AN12: =IF(V12<>"",IF(SUM(X11:X14)=12,SUM(AH12:AM12),IF(AN91<>"",IF(U89=3,AN91,AN91+U89),SUM(AH12:AM12))),"") -> 3 | AO12: =IF(V12<>"",INDEX(V11:V15,MATCH(2,AN11:AN15,0),0),"") -> Canada | AP12: =IF(R11<>"",R11,"") | AQ12: =SUMPRODUCT((DA3:DA105=AP12)*(DD3:DD105=AP13)*(DE3:DE105="W"))+SUMPRODUCT((DA3:DA105=AP12)*(DD3:DD105=AP14)*(DE3:DE105="W"))+SUMPRODUCT((DA3:DA105=AP12)*(DD3:DD105=AP15)*(DE3:DE105="W"))+SUMPRODUCT((DA3:DA105=AP13)*(DD3:DD105=AP12)*(DF3:DF105="W"))+SUMPRODUCT((DA3:DA105=AP14)*(DD3:DD105=AP12)*(DF3:DF105="W"))+SUMPRODUCT((DA3:DA105=AP15)*(DD3:DD105=AP12)*(DF3:DF105="W")) -> 0 | AR12: =SUMPRODUCT((DA3:DA105=AP12)*(DD3:DD105=AP13)*(DE3:DE105="D"))+SUMPRODUCT((DA3:DA105=AP12)*(DD3:DD105=AP14)*(DE3:DE105="D"))+SUMPRODUCT((DA3:DA105=AP12)*(DD3:DD105=AP15)*(DE3:DE105="D"))+SUMPRODUCT((DA3:DA105=AP13)*(DD3:DD105=AP12)*(DE3:DE105="D"))+SUMPRODUCT((DA3:DA105=AP14)*(DD3:DD105=AP12)*(DE3:DE105="D"))+SUMPRODUCT((DA3:DA105=AP15)*(DD3:DD105=AP12)*(DE3:DE105="D")) -> 0 | AS12: =SUMPRODUCT((DA3:DA105=AP12)*(DD3:DD105=AP13)*(DE3:DE105="L"))+SUMPRODUCT((DA3:DA105=AP12)*(DD3:DD105=AP14)*(DE3:DE105="L"))+SUMPRODUCT((DA3:DA105=AP12)*(DD3:DD105=AP15)*(DE3:DE105="L"))+SUMPRODUCT((DA3:DA105=AP13)*(DD3:DD105=AP12)*(DF3:DF105="L"))+SUMPRODUCT((DA3:DA105=AP14)*(DD3:DD105=AP12)*(DF3:DF105="L"))+SUMPRODUCT((DA3:DA105=AP15)*(DD3:DD105=AP12)*(DF3:DF105="L")) -> 0 | AT12: =SUMPRODUCT((DA3:DA105=AP12)*(DD3:DD105=AP13)*DB3:DB105)+SUMPRODUCT((DA3:DA105=AP12)*(DD3:DD105=AP14)*DB3:DB105)+SUMPRODUCT((DA3:DA105=AP12)*(DD3:DD105=AP15)*DB3:DB105)+SUMPRODUCT((DA3:DA105=AP12)*(DD3:DD105=AP11)*DB3:DB105)+SUMPRODUCT((DA3:DA105=AP13)*(DD3:DD105=AP12)*DC3:DC105)+SUMPRODUCT((DA3:DA105=AP14)*(DD3:DD105=AP12)*DC3:DC105)+SUMPRODUCT((DA3:DA105=AP15)*(DD3:DD105=AP12)*DC3:DC105)+SUMPRODUCT((DA3:DA105=AP11)*(DD3:DD105=AP12)*DC3:DC105) -> 0 | AU12: =SUMPRODUCT((DA3:DA105=AP12)*(DD3:DD105=AP13)*DC3:DC105)+SUMPRODUCT((DA3:DA105=AP12)*(DD3:DD105=AP14)*DC3:DC105)+SUMPRODUCT((DA3:DA105=AP12)*(DD3:DD105=AP15)*DC3:DC105)+SUMPRODUCT((DA3:DA105=AP12)*(DD3:DD105=AP11)*DC3:DC105)+SUMPRODUCT((DA3:DA105=AP13)*(DD3:DD105=AP12)*DB3:DB105)+SUMPRODUCT((DA3:DA105=AP14)*(DD3:DD105=AP12)*DB3:DB105)+SUMPRODUCT((DA3:DA105=AP15)*(DD3:DD105=AP12)*DB3:DB105)+SUMPRODUCT((DA3:DA105=AP11)*(DD3:DD105=AP12)*DB3:DB105) -> 0 | AV12: =AT12-AU12+1000 -> 1000 | AW12: =IF(AP12<>"",AQ12*3+AR12*1,"") | AX12: =IF(AP12<>"",VLOOKUP(AP12,C4:I52,7,FALSE),"") | AY12: =IF(AP12<>"",VLOOKUP(AP12,C4:I52,5,FALSE),"") | AZ12: =IF(AP12<>"",VLOOKUP(AP12,C4:K52,9,FALSE),"") | BA12: =AW12 | BB12: =IF(AP12<>"",RANK(BA12,BA11:BA15),"") | BC12: =IF(AP12<>"",SUMPRODUCT((BA11:BA15=BA12)*(AV11:AV15>AV12)),"") | BD12: =IF(AP12<>"",SUMPRODUCT((BA11:BA15=BA12)*(AV11:AV15=AV12)*(AT11:AT15>AT12)),"") | BE12: =IF(AP12<>"",SUMPRODUCT((BA11:BA15=BA12)*(AV11:AV15=AV12)*(AT11:AT15=AT12)*(AX11:AX15>AX12)),"") | BF12: =IF(AP12<>"",SUMPRODUCT((BA11:BA15=BA12)*(AV11:AV15=AV12)*(AT11:AT15=AT12)*(AX11:AX15=AX12)*(AY11:AY15>AY12)),"") | BG12: =IF(AP12<>"",SUMPRODUCT((BA11:BA15=BA12)*(AV11:AV15=AV12)*(AT11:AT15=AT12)*(AX11:AX15=AX12)*(AY11:AY15=AY12)*(AZ11:AZ15>AZ12)),"") | BH12: =IF(AP12<>"",IF(BH91<>"",IF(AO89=3,BH91,BH91+AO89),SUM(BB12:BG12)+1),"") | BI12: =IF(AP12<>"",INDEX(AP12:AP15,MATCH(2,BH12:BH15,0),0),"") | CX12: =IF(BI12<>"",BI12,IF(AO12<>"",AO12,O12)) -> Canada | CY12: 2 | CZ12: 10 | DA12: =Matches!F17 -> Germany | DB12: =IF(DA2<>"",IF(AND(Matches!H17<>"",Matches!I17<>""),Matches!H17,0),"") -> 0 | DC12: =IF(DA2<>"",IF(AND(Matches!H17<>"",Matches!I17<>""),Matches!I17,0),"") -> 0 | DD12: =Matches!K17 -> Curacao | DE12: =IF(AND(Matches!H17<>"",Matches!I17<>""),IF(DB12>DC12,"W",IF(DB12=DC12,"D","L")),"") | DF12: =IF(DE12<>"",IF(DE12="W","L",IF(DE12="L","W","D")),"")
A13: =Setup!E12+100 -> 156 | B13: =VLOOKUP(C13,CX11:CY15,2,FALSE) -> 3 | C13: =Setup!D12 -> Qatar | D13: =SUMPRODUCT((DA3:DA105=C13)*(DE3:DE105="W"))+SUMPRODUCT((DD3:DD105=C13)*(DF3:DF105="W")) -> 0 | E13: =SUMPRODUCT((DA3:DA105=C13)*(DE3:DE105="D"))+SUMPRODUCT((DD3:DD105=C13)*(DF3:DF105="D")) -> 0 | F13: =SUMPRODUCT((DA3:DA105=C13)*(DE3:DE105="L"))+SUMPRODUCT((DD3:DD105=C13)*(DF3:DF105="L")) -> 0 | G13: =SUMIF(DA3:DA123,C13,DB3:DB123)+SUMIF(DD3:DD123,C13,DC3:DC123) -> 0 | H13: =SUMIF(DD3:DD123,C13,DB3:DB123)+SUMIF(DA3:DA123,C13,DC3:DC123) -> 0 | I13: =G13-H13+1000 -> 1000 | J13: =D13*3+E13*1 -> 0 | K13: =IF(Setup!F12<>"",Setup!F12,-A13) -> -156 | L13: =IF(COUNTIF(J11:J15,4)<>4,RANK(J13,J11:J15),J92) -> 1 | N13: =SUMPRODUCT((L11:L14=L13)*(K11:K14<K13))+L13 -> 2 | O13: =INDEX(C11:C15,MATCH(3,N11:N15,0),0) -> Canada | P13: =INDEX(L11:L15,MATCH(O13,C11:C15,0),0) -> 1 | Q13: =IF(AND(Q12<>"",P13=1),O13,"") -> Canada | R13: =IF(AND(R12<>"",P14=2),O14,"") | S13: =IF(AND(S12<>"",P15=3),O15,"") | V13: =IF(Q13<>"",Q13,"") -> Canada | W13: =SUMPRODUCT((DA3:DA105=V13)*(DD3:DD105=V14)*(DE3:DE105="W"))+SUMPRODUCT((DA3:DA105=V13)*(DD3:DD105=V15)*(DE3:DE105="W"))+SUMPRODUCT((DA3:DA105=V13)*(DD3:DD105=V11)*(DE3:DE105="W"))+SUMPRODUCT((DA3:DA105=V13)*(DD3:DD105=V12)*(DE3:DE105="W"))+SUMPRODUCT((DA3:DA105=V14)*(DD3:DD105=V13)*(DF3:DF105="W"))+SUMPRODUCT((DA3:DA105=V15)*(DD3:DD105=V13)*(DF3:DF105="W"))+SUMPRODUCT((DA3:DA105=V11)*(DD3:DD105=V13)*(DF3:DF105="W"))+SUMPRODUCT((DA3:DA105=V12)*(DD3:DD105=V13)*(DF3:DF105="W")) -> 0 | X13: =SUMPRODUCT((DA3:DA105=V13)*(DD3:DD105=V14)*(DE3:DE105="D"))+SUMPRODUCT((DA3:DA105=V13)*(DD3:DD105=V15)*(DE3:DE105="D"))+SUMPRODUCT((DA3:DA105=V13)*(DD3:DD105=V11)*(DE3:DE105="D"))+SUMPRODUCT((DA3:DA105=V13)*(DD3:DD105=V12)*(DE3:DE105="D"))+SUMPRODUCT((DA3:DA105=V14)*(DD3:DD105=V13)*(DE3:DE105="D"))+SUMPRODUCT((DA3:DA105=V15)*(DD3:DD105=V13)*(DE3:DE105="D"))+SUMPRODUCT((DA3:DA105=V11)*(DD3:DD105=V13)*(DE3:DE105="D"))+SUMPRODUCT((DA3:DA105=V12)*(DD3:DD105=V13)*(DE3:DE105="D")) -> 0 | Y13: =SUMPRODUCT((DA3:DA105=V13)*(DD3:DD105=V14)*(DE3:DE105="L"))+SUMPRODUCT((DA3:DA105=V13)*(DD3:DD105=V15)*(DE3:DE105="L"))+SUMPRODUCT((DA3:DA105=V13)*(DD3:DD105=V11)*(DE3:DE105="L"))+SUMPRODUCT((DA3:DA105=V13)*(DD3:DD105=V12)*(DE3:DE105="L"))+SUMPRODUCT((DA3:DA105=V14)*(DD3:DD105=V13)*(DF3:DF105="L"))+SUMPRODUCT((DA3:DA105=V15)*(DD3:DD105=V13)*(DF3:DF105="L"))+SUMPRODUCT((DA3:DA105=V11)*(DD3:DD105=V13)*(DF3:DF105="L"))+SUMPRODUCT((DA3:DA105=V12)*(DD3:DD105=V13)*(DF3:DF105="L")) -> 0 | Z13: =SUMPRODUCT((DA3:DA105=V13)*(DD3:DD105=V14)*DB3:DB105)+SUMPRODUCT((DA3:DA105=V13)*(DD3:DD105=V15)*DB3:DB105)+SUMPRODUCT((DA3:DA105=V13)*(DD3:DD105=V11)*DB3:DB105)+SUMPRODUCT((DA3:DA105=V13)*(DD3:DD105=V12)*DB3:DB105)+SUMPRODUCT((DA3:DA105=V14)*(DD3:DD105=V13)*DC3:DC105)+SUMPRODUCT((DA3:DA105=V15)*(DD3:DD105=V13)*DC3:DC105)+SUMPRODUCT((DA3:DA105=V11)*(DD3:DD105=V13)*DC3:DC105)+SUMPRODUCT((DA3:DA105=V12)*(DD3:DD105=V13)*DC3:DC105) -> 0 | AA13: =SUMPRODUCT((DA3:DA105=V13)*(DD3:DD105=V14)*DC3:DC105)+SUMPRODUCT((DA3:DA105=V13)*(DD3:DD105=V15)*DC3:DC105)+SUMPRODUCT((DA3:DA105=V13)*(DD3:DD105=V11)*DC3:DC105)+SUMPRODUCT((DA3:DA105=V13)*(DD3:DD105=V12)*DC3:DC105)+SUMPRODUCT((DA3:DA105=V14)*(DD3:DD105=V13)*DB3:DB105)+SUMPRODUCT((DA3:DA105=V15)*(DD3:DD105=V13)*DB3:DB105)+SUMPRODUCT((DA3:DA105=V11)*(DD3:DD105=V13)*DB3:DB105)+SUMPRODUCT((DA3:DA105=V12)*(DD3:DD105=V13)*DB3:DB105) -> 0 | AB13: =Z13-AA13+1000 -> 1000 | AC13: =IF(V13<>"",W13*3+X13*1,"") -> 0 | AD13: =IF(V13<>"",VLOOKUP(V13,C4:I52,7,FALSE),"") -> 1000 | AE13: =IF(V13<>"",VLOOKUP(V13,C4:I52,5,FALSE),"") -> 0 | AF13: =IF(V13<>"",VLOOKUP(V13,C4:K52,9,FALSE),"") -> -129 | AG13: =AC13 -> 0 | AH13: =IF(V13<>"",RANK(AG13,AG11:AG15),"") -> 1 | AI13: =IF(V13<>"",SUMPRODUCT((AG11:AG15=AG13)*(AB11:AB15>AB13)),"") -> 0 | AJ13: =IF(V13<>"",SUMPRODUCT((AG11:AG15=AG13)*(AB11:AB15=AB13)*(Z11:Z15>Z13)),"") -> 0 | AK13: =IF(V13<>"",SUMPRODUCT((AG11:AG15=AG13)*(AB11:AB15=AB13)*(Z11:Z15=Z13)*(AD11:AD15>AD13)),"") -> 0 | AL13: =IF(V13<>"",SUMPRODUCT((AG11:AG15=AG13)*(AB11:AB15=AB13)*(Z11:Z15=Z13)*(AD11:AD15=AD13)*(AE11:AE15>AE13)),"") -> 0 | AM13: =IF(V13<>"",SUMPRODUCT((AG11:AG15=AG13)*(AB11:AB15=AB13)*(Z11:Z15=Z13)*(AD11:AD15=AD13)*(AE11:AE15=AE13)*(AF11:AF15>AF13)),"") -> 1 | AN13: =IF(V13<>"",IF(SUM(X11:X14)=12,SUM(AH13:AM13),IF(AN92<>"",IF(U89=3,AN92,AN92+U89),SUM(AH13:AM13))),"") -> 2 | AO13: =IF(V13<>"",INDEX(V11:V15,MATCH(3,AN11:AN15,0),0),"") -> Qatar | AP13: =IF(R12<>"",R12,"") | AQ13: =SUMPRODUCT((DA3:DA105=AP13)*(DD3:DD105=AP14)*(DE3:DE105="W"))+SUMPRODUCT((DA3:DA105=AP13)*(DD3:DD105=AP15)*(DE3:DE105="W"))+SUMPRODUCT((DA3:DA105=AP13)*(DD3:DD105=AP12)*(DE3:DE105="W"))+SUMPRODUCT((DA3:DA105=AP14)*(DD3:DD105=AP13)*(DF3:DF105="W"))+SUMPRODUCT((DA3:DA105=AP15)*(DD3:DD105=AP13)*(DF3:DF105="W"))+SUMPRODUCT((DA3:DA105=AP12)*(DD3:DD105=AP13)*(DF3:DF105="W")) -> 0 | AR13: =SUMPRODUCT((DA3:DA105=AP13)*(DD3:DD105=AP14)*(DE3:DE105="D"))+SUMPRODUCT((DA3:DA105=AP13)*(DD3:DD105=AP15)*(DE3:DE105="D"))+SUMPRODUCT((DA3:DA105=AP13)*(DD3:DD105=AP12)*(DE3:DE105="D"))+SUMPRODUCT((DA3:DA105=AP14)*(DD3:DD105=AP13)*(DE3:DE105="D"))+SUMPRODUCT((DA3:DA105=AP15)*(DD3:DD105=AP13)*(DE3:DE105="D"))+SUMPRODUCT((DA3:DA105=AP12)*(DD3:DD105=AP13)*(DE3:DE105="D")) -> 0 | AS13: =SUMPRODUCT((DA3:DA105=AP13)*(DD3:DD105=AP14)*(DE3:DE105="L"))+SUMPRODUCT((DA3:DA105=AP13)*(DD3:DD105=AP15)*(DE3:DE105="L"))+SUMPRODUCT((DA3:DA105=AP13)*(DD3:DD105=AP12)*(DE3:DE105="L"))+SUMPRODUCT((DA3:DA105=AP14)*(DD3:DD105=AP13)*(DF3:DF105="L"))+SUMPRODUCT((DA3:DA105=AP15)*(DD3:DD105=AP13)*(DF3:DF105="L"))+SUMPRODUCT((DA3:DA105=AP12)*(DD3:DD105=AP13)*(DF3:DF105="L")) -> 0 | AT13: =SUMPRODUCT((DA3:DA105=AP13)*(DD3:DD105=AP14)*DB3:DB105)+SUMPRODUCT((DA3:DA105=AP13)*(DD3:DD105=AP15)*DB3:DB105)+SUMPRODUCT((DA3:DA105=AP13)*(DD3:DD105=AP11)*DB3:DB105)+SUMPRODUCT((DA3:DA105=AP13)*(DD3:DD105=AP12)*DB3:DB105)+SUMPRODUCT((DA3:DA105=AP14)*(DD3:DD105=AP13)*DC3:DC105)+SUMPRODUCT((DA3:DA105=AP15)*(DD3:DD105=AP13)*DC3:DC105)+SUMPRODUCT((DA3:DA105=AP11)*(DD3:DD105=AP13)*DC3:DC105)+SUMPRODUCT((DA3:DA105=AP12)*(DD3:DD105=AP13)*DC3:DC105) -> 0 | AU13: =SUMPRODUCT((DA3:DA105=AP13)*(DD3:DD105=AP14)*DC3:DC105)+SUMPRODUCT((DA3:DA105=AP13)*(DD3:DD105=AP15)*DC3:DC105)+SUMPRODUCT((DA3:DA105=AP13)*(DD3:DD105=AP11)*DC3:DC105)+SUMPRODUCT((DA3:DA105=AP13)*(DD3:DD105=AP12)*DC3:DC105)+SUMPRODUCT((DA3:DA105=AP14)*(DD3:DD105=AP13)*DB3:DB105)+SUMPRODUCT((DA3:DA105=AP15)*(DD3:DD105=AP13)*DB3:DB105)+SUMPRODUCT((DA3:DA105=AP11)*(DD3:DD105=AP13)*DB3:DB105)+SUMPRODUCT((DA3:DA105=AP12)*(DD3:DD105=AP13)*DB3:DB105) -> 0 | AV13: =AT13-AU13+1000 -> 1000 | AW13: =IF(AP13<>"",AQ13*3+AR13*1,"") | AX13: =IF(AP13<>"",VLOOKUP(AP13,C4:I52,7,FALSE),"") | AY13: =IF(AP13<>"",VLOOKUP(AP13,C4:I52,5,FALSE),"") | AZ13: =IF(AP13<>"",VLOOKUP(AP13,C4:K52,9,FALSE),"") | BA13: =AW13 | BB13: =IF(AP13<>"",RANK(BA13,BA11:BA15),"") | BC13: =IF(AP13<>"",SUMPRODUCT((BA11:BA15=BA13)*(AV11:AV15>AV13)),"") | BD13: =IF(AP13<>"",SUMPRODUCT((BA11:BA15=BA13)*(AV11:AV15=AV13)*(AT11:AT15>AT13)),"") | BE13: =IF(AP13<>"",SUMPRODUCT((BA11:BA15=BA13)*(AV11:AV15=AV13)*(AT11:AT15=AT13)*(AX11:AX15>AX13)),"") | BF13: =IF(AP13<>"",SUMPRODUCT((BA11:BA15=BA13)*(AV11:AV15=AV13)*(AT11:AT15=AT13)*(AX11:AX15=AX13)*(AY11:AY15>AY13)),"") | BG13: =IF(AP13<>"",SUMPRODUCT((BA11:BA15=BA13)*(AV11:AV15=AV13)*(AT11:AT15=AT13)*(AX11:AX15=AX13)*(AY11:AY15=AY13)*(AZ11:AZ15>AZ13)),"") | BH13: =IF(AP13<>"",IF(BH92<>"",IF(AO89=3,BH92,BH92+AO89),SUM(BB13:BG13)+1),"") | BI13: =IF(AP13<>"",INDEX(AP12:AP15,MATCH(3,BH12:BH15,0),0),"") | BJ13: =IF(S11<>"",S11,"") | BK13: =SUMPRODUCT((DA3:DA105=BJ13)*(DD3:DD105=BJ14)*(DE3:DE105="W"))+SUMPRODUCT((DA3:DA105=BJ13)*(DD3:DD105=BJ15)*(DE3:DE105="W"))+SUMPRODUCT((DA3:DA105=BJ13)*(DD3:DD105=BJ16)*(DE3:DE105="W"))+SUMPRODUCT((DA3:DA105=BJ14)*(DD3:DD105=BJ13)*(DF3:DF105="W"))+SUMPRODUCT((DA3:DA105=BJ15)*(DD3:DD105=BJ13)*(DF3:DF105="W"))+SUMPRODUCT((DA3:DA105=BJ16)*(DD3:DD105=BJ13)*(DF3:DF105="W")) -> 0 | BL13: =SUMPRODUCT((DA3:DA105=BJ13)*(DD3:DD105=BJ14)*(DE3:DE105="D"))+SUMPRODUCT((DA3:DA105=BJ13)*(DD3:DD105=BJ15)*(DE3:DE105="D"))+SUMPRODUCT((DA3:DA105=BJ13)*(DD3:DD105=BJ16)*(DE3:DE105="D"))+SUMPRODUCT((DA3:DA105=BJ14)*(DD3:DD105=BJ13)*(DE3:DE105="D"))+SUMPRODUCT((DA3:DA105=BJ15)*(DD3:DD105=BJ13)*(DE3:DE105="D"))+SUMPRODUCT((DA3:DA105=BJ16)*(DD3:DD105=BJ13)*(DE3:DE105="D")) -> 0 | BM13: =SUMPRODUCT((DA3:DA105=BJ13)*(DD3:DD105=BJ14)*(DE3:DE105="L"))+SUMPRODUCT((DA3:DA105=BJ13)*(DD3:DD105=BJ15)*(DE3:DE105="L"))+SUMPRODUCT((DA3:DA105=BJ13)*(DD3:DD105=BJ16)*(DE3:DE105="L"))+SUMPRODUCT((DA3:DA105=BJ14)*(DD3:DD105=BJ13)*(DF3:DF105="L"))+SUMPRODUCT((DA3:DA105=BJ15)*(DD3:DD105=BJ13)*(DF3:DF105="L"))+SUMPRODUCT((DA3:DA105=BJ16)*(DD3:DD105=BJ13)*(DF3:DF105="L")) -> 0 | BN13: =SUMPRODUCT((DA3:DA105=BJ13)*(DD3:DD105=BJ14)*DB3:DB105)+SUMPRODUCT((DA3:DA105=BJ13)*(DD3:DD105=BJ15)*DB3:DB105)+SUMPRODUCT((DA3:DA105=BJ13)*(DD3:DD105=BJ11)*DB3:DB105)+SUMPRODUCT((DA3:DA105=BJ13)*(DD3:DD105=BJ12)*DB3:DB105)+SUMPRODUCT((DA3:DA105=BJ14)*(DD3:DD105=BJ13)*DC3:DC105)+SUMPRODUCT((DA3:DA105=BJ15)*(DD3:DD105=BJ13)*DC3:DC105)+SUMPRODUCT((DA3:DA105=BJ11)*(DD3:DD105=BJ13)*DC3:DC105)+SUMPRODUCT((DA3:DA105=BJ12)*(DD3:DD105=BJ13)*DC3:DC105) -> 0 | BO13: =SUMPRODUCT((DA3:DA105=BJ13)*(DD3:DD105=BJ14)*DC3:DC105)+SUMPRODUCT((DA3:DA105=BJ13)*(DD3:DD105=BJ15)*DC3:DC105)+SUMPRODUCT((DA3:DA105=BJ13)*(DD3:DD105=BJ11)*DC3:DC105)+SUMPRODUCT((DA3:DA105=BJ13)*(DD3:DD105=BJ12)*DC3:DC105)+SUMPRODUCT((DA3:DA105=BJ14)*(DD3:DD105=BJ13)*DB3:DB105)+SUMPRODUCT((DA3:DA105=BJ15)*(DD3:DD105=BJ13)*DB3:DB105)+SUMPRODUCT((DA3:DA105=BJ11)*(DD3:DD105=BJ13)*DB3:DB105)+SUMPRODUCT((DA3:DA105=BJ12)*(DD3:DD105=BJ13)*DB3:DB105) -> 0 | BP13: =BN13-BO13+1000 -> 1000 | BQ13: =IF(BJ13<>"",BK13*3+BL13*1,"") | BR13: =IF(BJ13<>"",VLOOKUP(BJ13,C4:I52,7,FALSE),"") | BS13: =IF(BJ13<>"",VLOOKUP(BJ13,C4:I52,5,FALSE),"") | BT13: =IF(BJ13<>"",VLOOKUP(BJ13,C4:K52,9,FALSE),"") | BU13: =BQ13 | BV13: =IF(BJ13<>"",RANK(BU13,BU11:BU15),"") | BW13: =IF(BJ13<>"",SUMPRODUCT((BU11:BU15=BU13)*(BP11:BP15>BP13)),"") | BX13: =IF(BJ13<>"",SUMPRODUCT((BU11:BU15=BU13)*(BP11:BP15=BP13)*(BN11:BN15>BN13)),"") | BY13: =IF(BJ13<>"",SUMPRODUCT((BU11:BU15=BU13)*(BP11:BP15=BP13)*(BN11:BN15=BN13)*(BR11:BR15>BR13)),"") | BZ13: =IF(BJ13<>"",SUMPRODUCT((BU11:BU15=BU13)*(BP11:BP15=BP13)*(BN11:BN15=BN13)*(BR11:BR15=BR13)*(BS11:BS15>BS13)),"") | CA13: =IF(BJ13<>"",SUMPRODUCT((BU11:BU15=BU13)*(BP11:BP15=BP13)*(BN11:BN15=BN13)*(BR11:BR15=BR13)*(BS11:BS15=BS13)*(BT11:BT15>BT13)),"") | CB13: =IF(BJ13<>"",SUM(BV13:CA13)+2,"") | CC13: =IF(BJ13<>"",INDEX(BJ13:BJ15,MATCH(3,CB13:CB15,0),0),"") | CX13: =IF(CC13<>"",CC13,IF(BI13<>"",BI13,IF(AO13<>"",AO13,O13))) -> Qatar | CY13: 3 | CZ13: 11 | DA13: =Matches!F18 -> Netherlands | DB13: =IF(DA2<>"",IF(AND(Matches!H18<>"",Matches!I18<>""),Matches!H18,0),"") -> 0 | DC13: =IF(DA2<>"",IF(AND(Matches!H18<>"",Matches!I18<>""),Matches!I18,0),"") -> 0 | DD13: =Matches!K18 -> Japan | DE13: =IF(AND(Matches!H18<>"",Matches!I18<>""),IF(DB13>DC13,"W",IF(DB13=DC13,"D","L")),"") | DF13: =IF(DE13<>"",IF(DE13="W","L",IF(DE13="L","W","D")),"")
A14: =Setup!E13+100 -> 118 | B14: =VLOOKUP(C14,CX11:CY15,2,FALSE) -> 1 | C14: =Setup!D13 -> Switzerland | D14: =SUMPRODUCT((DA3:DA105=C14)*(DE3:DE105="W"))+SUMPRODUCT((DD3:DD105=C14)*(DF3:DF105="W")) -> 0 | E14: =SUMPRODUCT((DA3:DA105=C14)*(DE3:DE105="D"))+SUMPRODUCT((DD3:DD105=C14)*(DF3:DF105="D")) -> 0 | F14: =SUMPRODUCT((DA3:DA105=C14)*(DE3:DE105="L"))+SUMPRODUCT((DD3:DD105=C14)*(DF3:DF105="L")) -> 0 | G14: =SUMIF(DA3:DA123,C14,DB3:DB123)+SUMIF(DD3:DD123,C14,DC3:DC123) -> 0 | H14: =SUMIF(DD3:DD123,C14,DB3:DB123)+SUMIF(DA3:DA123,C14,DC3:DC123) -> 0 | I14: =G14-H14+1000 -> 1000 | J14: =D14*3+E14*1 -> 0 | K14: =IF(Setup!F13<>"",Setup!F13,-A14) -> -118 | L14: =IF(COUNTIF(J11:J15,4)<>4,RANK(J14,J11:J15),J93) -> 1 | N14: =SUMPRODUCT((L11:L14=L14)*(K11:K14<K14))+L14 -> 4 | O14: =INDEX(C11:C15,MATCH(4,N11:N15,0),0) -> Switzerland | P14: =INDEX(L11:L15,MATCH(O14,C11:C15,0),0) -> 1 | Q14: =IF(AND(Q13<>"",P14=1),O14,"") -> Switzerland | R14: =IF(AND(R13<>"",P15=2),O15,"") | V14: =IF(Q14<>"",Q14,"") -> Switzerland | W14: =SUMPRODUCT((DA3:DA105=V14)*(DD3:DD105=V15)*(DE3:DE105="W"))+SUMPRODUCT((DA3:DA105=V14)*(DD3:DD105=V11)*(DE3:DE105="W"))+SUMPRODUCT((DA3:DA105=V14)*(DD3:DD105=V12)*(DE3:DE105="W"))+SUMPRODUCT((DA3:DA105=V14)*(DD3:DD105=V13)*(DE3:DE105="W"))+SUMPRODUCT((DA3:DA105=V15)*(DD3:DD105=V14)*(DF3:DF105="W"))+SUMPRODUCT((DA3:DA105=V11)*(DD3:DD105=V14)*(DF3:DF105="W"))+SUMPRODUCT((DA3:DA105=V12)*(DD3:DD105=V14)*(DF3:DF105="W"))+SUMPRODUCT((DA3:DA105=V13)*(DD3:DD105=V14)*(DF3:DF105="W")) -> 0 | X14: =SUMPRODUCT((DA3:DA105=V14)*(DD3:DD105=V15)*(DE3:DE105="D"))+SUMPRODUCT((DA3:DA105=V14)*(DD3:DD105=V11)*(DE3:DE105="D"))+SUMPRODUCT((DA3:DA105=V14)*(DD3:DD105=V12)*(DE3:DE105="D"))+SUMPRODUCT((DA3:DA105=V14)*(DD3:DD105=V13)*(DE3:DE105="D"))+SUMPRODUCT((DA3:DA105=V15)*(DD3:DD105=V14)*(DE3:DE105="D"))+SUMPRODUCT((DA3:DA105=V11)*(DD3:DD105=V14)*(DE3:DE105="D"))+SUMPRODUCT((DA3:DA105=V12)*(DD3:DD105=V14)*(DE3:DE105="D"))+SUMPRODUCT((DA3:DA105=V13)*(DD3:DD105=V14)*(DE3:DE105="D")) -> 0 | Y14: =SUMPRODUCT((DA3:DA105=V14)*(DD3:DD105=V15)*(DE3:DE105="L"))+SUMPRODUCT((DA3:DA105=V14)*(DD3:DD105=V11)*(DE3:DE105="L"))+SUMPRODUCT((DA3:DA105=V14)*(DD3:DD105=V12)*(DE3:DE105="L"))+SUMPRODUCT((DA3:DA105=V14)*(DD3:DD105=V13)*(DE3:DE105="L"))+SUMPRODUCT((DA3:DA105=V15)*(DD3:DD105=V14)*(DF3:DF105="L"))+SUMPRODUCT((DA3:DA105=V11)*(DD3:DD105=V14)*(DF3:DF105="L"))+SUMPRODUCT((DA3:DA105=V12)*(DD3:DD105=V14)*(DF3:DF105="L"))+SUMPRODUCT((DA3:DA105=V13)*(DD3:DD105=V14)*(DF3:DF105="L")) -> 0 | Z14: =SUMPRODUCT((DA3:DA105=V14)*(DD3:DD105=V15)*DB3:DB105)+SUMPRODUCT((DA3:DA105=V14)*(DD3:DD105=V11)*DB3:DB105)+SUMPRODUCT((DA3:DA105=V14)*(DD3:DD105=V12)*DB3:DB105)+SUMPRODUCT((DA3:DA105=V14)*(DD3:DD105=V13)*DB3:DB105)+SUMPRODUCT((DA3:DA105=V15)*(DD3:DD105=V14)*DC3:DC105)+SUMPRODUCT((DA3:DA105=V11)*(DD3:DD105=V14)*DC3:DC105)+SUMPRODUCT((DA3:DA105=V12)*(DD3:DD105=V14)*DC3:DC105)+SUMPRODUCT((DA3:DA105=V13)*(DD3:DD105=V14)*DC3:DC105) -> 0 | AA14: =SUMPRODUCT((DA3:DA105=V14)*(DD3:DD105=V15)*DC3:DC105)+SUMPRODUCT((DA3:DA105=V14)*(DD3:DD105=V11)*DC3:DC105)+SUMPRODUCT((DA3:DA105=V14)*(DD3:DD105=V12)*DC3:DC105)+SUMPRODUCT((DA3:DA105=V14)*(DD3:DD105=V13)*DC3:DC105)+SUMPRODUCT((DA3:DA105=V15)*(DD3:DD105=V14)*DB3:DB105)+SUMPRODUCT((DA3:DA105=V11)*(DD3:DD105=V14)*DB3:DB105)+SUMPRODUCT((DA3:DA105=V12)*(DD3:DD105=V14)*DB3:DB105)+SUMPRODUCT((DA3:DA105=V13)*(DD3:DD105=V14)*DB3:DB105) -> 0 | AB14: =Z14-AA14+1000 -> 1000 | AC14: =IF(V14<>"",W14*3+X14*1,"") -> 0 | AD14: =IF(V14<>"",VLOOKUP(V14,C4:I52,7,FALSE),"") -> 1000 | AE14: =IF(V14<>"",VLOOKUP(V14,C4:I52,5,FALSE),"") -> 0 | AF14: =IF(V14<>"",VLOOKUP(V14,C4:K52,9,FALSE),"") -> -118 | AG14: =AC14 -> 0 | AH14: =IF(V14<>"",RANK(AG14,AG11:AG15),"") -> 1 | AI14: =IF(V14<>"",SUMPRODUCT((AG11:AG15=AG14)*(AB11:AB15>AB14)),"") -> 0 | AJ14: =IF(V14<>"",SUMPRODUCT((AG11:AG15=AG14)*(AB11:AB15=AB14)*(Z11:Z15>Z14)),"") -> 0 | AK14: =IF(V14<>"",SUMPRODUCT((AG11:AG15=AG14)*(AB11:AB15=AB14)*(Z11:Z15=Z14)*(AD11:AD15>AD14)),"") -> 0 | AL14: =IF(V14<>"",SUMPRODUCT((AG11:AG15=AG14)*(AB11:AB15=AB14)*(Z11:Z15=Z14)*(AD11:AD15=AD14)*(AE11:AE15>AE14)),"") -> 0 | AM14: =IF(V14<>"",SUMPRODUCT((AG11:AG15=AG14)*(AB11:AB15=AB14)*(Z11:Z15=Z14)*(AD11:AD15=AD14)*(AE11:AE15=AE14)*(AF11:AF15>AF14)),"") -> 0 | AN14: =IF(V14<>"",IF(SUM(X11:X14)=12,SUM(AH14:AM14),IF(AN93<>"",IF(U89=3,AN93,AN93+U89),SUM(AH14:AM14))),"") -> 1 | AO14: =IF(V14<>"",INDEX(V11:V15,MATCH(4,AN11:AN15,0),0),"") -> Bosnia and Herzegovina | AP14: =IF(R13<>"",R13,"") | AQ14: =IF(AP14<>"",SUMPRODUCT((DA3:DA105=AP14)*(DD3:DD105=AP15)*(DE3:DE105="W"))+SUMPRODUCT((DA3:DA105=AP14)*(DD3:DD105=AP12)*(DE3:DE105="W"))+SUMPRODUCT((DA3:DA105=AP14)*(DD3:DD105=AP13)*(DE3:DE105="W"))+SUMPRODUCT((DA3:DA105=AP15)*(DD3:DD105=AP14)*(DF3:DF105="W"))+SUMPRODUCT((DA3:DA105=AP12)*(DD3:DD105=AP14)*(DF3:DF105="W"))+SUMPRODUCT((DA3:DA105=AP13)*(DD3:DD105=AP14)*(DF3:DF105="W")),"") | AR14: =IF(AP14<>"",SUMPRODUCT((DA3:DA105=AP14)*(DD3:DD105=AP15)*(DE3:DE105="D"))+SUMPRODUCT((DA3:DA105=AP14)*(DD3:DD105=AP12)*(DE3:DE105="D"))+SUMPRODUCT((DA3:DA105=AP14)*(DD3:DD105=AP13)*(DE3:DE105="D"))+SUMPRODUCT((DA3:DA105=AP15)*(DD3:DD105=AP14)*(DE3:DE105="D"))+SUMPRODUCT((DA3:DA105=AP12)*(DD3:DD105=AP14)*(DE3:DE105="D"))+SUMPRODUCT((DA3:DA105=AP13)*(DD3:DD105=AP14)*(DE3:DE105="D")),"") | AS14: =IF(AP14<>"",SUMPRODUCT((DA3:DA105=AP14)*(DD3:DD105=AP15)*(DE3:DE105="L"))+SUMPRODUCT((DA3:DA105=AP14)*(DD3:DD105=AP12)*(DE3:DE105="L"))+SUMPRODUCT((DA3:DA105=AP14)*(DD3:DD105=AP13)*(DE3:DE105="L"))+SUMPRODUCT((DA3:DA105=AP15)*(DD3:DD105=AP14)*(DF3:DF105="L"))+SUMPRODUCT((DA3:DA105=AP12)*(DD3:DD105=AP14)*(DF3:DF105="L"))+SUMPRODUCT((DA3:DA105=AP13)*(DD3:DD105=AP14)*(DF3:DF105="L")),"") | AT14: =SUMPRODUCT((DA3:DA105=AP14)*(DD3:DD105=AP15)*DB3:DB105)+SUMPRODUCT((DA3:DA105=AP14)*(DD3:DD105=AP11)*DB3:DB105)+SUMPRODUCT((DA3:DA105=AP14)*(DD3:DD105=AP12)*DB3:DB105)+SUMPRODUCT((DA3:DA105=AP14)*(DD3:DD105=AP13)*DB3:DB105)+SUMPRODUCT((DA3:DA105=AP15)*(DD3:DD105=AP14)*DC3:DC105)+SUMPRODUCT((DA3:DA105=AP11)*(DD3:DD105=AP14)*DC3:DC105)+SUMPRODUCT((DA3:DA105=AP12)*(DD3:DD105=AP14)*DC3:DC105)+SUMPRODUCT((DA3:DA105=AP13)*(DD3:DD105=AP14)*DC3:DC105) -> 0 | AU14: =SUMPRODUCT((DA3:DA105=AP14)*(DD3:DD105=AP15)*DC3:DC105)+SUMPRODUCT((DA3:DA105=AP14)*(DD3:DD105=AP11)*DC3:DC105)+SUMPRODUCT((DA3:DA105=AP14)*(DD3:DD105=AP12)*DC3:DC105)+SUMPRODUCT((DA3:DA105=AP14)*(DD3:DD105=AP13)*DC3:DC105)+SUMPRODUCT((DA3:DA105=AP15)*(DD3:DD105=AP14)*DB3:DB105)+SUMPRODUCT((DA3:DA105=AP11)*(DD3:DD105=AP14)*DB3:DB105)+SUMPRODUCT((DA3:DA105=AP12)*(DD3:DD105=AP14)*DB3:DB105)+SUMPRODUCT((DA3:DA105=AP13)*(DD3:DD105=AP14)*DB3:DB105) -> 0 | AV14: =AT14-AU14+1000 -> 1000 | AW14: =IF(AP14<>"",AQ14*3+AR14*1,"") | AX14: =IF(AP14<>"",VLOOKUP(AP14,C4:I52,7,FALSE),"") | AY14: =IF(AP14<>"",VLOOKUP(AP14,C4:I52,5,FALSE),"") | AZ14: =IF(AP14<>"",VLOOKUP(AP14,C4:K52,9,FALSE),"") | BA14: =AW14 | BB14: =IF(AP14<>"",RANK(BA14,BA11:BA15),"") | BC14: =IF(AP14<>"",SUMPRODUCT((BA11:BA15=BA14)*(AV11:AV15>AV14)),"") | BD14: =IF(AP14<>"",SUMPRODUCT((BA11:BA15=BA14)*(AV11:AV15=AV14)*(AT11:AT15>AT14)),"") | BE14: =IF(AP14<>"",SUMPRODUCT((BA11:BA15=BA14)*(AV11:AV15=AV14)*(AT11:AT15=AT14)*(AX11:AX15>AX14)),"") | BF14: =IF(AP14<>"",SUMPRODUCT((BA11:BA15=BA14)*(AV11:AV15=AV14)*(AT11:AT15=AT14)*(AX11:AX15=AX14)*(AY11:AY15>AY14)),"") | BG14: =IF(AP14<>"",SUMPRODUCT((BA11:BA15=BA14)*(AV11:AV15=AV14)*(AT11:AT15=AT14)*(AX11:AX15=AX14)*(AY11:AY15=AY14)*(AZ11:AZ15>AZ14)),"") | BH14: =IF(AP14<>"",IF(BH93<>"",IF(AO89=3,BH93,BH93+AO89),SUM(BB14:BG14)+1),"") | BI14: =IF(AP14<>"",INDEX(AP12:AP15,MATCH(4,BH12:BH15,0),0),"") | BJ14: =IF(S12<>"",S12,"") | BK14: =SUMPRODUCT((DA3:DA105=BJ14)*(DD3:DD105=BJ15)*(DE3:DE105="W"))+SUMPRODUCT((DA3:DA105=BJ14)*(DD3:DD105=BJ16)*(DE3:DE105="W"))+SUMPRODUCT((DA3:DA105=BJ14)*(DD3:DD105=BJ13)*(DE3:DE105="W"))+SUMPRODUCT((DA3:DA105=BJ15)*(DD3:DD105=BJ14)*(DF3:DF105="W"))+SUMPRODUCT((DA3:DA105=BJ16)*(DD3:DD105=BJ14)*(DF3:DF105="W"))+SUMPRODUCT((DA3:DA105=BJ13)*(DD3:DD105=BJ14)*(DF3:DF105="W")) -> 0 | BL14: =SUMPRODUCT((DA3:DA105=BJ14)*(DD3:DD105=BJ15)*(DE3:DE105="D"))+SUMPRODUCT((DA3:DA105=BJ14)*(DD3:DD105=BJ16)*(DE3:DE105="D"))+SUMPRODUCT((DA3:DA105=BJ14)*(DD3:DD105=BJ13)*(DE3:DE105="D"))+SUMPRODUCT((DA3:DA105=BJ15)*(DD3:DD105=BJ14)*(DE3:DE105="D"))+SUMPRODUCT((DA3:DA105=BJ16)*(DD3:DD105=BJ14)*(DE3:DE105="D"))+SUMPRODUCT((DA3:DA105=BJ13)*(DD3:DD105=BJ14)*(DE3:DE105="D")) -> 0 | BM14: =SUMPRODUCT((DA3:DA105=BJ14)*(DD3:DD105=BJ15)*(DE3:DE105="L"))+SUMPRODUCT((DA3:DA105=BJ14)*(DD3:DD105=BJ16)*(DE3:DE105="L"))+SUMPRODUCT((DA3:DA105=BJ14)*(DD3:DD105=BJ13)*(DE3:DE105="L"))+SUMPRODUCT((DA3:DA105=BJ15)*(DD3:DD105=BJ14)*(DF3:DF105="L"))+SUMPRODUCT((DA3:DA105=BJ16)*(DD3:DD105=BJ14)*(DF3:DF105="L"))+SUMPRODUCT((DA3:DA105=BJ13)*(DD3:DD105=BJ14)*(DF3:DF105="L")) -> 0 | BN14: =SUMPRODUCT((DA3:DA105=BJ14)*(DD3:DD105=BJ15)*DB3:DB105)+SUMPRODUCT((DA3:DA105=BJ14)*(DD3:DD105=BJ11)*DB3:DB105)+SUMPRODUCT((DA3:DA105=BJ14)*(DD3:DD105=BJ12)*DB3:DB105)+SUMPRODUCT((DA3:DA105=BJ14)*(DD3:DD105=BJ13)*DB3:DB105)+SUMPRODUCT((DA3:DA105=BJ15)*(DD3:DD105=BJ14)*DC3:DC105)+SUMPRODUCT((DA3:DA105=BJ11)*(DD3:DD105=BJ14)*DC3:DC105)+SUMPRODUCT((DA3:DA105=BJ12)*(DD3:DD105=BJ14)*DC3:DC105)+SUMPRODUCT((DA3:DA105=BJ13)*(DD3:DD105=BJ14)*DC3:DC105) -> 0 | BO14: =SUMPRODUCT((DA3:DA105=BJ14)*(DD3:DD105=BJ15)*DC3:DC105)+SUMPRODUCT((DA3:DA105=BJ14)*(DD3:DD105=BJ11)*DC3:DC105)+SUMPRODUCT((DA3:DA105=BJ14)*(DD3:DD105=BJ12)*DC3:DC105)+SUMPRODUCT((DA3:DA105=BJ14)*(DD3:DD105=BJ13)*DC3:DC105)+SUMPRODUCT((DA3:DA105=BJ15)*(DD3:DD105=BJ14)*DB3:DB105)+SUMPRODUCT((DA3:DA105=BJ11)*(DD3:DD105=BJ14)*DB3:DB105)+SUMPRODUCT((DA3:DA105=BJ12)*(DD3:DD105=BJ14)*DB3:DB105)+SUMPRODUCT((DA3:DA105=BJ13)*(DD3:DD105=BJ14)*DB3:DB105) -> 0 | BP14: =BN14-BO14+1000 -> 1000 | BQ14: =IF(BJ14<>"",BK14*3+BL14*1,"") | BR14: =IF(BJ14<>"",VLOOKUP(BJ14,C4:I52,7,FALSE),"") | BS14: =IF(BJ14<>"",VLOOKUP(BJ14,C4:I52,5,FALSE),"") | BT14: =IF(BJ14<>"",VLOOKUP(BJ14,C4:K52,9,FALSE),"") | BU14: =BQ14 | BV14: =IF(BJ14<>"",RANK(BU14,BU11:BU15),"") | BW14: =IF(BJ14<>"",SUMPRODUCT((BU11:BU15=BU14)*(BP11:BP15>BP14)),"") | BX14: =IF(BJ14<>"",SUMPRODUCT((BU11:BU15=BU14)*(BP11:BP15=BP14)*(BN11:BN15>BN14)),"") | BY14: =IF(BJ14<>"",SUMPRODUCT((BU11:BU15=BU14)*(BP11:BP15=BP14)*(BN11:BN15=BN14)*(BR11:BR15>BR14)),"") | BZ14: =IF(BJ14<>"",SUMPRODUCT((BU11:BU15=BU14)*(BP11:BP15=BP14)*(BN11:BN15=BN14)*(BR11:BR15=BR14)*(BS11:BS15>BS14)),"") | CA14: =IF(BJ14<>"",SUMPRODUCT((BU11:BU15=BU14)*(BP11:BP15=BP14)*(BN11:BN15=BN14)*(BR11:BR15=BR14)*(BS11:BS15=BS14)*(BT11:BT15>BT14)),"") | CB14: =IF(BJ14<>"",SUM(BV14:CA14)+2,"") | CC14: =IF(BJ14<>"",INDEX(BJ13:BJ15,MATCH(4,CB13:CB15,0),0),"") | CD14: =IF(T11<>"",T11,"") | CE14: =SUMPRODUCT((DA3:DA105=CD14)*(DD3:DD105=CD15)*(DE3:DE105="W"))+SUMPRODUCT((DA3:DA105=CD14)*(DD3:DD105=CD16)*(DE3:DE105="W"))+SUMPRODUCT((DA3:DA105=CD14)*(DD3:DD105=CD17)*(DE3:DE105="W"))+SUMPRODUCT((DA3:DA105=CD15)*(DD3:DD105=CD14)*(DF3:DF105="W"))+SUMPRODUCT((DA3:DA105=CD16)*(DD3:DD105=CD14)*(DF3:DF105="W"))+SUMPRODUCT((DA3:DA105=CD17)*(DD3:DD105=CD14)*(DF3:DF105="W")) -> 0 | CF14: =SUMPRODUCT((DA3:DA105=CD14)*(DD3:DD105=CD15)*(DE3:DE105="D"))+SUMPRODUCT((DA3:DA105=CD14)*(DD3:DD105=CD16)*(DE3:DE105="D"))+SUMPRODUCT((DA3:DA105=CD14)*(DD3:DD105=CD17)*(DE3:DE105="D"))+SUMPRODUCT((DA3:DA105=CD15)*(DD3:DD105=CD14)*(DE3:DE105="D"))+SUMPRODUCT((DA3:DA105=CD16)*(DD3:DD105=CD14)*(DE3:DE105="D"))+SUMPRODUCT((DA3:DA105=CD17)*(DD3:DD105=CD14)*(DE3:DE105="D")) -> 0 | CG14: =SUMPRODUCT((DA3:DA105=CD14)*(DD3:DD105=CD15)*(DE3:DE105="L"))+SUMPRODUCT((DA3:DA105=CD14)*(DD3:DD105=CD16)*(DE3:DE105="L"))+SUMPRODUCT((DA3:DA105=CD14)*(DD3:DD105=CD17)*(DE3:DE105="L"))+SUMPRODUCT((DA3:DA105=CD15)*(DD3:DD105=CD14)*(DF3:DF105="L"))+SUMPRODUCT((DA3:DA105=CD16)*(DD3:DD105=CD14)*(DF3:DF105="L"))+SUMPRODUCT((DA3:DA105=CD17)*(DD3:DD105=CD14)*(DF3:DF105="L")) -> 0 | CH14: =SUMPRODUCT((DA3:DA105=CD14)*(DD3:DD105=CD15)*DB3:DB105)+SUMPRODUCT((DA3:DA105=CD14)*(DD3:DD105=CD11)*DB3:DB105)+SUMPRODUCT((DA3:DA105=CD14)*(DD3:DD105=CD12)*DB3:DB105)+SUMPRODUCT((DA3:DA105=CD14)*(DD3:DD105=CD13)*DB3:DB105)+SUMPRODUCT((DA3:DA105=CD15)*(DD3:DD105=CD14)*DC3:DC105)+SUMPRODUCT((DA3:DA105=CD11)*(DD3:DD105=CD14)*DC3:DC105)+SUMPRODUCT((DA3:DA105=CD12)*(DD3:DD105=CD14)*DC3:DC105)+SUMPRODUCT((DA3:DA105=CD13)*(DD3:DD105=CD14)*DC3:DC105) -> 0 | CI14: =SUMPRODUCT((DA3:DA105=CD14)*(DD3:DD105=CD15)*DC3:DC105)+SUMPRODUCT((DA3:DA105=CD14)*(DD3:DD105=CD11)*DC3:DC105)+SUMPRODUCT((DA3:DA105=CD14)*(DD3:DD105=CD12)*DC3:DC105)+SUMPRODUCT((DA3:DA105=CD14)*(DD3:DD105=CD13)*DC3:DC105)+SUMPRODUCT((DA3:DA105=CD15)*(DD3:DD105=CD14)*DB3:DB105)+SUMPRODUCT((DA3:DA105=CD11)*(DD3:DD105=CD14)*DB3:DB105)+SUMPRODUCT((DA3:DA105=CD12)*(DD3:DD105=CD14)*DB3:DB105)+SUMPRODUCT((DA3:DA105=CD13)*(DD3:DD105=CD14)*DB3:DB105) -> 0 | CJ14: =CH14-CI14+1000 -> 1000 | CK14: =IF(CD14<>"",CE14*3+CF14*1,"") | CL14: =IF(CD14<>"",VLOOKUP(CD14,C4:I52,7,FALSE),"") | CM14: =IF(CD14<>"",VLOOKUP(CD14,C4:I52,5,FALSE),"") | CN14: =IF(CD14<>"",VLOOKUP(CD14,C4:K52,9,FALSE),"") | CO14: =CK14 | CP14: =IF(CD14<>"",RANK(CO14,CO11:CO15),"") | CQ14: =IF(CD14<>"",SUMPRODUCT((CO11:CO15=CO14)*(CJ11:CJ15>CJ14)),"") | CR14: =IF(CD14<>"",SUMPRODUCT((CO11:CO15=CO14)*(CJ11:CJ15=CJ14)*(CH11:CH15>CH14)),"") | CS14: =IF(CD14<>"",SUMPRODUCT((CO11:CO15=CO14)*(CJ11:CJ15=CJ14)*(CH11:CH15=CH14)*(CL11:CL15>CL14)),"") | CT14: =IF(CD14<>"",SUMPRODUCT((CO11:CO15=CO14)*(CJ11:CJ15=CJ14)*(CH11:CH15=CH14)*(CL11:CL15=CL14)*(CM11:CM15>CM14)),"") | CU14: =IF(CD14<>"",SUMPRODUCT((CO11:CO15=CO14)*(CJ11:CJ15=CJ14)*(CH11:CH15=CH14)*(CL11:CL15=CL14)*(CM11:CM15=CM14)*(CN11:CN15>CN14)),"") | CV14: =IF(CD14<>"",SUM(CP14:CU14)+3,"") | CW14: =IF(CD14<>"",IF(CV14=4,CD14,CD15),"") | CX14: =IF(CW14<>"",CW14,IF(CC14<>"",CC14,IF(BI14<>"",BI14,IF(AO14<>"",AO14,O14)))) -> Bosnia and Herzegovina | CY14: 4 | CZ14: 12 | DA14: =Matches!F19 -> Sweden | DB14: =IF(DA2<>"",IF(AND(Matches!H19<>"",Matches!I19<>""),Matches!H19,0),"") -> 0 | DC14: =IF(DA2<>"",IF(AND(Matches!H19<>"",Matches!I19<>""),Matches!I19,0),"") -> 0 | DD14: =Matches!K19 -> Tunisia | DE14: =IF(AND(Matches!H19<>"",Matches!I19<>""),IF(DB14>DC14,"W",IF(DB14=DC14,"D","L")),"") | DF14: =IF(DE14<>"",IF(DE14="W","L",IF(DE14="L","W","D")),"")
CZ15: 13 | DA15: =Matches!F20 -> Saudi Arabia | DB15: =IF(DA2<>"",IF(AND(Matches!H20<>"",Matches!I20<>""),Matches!H20,0),"") -> 0 | DC15: =IF(DA2<>"",IF(AND(Matches!H20<>"",Matches!I20<>""),Matches!I20,0),"") -> 0 | DD15: =Matches!K20 -> Uruguay | DE15: =IF(AND(Matches!H20<>"",Matches!I20<>""),IF(DB15>DC15,"W",IF(DB15=DC15,"D","L")),"") | DF15: =IF(DE15<>"",IF(DE15="W","L",IF(DE15="L","W","D")),"")
CZ16: 14 | DA16: =Matches!F21 -> Spain | DB16: =IF(DA2<>"",IF(AND(Matches!H21<>"",Matches!I21<>""),Matches!H21,0),"") -> 0 | DC16: =IF(DA2<>"",IF(AND(Matches!H21<>"",Matches!I21<>""),Matches!I21,0),"") -> 0 | DD16: =Matches!K21 -> Cabo Verde | DE16: =IF(AND(Matches!H21<>"",Matches!I21<>""),IF(DB16>DC16,"W",IF(DB16=DC16,"D","L")),"") | DF16: =IF(DE16<>"",IF(DE16="W","L",IF(DE16="L","W","D")),"")
W17: A | CZ17: 15 | DA17: =Matches!F22 -> Iran | DB17: =IF(DA2<>"",IF(AND(Matches!H22<>"",Matches!I22<>""),Matches!H22,0),"") -> 0 | DC17: =IF(DA2<>"",IF(AND(Matches!H22<>"",Matches!I22<>""),Matches!I22,0),"") -> 0 | DD17: =Matches!K22 -> New Zealand | DE17: =IF(AND(Matches!H22<>"",Matches!I22<>""),IF(DB17>DC17,"W",IF(DB17=DC17,"D","L")),"") | DF17: =IF(DE17<>"",IF(DE17="W","L",IF(DE17="L","W","D")),"")
A18: =Setup!E14+100 -> 105 | B18: =VLOOKUP(C18,CX18:CY22,2,FALSE) -> 1 | C18: =Setup!D14 -> Brazil | D18: =SUMPRODUCT((DA3:DA105=C18)*(DE3:DE105="W"))+SUMPRODUCT((DD3:DD105=C18)*(DF3:DF105="W")) -> 0 | E18: =SUMPRODUCT((DA3:DA105=C18)*(DE3:DE105="D"))+SUMPRODUCT((DD3:DD105=C18)*(DF3:DF105="D")) -> 0 | F18: =SUMPRODUCT((DA3:DA105=C18)*(DE3:DE105="L"))+SUMPRODUCT((DD3:DD105=C18)*(DF3:DF105="L")) -> 0 | G18: =SUMIF(DA3:DA123,C18,DB3:DB123)+SUMIF(DD3:DD123,C18,DC3:DC123) -> 0 | H18: =SUMIF(DD3:DD123,C18,DB3:DB123)+SUMIF(DA3:DA123,C18,DC3:DC123) -> 0 | I18: =G18-H18+1000 -> 1000 | J18: =D18*3+E18*1 -> 0 | K18: =IF(Setup!F14<>"",Setup!F14,-A18) -> -105 | L18: =IF(COUNTIF(J18:J22,4)<>4,RANK(J18,J18:J22),J97) -> 1 | N18: =SUMPRODUCT((L18:L21=L18)*(K18:K21<K18))+L18 -> 4 | O18: =INDEX(C18:C22,MATCH(1,N18:N22,0),0) -> Haiti | P18: =INDEX(L18:L22,MATCH(O18,C18:C22,0),0) -> 1 | Q18: =IF(P19=1,O18,"") -> Haiti | R18: =IF(P20=2,O19,"") | S18: =IF(P21=3,O20,"") | T18: =IF(P22=4,O21,"") | V18: =IF(Q18<>"",Q18,"") -> Haiti | W18: =SUMPRODUCT((DA3:DA105=V18)*(DD3:DD105=V19)*(DE3:DE105="W"))+SUMPRODUCT((DA3:DA105=V18)*(DD3:DD105=V20)*(DE3:DE105="W"))+SUMPRODUCT((DA3:DA105=V18)*(DD3:DD105=V21)*(DE3:DE105="W"))+SUMPRODUCT((DA3:DA105=V18)*(DD3:DD105=V22)*(DE3:DE105="W"))+SUMPRODUCT((DA3:DA105=V19)*(DD3:DD105=V18)*(DF3:DF105="W"))+SUMPRODUCT((DA3:DA105=V20)*(DD3:DD105=V18)*(DF3:DF105="W"))+SUMPRODUCT((DA3:DA105=V21)*(DD3:DD105=V18)*(DF3:DF105="W"))+SUMPRODUCT((DA3:DA105=V22)*(DD3:DD105=V18)*(DF3:DF105="W")) -> 0 | X18: =SUMPRODUCT((DA3:DA105=V18)*(DD3:DD105=V19)*(DE3:DE105="D"))+SUMPRODUCT((DA3:DA105=V18)*(DD3:DD105=V20)*(DE3:DE105="D"))+SUMPRODUCT((DA3:DA105=V18)*(DD3:DD105=V21)*(DE3:DE105="D"))+SUMPRODUCT((DA3:DA105=V18)*(DD3:DD105=V22)*(DE3:DE105="D"))+SUMPRODUCT((DA3:DA105=V19)*(DD3:DD105=V18)*(DE3:DE105="D"))+SUMPRODUCT((DA3:DA105=V20)*(DD3:DD105=V18)*(DE3:DE105="D"))+SUMPRODUCT((DA3:DA105=V21)*(DD3:DD105=V18)*(DE3:DE105="D"))+SUMPRODUCT((DA3:DA105=V22)*(DD3:DD105=V18)*(DE3:DE105="D")) -> 0 | Y18: =SUMPRODUCT((DA3:DA105=V18)*(DD3:DD105=V19)*(DE3:DE105="L"))+SUMPRODUCT((DA3:DA105=V18)*(DD3:DD105=V20)*(DE3:DE105="L"))+SUMPRODUCT((DA3:DA105=V18)*(DD3:DD105=V21)*(DE3:DE105="L"))+SUMPRODUCT((DA3:DA105=V18)*(DD3:DD105=V22)*(DE3:DE105="L"))+SUMPRODUCT((DA3:DA105=V19)*(DD3:DD105=V18)*(DF3:DF105="L"))+SUMPRODUCT((DA3:DA105=V20)*(DD3:DD105=V18)*(DF3:DF105="L"))+SUMPRODUCT((DA3:DA105=V21)*(DD3:DD105=V18)*(DF3:DF105="L"))+SUMPRODUCT((DA3:DA105=V22)*(DD3:DD105=V18)*(DF3:DF105="L")) -> 0 | Z18: =SUMPRODUCT((DA3:DA105=V18)*(DD3:DD105=V19)*DB3:DB105)+SUMPRODUCT((DA3:DA105=V18)*(DD3:DD105=V20)*DB3:DB105)+SUMPRODUCT((DA3:DA105=V18)*(DD3:DD105=V21)*DB3:DB105)+SUMPRODUCT((DA3:DA105=V18)*(DD3:DD105=V22)*DB3:DB105)+SUMPRODUCT((DA3:DA105=V19)*(DD3:DD105=V18)*DC3:DC105)+SUMPRODUCT((DA3:DA105=V20)*(DD3:DD105=V18)*DC3:DC105)+SUMPRODUCT((DA3:DA105=V21)*(DD3:DD105=V18)*DC3:DC105)+SUMPRODUCT((DA3:DA105=V22)*(DD3:DD105=V18)*DC3:DC105) -> 0 | AA18: =SUMPRODUCT((DA3:DA105=V18)*(DD3:DD105=V19)*DC3:DC105)+SUMPRODUCT((DA3:DA105=V18)*(DD3:DD105=V20)*DC3:DC105)+SUMPRODUCT((DA3:DA105=V18)*(DD3:DD105=V21)*DC3:DC105)+SUMPRODUCT((DA3:DA105=V18)*(DD3:DD105=V22)*DC3:DC105)+SUMPRODUCT((DA3:DA105=V19)*(DD3:DD105=V18)*DB3:DB105)+SUMPRODUCT((DA3:DA105=V20)*(DD3:DD105=V18)*DB3:DB105)+SUMPRODUCT((DA3:DA105=V21)*(DD3:DD105=V18)*DB3:DB105)+SUMPRODUCT((DA3:DA105=V22)*(DD3:DD105=V18)*DB3:DB105) -> 0 | AB18: =Z18-AA18+1000 -> 1000 | AC18: =IF(V18<>"",W18*3+X18*1,"") -> 0 | AD18: =IF(V18<>"",VLOOKUP(V18,C4:I52,7,FALSE),"") -> 1000 | AE18: =IF(V18<>"",VLOOKUP(V18,C4:I52,5,FALSE),"") -> 0 | AF18: =IF(V18<>"",VLOOKUP(V18,C4:K52,9,FALSE),"") -> -183 | AG18: =AC18 -> 0 | AH18: =IF(V18<>"",RANK(AG18,AG18:AG22),"") -> 1 | AI18: =IF(V18<>"",SUMPRODUCT((AG18:AG22=AG18)*(AB18:AB22>AB18)),"") -> 0 | AJ18: =IF(V18<>"",SUMPRODUCT((AG18:AG22=AG18)*(AB18:AB22=AB18)*(Z18:Z22>Z18)),"") -> 0 | AK18: =IF(V18<>"",SUMPRODUCT((AG18:AG22=AG18)*(AB18:AB22=AB18)*(Z18:Z22=Z18)*(AD18:AD22>AD18)),"") -> 0 | AL18: =IF(V18<>"",SUMPRODUCT((AG18:AG22=AG18)*(AB18:AB22=AB18)*(Z18:Z22=Z18)*(AD18:AD22=AD18)*(AE18:AE22>AE18)),"") -> 0 | AM18: =IF(V18<>"",SUMPRODUCT((AG18:AG22=AG18)*(AB18:AB22=AB18)*(Z18:Z22=Z18)*(AD18:AD22=AD18)*(AE18:AE22=AE18)*(AF18:AF22>AF18)),"") -> 3 | AN18: =IF(V18<>"",IF(SUM(X18:X21)=12,SUM(AH18:AM18),IF(AN97<>"",IF(U96=3,AN97,AN97+U96),SUM(AH18:AM18))),"") -> 4 | AO18: =IF(V18<>"",INDEX(V18:V22,MATCH(1,AN18:AN22,0),0),"") -> Brazil | CX18: =IF(AO18<>"",AO18,O18) -> Brazil | CY18: 1 | CZ18: 16 | DA18: =Matches!F23 -> Belgium | DB18: =IF(DA2<>"",IF(AND(Matches!H23<>"",Matches!I23<>""),Matches!H23,0),"") -> 0 | DC18: =IF(DA2<>"",IF(AND(Matches!H23<>"",Matches!I23<>""),Matches!I23,0),"") -> 0 | DD18: =Matches!K23 -> Egypt | DE18: =IF(AND(Matches!H23<>"",Matches!I23<>""),IF(DB18>DC18,"W",IF(DB18=DC18,"D","L")),"") | DF18: =IF(DE18<>"",IF(DE18="W","L",IF(DE18="L","W","D")),"")
A19: =Setup!E15+100 -> 108 | B19: =VLOOKUP(C19,CX18:CY22,2,FALSE) -> 2 | C19: =Setup!D15 -> Morocco | D19: =SUMPRODUCT((DA3:DA105=C19)*(DE3:DE105="W"))+SUMPRODUCT((DD3:DD105=C19)*(DF3:DF105="W")) -> 0 | E19: =SUMPRODUCT((DA3:DA105=C19)*(DE3:DE105="D"))+SUMPRODUCT((DD3:DD105=C19)*(DF3:DF105="D")) -> 0 | F19: =SUMPRODUCT((DA3:DA105=C19)*(DE3:DE105="L"))+SUMPRODUCT((DD3:DD105=C19)*(DF3:DF105="L")) -> 0 | G19: =SUMIF(DA3:DA123,C19,DB3:DB123)+SUMIF(DD3:DD123,C19,DC3:DC123) -> 0 | H19: =SUMIF(DD3:DD123,C19,DB3:DB123)+SUMIF(DA3:DA123,C19,DC3:DC123) -> 0 | I19: =G19-H19+1000 -> 1000 | J19: =D19*3+E19*1 -> 0 | K19: =IF(Setup!F15<>"",Setup!F15,-A19) -> -108 | L19: =IF(COUNTIF(J18:J22,4)<>4,RANK(J19,J18:J22),J98) -> 1 | N19: =SUMPRODUCT((L18:L21=L19)*(K18:K21<K19))+L19 -> 3 | O19: =INDEX(C18:C22,MATCH(2,N18:N22,0),0) -> Scotland | P19: =INDEX(L18:L22,MATCH(O19,C18:C22,0),0) -> 1 | Q19: =IF(Q18<>"",O19,"") -> Scotland | R19: =IF(R18<>"",O20,"") | S19: =IF(S18<>"",O21,"") | T19: =IF(T18<>"",O22,"") | V19: =IF(Q19<>"",Q19,"") -> Scotland | W19: =SUMPRODUCT((DA3:DA105=V19)*(DD3:DD105=V20)*(DE3:DE105="W"))+SUMPRODUCT((DA3:DA105=V19)*(DD3:DD105=V21)*(DE3:DE105="W"))+SUMPRODUCT((DA3:DA105=V19)*(DD3:DD105=V22)*(DE3:DE105="W"))+SUMPRODUCT((DA3:DA105=V19)*(DD3:DD105=V18)*(DE3:DE105="W"))+SUMPRODUCT((DA3:DA105=V20)*(DD3:DD105=V19)*(DF3:DF105="W"))+SUMPRODUCT((DA3:DA105=V21)*(DD3:DD105=V19)*(DF3:DF105="W"))+SUMPRODUCT((DA3:DA105=V22)*(DD3:DD105=V19)*(DF3:DF105="W"))+SUMPRODUCT((DA3:DA105=V18)*(DD3:DD105=V19)*(DF3:DF105="W")) -> 0 | X19: =SUMPRODUCT((DA3:DA105=V19)*(DD3:DD105=V20)*(DE3:DE105="D"))+SUMPRODUCT((DA3:DA105=V19)*(DD3:DD105=V21)*(DE3:DE105="D"))+SUMPRODUCT((DA3:DA105=V19)*(DD3:DD105=V22)*(DE3:DE105="D"))+SUMPRODUCT((DA3:DA105=V19)*(DD3:DD105=V18)*(DE3:DE105="D"))+SUMPRODUCT((DA3:DA105=V20)*(DD3:DD105=V19)*(DE3:DE105="D"))+SUMPRODUCT((DA3:DA105=V21)*(DD3:DD105=V19)*(DE3:DE105="D"))+SUMPRODUCT((DA3:DA105=V22)*(DD3:DD105=V19)*(DE3:DE105="D"))+SUMPRODUCT((DA3:DA105=V18)*(DD3:DD105=V19)*(DE3:DE105="D")) -> 0 | Y19: =SUMPRODUCT((DA3:DA105=V19)*(DD3:DD105=V20)*(DE3:DE105="L"))+SUMPRODUCT((DA3:DA105=V19)*(DD3:DD105=V21)*(DE3:DE105="L"))+SUMPRODUCT((DA3:DA105=V19)*(DD3:DD105=V22)*(DE3:DE105="L"))+SUMPRODUCT((DA3:DA105=V19)*(DD3:DD105=V18)*(DE3:DE105="L"))+SUMPRODUCT((DA3:DA105=V20)*(DD3:DD105=V19)*(DF3:DF105="L"))+SUMPRODUCT((DA3:DA105=V21)*(DD3:DD105=V19)*(DF3:DF105="L"))+SUMPRODUCT((DA3:DA105=V22)*(DD3:DD105=V19)*(DF3:DF105="L"))+SUMPRODUCT((DA3:DA105=V18)*(DD3:DD105=V19)*(DF3:DF105="L")) -> 0 | Z19: =SUMPRODUCT((DA3:DA105=V19)*(DD3:DD105=V20)*DB3:DB105)+SUMPRODUCT((DA3:DA105=V19)*(DD3:DD105=V21)*DB3:DB105)+SUMPRODUCT((DA3:DA105=V19)*(DD3:DD105=V22)*DB3:DB105)+SUMPRODUCT((DA3:DA105=V19)*(DD3:DD105=V18)*DB3:DB105)+SUMPRODUCT((DA3:DA105=V20)*(DD3:DD105=V19)*DC3:DC105)+SUMPRODUCT((DA3:DA105=V21)*(DD3:DD105=V19)*DC3:DC105)+SUMPRODUCT((DA3:DA105=V22)*(DD3:DD105=V19)*DC3:DC105)+SUMPRODUCT((DA3:DA105=V18)*(DD3:DD105=V19)*DC3:DC105) -> 0 | AA19: =SUMPRODUCT((DA3:DA105=V19)*(DD3:DD105=V20)*DC3:DC105)+SUMPRODUCT((DA3:DA105=V19)*(DD3:DD105=V21)*DC3:DC105)+SUMPRODUCT((DA3:DA105=V19)*(DD3:DD105=V22)*DC3:DC105)+SUMPRODUCT((DA3:DA105=V19)*(DD3:DD105=V18)*DC3:DC105)+SUMPRODUCT((DA3:DA105=V20)*(DD3:DD105=V19)*DB3:DB105)+SUMPRODUCT((DA3:DA105=V21)*(DD3:DD105=V19)*DB3:DB105)+SUMPRODUCT((DA3:DA105=V22)*(DD3:DD105=V19)*DB3:DB105)+SUMPRODUCT((DA3:DA105=V18)*(DD3:DD105=V19)*DB3:DB105) -> 0 | AB19: =Z19-AA19+1000 -> 1000 | AC19: =IF(V19<>"",W19*3+X19*1,"") -> 0 | AD19: =IF(V19<>"",VLOOKUP(V19,C4:I52,7,FALSE),"") -> 1000 | AE19: =IF(V19<>"",VLOOKUP(V19,C4:I52,5,FALSE),"") -> 0 | AF19: =IF(V19<>"",VLOOKUP(V19,C4:K52,9,FALSE),"") -> -138 | AG19: =AC19 -> 0 | AH19: =IF(V19<>"",RANK(AG19,AG18:AG22),"") -> 1 | AI19: =IF(V19<>"",SUMPRODUCT((AG18:AG22=AG19)*(AB18:AB22>AB19)),"") -> 0 | AJ19: =IF(V19<>"",SUMPRODUCT((AG18:AG22=AG19)*(AB18:AB22=AB19)*(Z18:Z22>Z19)),"") -> 0 | AK19: =IF(V19<>"",SUMPRODUCT((AG18:AG22=AG19)*(AB18:AB22=AB19)*(Z18:Z22=Z19)*(AD18:AD22>AD19)),"") -> 0 | AL19: =IF(V19<>"",SUMPRODUCT((AG18:AG22=AG19)*(AB18:AB22=AB19)*(Z18:Z22=Z19)*(AD18:AD22=AD19)*(AE18:AE22>AE19)),"") -> 0 | AM19: =IF(V19<>"",SUMPRODUCT((AG18:AG22=AG19)*(AB18:AB22=AB19)*(Z18:Z22=Z19)*(AD18:AD22=AD19)*(AE18:AE22=AE19)*(AF18:AF22>AF19)),"") -> 2 | AN19: =IF(V19<>"",IF(SUM(X18:X21)=12,SUM(AH19:AM19),IF(AN98<>"",IF(U96=3,AN98,AN98+U96),SUM(AH19:AM19))),"") -> 3 | AO19: =IF(V19<>"",INDEX(V18:V22,MATCH(2,AN18:AN22,0),0),"") -> Morocco | AP19: =IF(R18<>"",R18,"") | AQ19: =SUMPRODUCT((DA3:DA105=AP19)*(DD3:DD105=AP20)*(DE3:DE105="W"))+SUMPRODUCT((DA3:DA105=AP19)*(DD3:DD105=AP21)*(DE3:DE105="W"))+SUMPRODUCT((DA3:DA105=AP19)*(DD3:DD105=AP22)*(DE3:DE105="W"))+SUMPRODUCT((DA3:DA105=AP20)*(DD3:DD105=AP19)*(DF3:DF105="W"))+SUMPRODUCT((DA3:DA105=AP21)*(DD3:DD105=AP19)*(DF3:DF105="W"))+SUMPRODUCT((DA3:DA105=AP22)*(DD3:DD105=AP19)*(DF3:DF105="W")) -> 0 | AR19: =SUMPRODUCT((DA3:DA105=AP19)*(DD3:DD105=AP20)*(DE3:DE105="D"))+SUMPRODUCT((DA3:DA105=AP19)*(DD3:DD105=AP21)*(DE3:DE105="D"))+SUMPRODUCT((DA3:DA105=AP19)*(DD3:DD105=AP22)*(DE3:DE105="D"))+SUMPRODUCT((DA3:DA105=AP20)*(DD3:DD105=AP19)*(DE3:DE105="D"))+SUMPRODUCT((DA3:DA105=AP21)*(DD3:DD105=AP19)*(DE3:DE105="D"))+SUMPRODUCT((DA3:DA105=AP22)*(DD3:DD105=AP19)*(DE3:DE105="D")) -> 0 | AS19: =SUMPRODUCT((DA3:DA105=AP19)*(DD3:DD105=AP20)*(DE3:DE105="L"))+SUMPRODUCT((DA3:DA105=AP19)*(DD3:DD105=AP21)*(DE3:DE105="L"))+SUMPRODUCT((DA3:DA105=AP19)*(DD3:DD105=AP22)*(DE3:DE105="L"))+SUMPRODUCT((DA3:DA105=AP20)*(DD3:DD105=AP19)*(DF3:DF105="L"))+SUMPRODUCT((DA3:DA105=AP21)*(DD3:DD105=AP19)*(DF3:DF105="L"))+SUMPRODUCT((DA3:DA105=AP22)*(DD3:DD105=AP19)*(DF3:DF105="L")) -> 0 | AT19: =SUMPRODUCT((DA3:DA105=AP19)*(DD3:DD105=AP20)*DB3:DB105)+SUMPRODUCT((DA3:DA105=AP19)*(DD3:DD105=AP21)*DB3:DB105)+SUMPRODUCT((DA3:DA105=AP19)*(DD3:DD105=AP22)*DB3:DB105)+SUMPRODUCT((DA3:DA105=AP19)*(DD3:DD105=AP18)*DB3:DB105)+SUMPRODUCT((DA3:DA105=AP20)*(DD3:DD105=AP19)*DC3:DC105)+SUMPRODUCT((DA3:DA105=AP21)*(DD3:DD105=AP19)*DC3:DC105)+SUMPRODUCT((DA3:DA105=AP22)*(DD3:DD105=AP19)*DC3:DC105)+SUMPRODUCT((DA3:DA105=AP18)*(DD3:DD105=AP19)*DC3:DC105) -> 0 | AU19: =SUMPRODUCT((DA3:DA105=AP19)*(DD3:DD105=AP20)*DC3:DC105)+SUMPRODUCT((DA3:DA105=AP19)*(DD3:DD105=AP21)*DC3:DC105)+SUMPRODUCT((DA3:DA105=AP19)*(DD3:DD105=AP22)*DC3:DC105)+SUMPRODUCT((DA3:DA105=AP19)*(DD3:DD105=AP18)*DC3:DC105)+SUMPRODUCT((DA3:DA105=AP20)*(DD3:DD105=AP19)*DB3:DB105)+SUMPRODUCT((DA3:DA105=AP21)*(DD3:DD105=AP19)*DB3:DB105)+SUMPRODUCT((DA3:DA105=AP22)*(DD3:DD105=AP19)*DB3:DB105)+SUMPRODUCT((DA3:DA105=AP18)*(DD3:DD105=AP19)*DB3:DB105) -> 0 | AV19: =AT19-AU19+1000 -> 1000 | AW19: =IF(AP19<>"",AQ19*3+AR19*1,"") | AX19: =IF(AP19<>"",VLOOKUP(AP19,C4:I52,7,FALSE),"") | AY19: =IF(AP19<>"",VLOOKUP(AP19,C4:I52,5,FALSE),"") | AZ19: =IF(AP19<>"",VLOOKUP(AP19,C4:K52,9,FALSE),"") | BA19: =AW19 | BB19: =IF(AP19<>"",RANK(BA19,BA18:BA22),"") | BC19: =IF(AP19<>"",SUMPRODUCT((BA18:BA22=BA19)*(AV18:AV22>AV19)),"") | BD19: =IF(AP19<>"",SUMPRODUCT((BA18:BA22=BA19)*(AV18:AV22=AV19)*(AT18:AT22>AT19)),"") | BE19: =IF(AP19<>"",SUMPRODUCT((BA18:BA22=BA19)*(AV18:AV22=AV19)*(AT18:AT22=AT19)*(AX18:AX22>AX19)),"") | BF19: =IF(AP19<>"",SUMPRODUCT((BA18:BA22=BA19)*(AV18:AV22=AV19)*(AT18:AT22=AT19)*(AX18:AX22=AX19)*(AY18:AY22>AY19)),"") | BG19: =IF(AP19<>"",SUMPRODUCT((BA18:BA22=BA19)*(AV18:AV22=AV19)*(AT18:AT22=AT19)*(AX18:AX22=AX19)*(AY18:AY22=AY19)*(AZ18:AZ22>AZ19)),"") | BH19: =IF(AP19<>"",IF(BH98<>"",IF(AO96=3,BH98,BH98+AO96),SUM(BB19:BG19)+1),"") | BI19: =IF(AP19<>"",INDEX(AP19:AP22,MATCH(2,BH19:BH22,0),0),"") | CX19: =IF(BI19<>"",BI19,IF(AO19<>"",AO19,O19)) -> Morocco | CY19: 2 | CZ19: 17 | DA19: =Matches!F24 -> France | DB19: =IF(DA2<>"",IF(AND(Matches!H24<>"",Matches!I24<>""),Matches!H24,0),"") -> 0 | DC19: =IF(DA2<>"",IF(AND(Matches!H24<>"",Matches!I24<>""),Matches!I24,0),"") -> 0 | DD19: =Matches!K24 -> Senegal | DE19: =IF(AND(Matches!H24<>"",Matches!I24<>""),IF(DB19>DC19,"W",IF(DB19=DC19,"D","L")),"") | DF19: =IF(DE19<>"",IF(DE19="W","L",IF(DE19="L","W","D")),"")
A20: =Setup!E16+100 -> 183 | B20: =VLOOKUP(C20,CX18:CY22,2,FALSE) -> 4 | C20: =Setup!D16 -> Haiti | D20: =SUMPRODUCT((DA3:DA105=C20)*(DE3:DE105="W"))+SUMPRODUCT((DD3:DD105=C20)*(DF3:DF105="W")) -> 0 | E20: =SUMPRODUCT((DA3:DA105=C20)*(DE3:DE105="D"))+SUMPRODUCT((DD3:DD105=C20)*(DF3:DF105="D")) -> 0 | F20: =SUMPRODUCT((DA3:DA105=C20)*(DE3:DE105="L"))+SUMPRODUCT((DD3:DD105=C20)*(DF3:DF105="L")) -> 0 | G20: =SUMIF(DA3:DA123,C20,DB3:DB123)+SUMIF(DD3:DD123,C20,DC3:DC123) -> 0 | H20: =SUMIF(DD3:DD123,C20,DB3:DB123)+SUMIF(DA3:DA123,C20,DC3:DC123) -> 0 | I20: =G20-H20+1000 -> 1000 | J20: =D20*3+E20*1 -> 0 | K20: =IF(Setup!F16<>"",Setup!F16,-A20) -> -183 | L20: =IF(COUNTIF(J18:J22,4)<>4,RANK(J20,J18:J22),J99) -> 1 | N20: =SUMPRODUCT((L18:L21=L20)*(K18:K21<K20))+L20 -> 1 | O20: =INDEX(C18:C22,MATCH(3,N18:N22,0),0) -> Morocco | P20: =INDEX(L18:L22,MATCH(O20,C18:C22,0),0) -> 1 | Q20: =IF(AND(Q19<>"",P20=1),O20,"") -> Morocco | R20: =IF(AND(R19<>"",P21=2),O21,"") | S20: =IF(AND(S19<>"",P22=3),O22,"") | V20: =IF(Q20<>"",Q20,"") -> Morocco | W20: =SUMPRODUCT((DA3:DA105=V20)*(DD3:DD105=V21)*(DE3:DE105="W"))+SUMPRODUCT((DA3:DA105=V20)*(DD3:DD105=V22)*(DE3:DE105="W"))+SUMPRODUCT((DA3:DA105=V20)*(DD3:DD105=V18)*(DE3:DE105="W"))+SUMPRODUCT((DA3:DA105=V20)*(DD3:DD105=V19)*(DE3:DE105="W"))+SUMPRODUCT((DA3:DA105=V21)*(DD3:DD105=V20)*(DF3:DF105="W"))+SUMPRODUCT((DA3:DA105=V22)*(DD3:DD105=V20)*(DF3:DF105="W"))+SUMPRODUCT((DA3:DA105=V18)*(DD3:DD105=V20)*(DF3:DF105="W"))+SUMPRODUCT((DA3:DA105=V19)*(DD3:DD105=V20)*(DF3:DF105="W")) -> 0 | X20: =SUMPRODUCT((DA3:DA105=V20)*(DD3:DD105=V21)*(DE3:DE105="D"))+SUMPRODUCT((DA3:DA105=V20)*(DD3:DD105=V22)*(DE3:DE105="D"))+SUMPRODUCT((DA3:DA105=V20)*(DD3:DD105=V18)*(DE3:DE105="D"))+SUMPRODUCT((DA3:DA105=V20)*(DD3:DD105=V19)*(DE3:DE105="D"))+SUMPRODUCT((DA3:DA105=V21)*(DD3:DD105=V20)*(DE3:DE105="D"))+SUMPRODUCT((DA3:DA105=V22)*(DD3:DD105=V20)*(DE3:DE105="D"))+SUMPRODUCT((DA3:DA105=V18)*(DD3:DD105=V20)*(DE3:DE105="D"))+SUMPRODUCT((DA3:DA105=V19)*(DD3:DD105=V20)*(DE3:DE105="D")) -> 0 | Y20: =SUMPRODUCT((DA3:DA105=V20)*(DD3:DD105=V21)*(DE3:DE105="L"))+SUMPRODUCT((DA3:DA105=V20)*(DD3:DD105=V22)*(DE3:DE105="L"))+SUMPRODUCT((DA3:DA105=V20)*(DD3:DD105=V18)*(DE3:DE105="L"))+SUMPRODUCT((DA3:DA105=V20)*(DD3:DD105=V19)*(DE3:DE105="L"))+SUMPRODUCT((DA3:DA105=V21)*(DD3:DD105=V20)*(DF3:DF105="L"))+SUMPRODUCT((DA3:DA105=V22)*(DD3:DD105=V20)*(DF3:DF105="L"))+SUMPRODUCT((DA3:DA105=V18)*(DD3:DD105=V20)*(DF3:DF105="L"))+SUMPRODUCT((DA3:DA105=V19)*(DD3:DD105=V20)*(DF3:DF105="L")) -> 0 | Z20: =SUMPRODUCT((DA3:DA105=V20)*(DD3:DD105=V21)*DB3:DB105)+SUMPRODUCT((DA3:DA105=V20)*(DD3:DD105=V22)*DB3:DB105)+SUMPRODUCT((DA3:DA105=V20)*(DD3:DD105=V18)*DB3:DB105)+SUMPRODUCT((DA3:DA105=V20)*(DD3:DD105=V19)*DB3:DB105)+SUMPRODUCT((DA3:DA105=V21)*(DD3:DD105=V20)*DC3:DC105)+SUMPRODUCT((DA3:DA105=V22)*(DD3:DD105=V20)*DC3:DC105)+SUMPRODUCT((DA3:DA105=V18)*(DD3:DD105=V20)*DC3:DC105)+SUMPRODUCT((DA3:DA105=V19)*(DD3:DD105=V20)*DC3:DC105) -> 0 | AA20: =SUMPRODUCT((DA3:DA105=V20)*(DD3:DD105=V21)*DC3:DC105)+SUMPRODUCT((DA3:DA105=V20)*(DD3:DD105=V22)*DC3:DC105)+SUMPRODUCT((DA3:DA105=V20)*(DD3:DD105=V18)*DC3:DC105)+SUMPRODUCT((DA3:DA105=V20)*(DD3:DD105=V19)*DC3:DC105)+SUMPRODUCT((DA3:DA105=V21)*(DD3:DD105=V20)*DB3:DB105)+SUMPRODUCT((DA3:DA105=V22)*(DD3:DD105=V20)*DB3:DB105)+SUMPRODUCT((DA3:DA105=V18)*(DD3:DD105=V20)*DB3:DB105)+SUMPRODUCT((DA3:DA105=V19)*(DD3:DD105=V20)*DB3:DB105) -> 0 | AB20: =Z20-AA20+1000 -> 1000 | AC20: =IF(V20<>"",W20*3+X20*1,"") -> 0 | AD20: =IF(V20<>"",VLOOKUP(V20,C4:I52,7,FALSE),"") -> 1000 | AE20: =IF(V20<>"",VLOOKUP(V20,C4:I52,5,FALSE),"") -> 0 | AF20: =IF(V20<>"",VLOOKUP(V20,C4:K52,9,FALSE),"") -> -108 | AG20: =AC20 -> 0 | AH20: =IF(V20<>"",RANK(AG20,AG18:AG22),"") -> 1 | AI20: =IF(V20<>"",SUMPRODUCT((AG18:AG22=AG20)*(AB18:AB22>AB20)),"") -> 0 | AJ20: =IF(V20<>"",SUMPRODUCT((AG18:AG22=AG20)*(AB18:AB22=AB20)*(Z18:Z22>Z20)),"") -> 0 | AK20: =IF(V20<>"",SUMPRODUCT((AG18:AG22=AG20)*(AB18:AB22=AB20)*(Z18:Z22=Z20)*(AD18:AD22>AD20)),"") -> 0 | AL20: =IF(V20<>"",SUMPRODUCT((AG18:AG22=AG20)*(AB18:AB22=AB20)*(Z18:Z22=Z20)*(AD18:AD22=AD20)*(AE18:AE22>AE20)),"") -> 0 | AM20: =IF(V20<>"",SUMPRODUCT((AG18:AG22=AG20)*(AB18:AB22=AB20)*(Z18:Z22=Z20)*(AD18:AD22=AD20)*(AE18:AE22=AE20)*(AF18:AF22>AF20)),"") -> 1 | AN20: =IF(V20<>"",IF(SUM(X18:X21)=12,SUM(AH20:AM20),IF(AN99<>"",IF(U96=3,AN99,AN99+U96),SUM(AH20:AM20))),"") -> 2 | AO20: =IF(V20<>"",INDEX(V18:V22,MATCH(3,AN18:AN22,0),0),"") -> Scotland | AP20: =IF(R19<>"",R19,"") | AQ20: =SUMPRODUCT((DA3:DA105=AP20)*(DD3:DD105=AP21)*(DE3:DE105="W"))+SUMPRODUCT((DA3:DA105=AP20)*(DD3:DD105=AP22)*(DE3:DE105="W"))+SUMPRODUCT((DA3:DA105=AP20)*(DD3:DD105=AP19)*(DE3:DE105="W"))+SUMPRODUCT((DA3:DA105=AP21)*(DD3:DD105=AP20)*(DF3:DF105="W"))+SUMPRODUCT((DA3:DA105=AP22)*(DD3:DD105=AP20)*(DF3:DF105="W"))+SUMPRODUCT((DA3:DA105=AP19)*(DD3:DD105=AP20)*(DF3:DF105="W")) -> 0 | AR20: =SUMPRODUCT((DA3:DA105=AP20)*(DD3:DD105=AP21)*(DE3:DE105="D"))+SUMPRODUCT((DA3:DA105=AP20)*(DD3:DD105=AP22)*(DE3:DE105="D"))+SUMPRODUCT((DA3:DA105=AP20)*(DD3:DD105=AP19)*(DE3:DE105="D"))+SUMPRODUCT((DA3:DA105=AP21)*(DD3:DD105=AP20)*(DE3:DE105="D"))+SUMPRODUCT((DA3:DA105=AP22)*(DD3:DD105=AP20)*(DE3:DE105="D"))+SUMPRODUCT((DA3:DA105=AP19)*(DD3:DD105=AP20)*(DE3:DE105="D")) -> 0 | AS20: =SUMPRODUCT((DA3:DA105=AP20)*(DD3:DD105=AP21)*(DE3:DE105="L"))+SUMPRODUCT((DA3:DA105=AP20)*(DD3:DD105=AP22)*(DE3:DE105="L"))+SUMPRODUCT((DA3:DA105=AP20)*(DD3:DD105=AP19)*(DE3:DE105="L"))+SUMPRODUCT((DA3:DA105=AP21)*(DD3:DD105=AP20)*(DF3:DF105="L"))+SUMPRODUCT((DA3:DA105=AP22)*(DD3:DD105=AP20)*(DF3:DF105="L"))+SUMPRODUCT((DA3:DA105=AP19)*(DD3:DD105=AP20)*(DF3:DF105="L")) -> 0 | AT20: =SUMPRODUCT((DA3:DA105=AP20)*(DD3:DD105=AP21)*DB3:DB105)+SUMPRODUCT((DA3:DA105=AP20)*(DD3:DD105=AP22)*DB3:DB105)+SUMPRODUCT((DA3:DA105=AP20)*(DD3:DD105=AP18)*DB3:DB105)+SUMPRODUCT((DA3:DA105=AP20)*(DD3:DD105=AP19)*DB3:DB105)+SUMPRODUCT((DA3:DA105=AP21)*(DD3:DD105=AP20)*DC3:DC105)+SUMPRODUCT((DA3:DA105=AP22)*(DD3:DD105=AP20)*DC3:DC105)+SUMPRODUCT((DA3:DA105=AP18)*(DD3:DD105=AP20)*DC3:DC105)+SUMPRODUCT((DA3:DA105=AP19)*(DD3:DD105=AP20)*DC3:DC105) -> 0 | AU20: =SUMPRODUCT((DA3:DA105=AP20)*(DD3:DD105=AP21)*DC3:DC105)+SUMPRODUCT((DA3:DA105=AP20)*(DD3:DD105=AP22)*DC3:DC105)+SUMPRODUCT((DA3:DA105=AP20)*(DD3:DD105=AP18)*DC3:DC105)+SUMPRODUCT((DA3:DA105=AP20)*(DD3:DD105=AP19)*DC3:DC105)+SUMPRODUCT((DA3:DA105=AP21)*(DD3:DD105=AP20)*DB3:DB105)+SUMPRODUCT((DA3:DA105=AP22)*(DD3:DD105=AP20)*DB3:DB105)+SUMPRODUCT((DA3:DA105=AP18)*(DD3:DD105=AP20)*DB3:DB105)+SUMPRODUCT((DA3:DA105=AP19)*(DD3:DD105=AP20)*DB3:DB105) -> 0 | AV20: =AT20-AU20+1000 -> 1000 | AW20: =IF(AP20<>"",AQ20*3+AR20*1,"") | AX20: =IF(AP20<>"",VLOOKUP(AP20,C4:I52,7,FALSE),"") | AY20: =IF(AP20<>"",VLOOKUP(AP20,C4:I52,5,FALSE),"") | AZ20: =IF(AP20<>"",VLOOKUP(AP20,C4:K52,9,FALSE),"") | BA20: =AW20 | BB20: =IF(AP20<>"",RANK(BA20,BA18:BA22),"") | BC20: =IF(AP20<>"",SUMPRODUCT((BA18:BA22=BA20)*(AV18:AV22>AV20)),"") | BD20: =IF(AP20<>"",SUMPRODUCT((BA18:BA22=BA20)*(AV18:AV22=AV20)*(AT18:AT22>AT20)),"") | BE20: =IF(AP20<>"",SUMPRODUCT((BA18:BA22=BA20)*(AV18:AV22=AV20)*(AT18:AT22=AT20)*(AX18:AX22>AX20)),"") | BF20: =IF(AP20<>"",SUMPRODUCT((BA18:BA22=BA20)*(AV18:AV22=AV20)*(AT18:AT22=AT20)*(AX18:AX22=AX20)*(AY18:AY22>AY20)),"") | BG20: =IF(AP20<>"",SUMPRODUCT((BA18:BA22=BA20)*(AV18:AV22=AV20)*(AT18:AT22=AT20)*(AX18:AX22=AX20)*(AY18:AY22=AY20)*(AZ18:AZ22>AZ20)),"") | BH20: =IF(AP20<>"",IF(BH99<>"",IF(AO96=3,BH99,BH99+AO96),SUM(BB20:BG20)+1),"") | BI20: =IF(AP20<>"",INDEX(AP19:AP22,MATCH(3,BH19:BH22,0),0),"") | BJ20: =IF(S18<>"",S18,"") | BK20: =SUMPRODUCT((DA3:DA105=BJ20)*(DD3:DD105=BJ21)*(DE3:DE105="W"))+SUMPRODUCT((DA3:DA105=BJ20)*(DD3:DD105=BJ22)*(DE3:DE105="W"))+SUMPRODUCT((DA3:DA105=BJ20)*(DD3:DD105=BJ23)*(DE3:DE105="W"))+SUMPRODUCT((DA3:DA105=BJ21)*(DD3:DD105=BJ20)*(DF3:DF105="W"))+SUMPRODUCT((DA3:DA105=BJ22)*(DD3:DD105=BJ20)*(DF3:DF105="W"))+SUMPRODUCT((DA3:DA105=BJ23)*(DD3:DD105=BJ20)*(DF3:DF105="W")) -> 0 | BL20: =SUMPRODUCT((DA3:DA105=BJ20)*(DD3:DD105=BJ21)*(DE3:DE105="D"))+SUMPRODUCT((DA3:DA105=BJ20)*(DD3:DD105=BJ22)*(DE3:DE105="D"))+SUMPRODUCT((DA3:DA105=BJ20)*(DD3:DD105=BJ23)*(DE3:DE105="D"))+SUMPRODUCT((DA3:DA105=BJ21)*(DD3:DD105=BJ20)*(DE3:DE105="D"))+SUMPRODUCT((DA3:DA105=BJ22)*(DD3:DD105=BJ20)*(DE3:DE105="D"))+SUMPRODUCT((DA3:DA105=BJ23)*(DD3:DD105=BJ20)*(DE3:DE105="D")) -> 0 | BM20: =SUMPRODUCT((DA3:DA105=BJ20)*(DD3:DD105=BJ21)*(DE3:DE105="L"))+SUMPRODUCT((DA3:DA105=BJ20)*(DD3:DD105=BJ22)*(DE3:DE105="L"))+SUMPRODUCT((DA3:DA105=BJ20)*(DD3:DD105=BJ23)*(DE3:DE105="L"))+SUMPRODUCT((DA3:DA105=BJ21)*(DD3:DD105=BJ20)*(DF3:DF105="L"))+SUMPRODUCT((DA3:DA105=BJ22)*(DD3:DD105=BJ20)*(DF3:DF105="L"))+SUMPRODUCT((DA3:DA105=BJ23)*(DD3:DD105=BJ20)*(DF3:DF105="L")) -> 0 | BN20: =SUMPRODUCT((DA3:DA105=BJ20)*(DD3:DD105=BJ21)*DB3:DB105)+SUMPRODUCT((DA3:DA105=BJ20)*(DD3:DD105=BJ22)*DB3:DB105)+SUMPRODUCT((DA3:DA105=BJ20)*(DD3:DD105=BJ18)*DB3:DB105)+SUMPRODUCT((DA3:DA105=BJ20)*(DD3:DD105=BJ19)*DB3:DB105)+SUMPRODUCT((DA3:DA105=BJ21)*(DD3:DD105=BJ20)*DC3:DC105)+SUMPRODUCT((DA3:DA105=BJ22)*(DD3:DD105=BJ20)*DC3:DC105)+SUMPRODUCT((DA3:DA105=BJ18)*(DD3:DD105=BJ20)*DC3:DC105)+SUMPRODUCT((DA3:DA105=BJ19)*(DD3:DD105=BJ20)*DC3:DC105) -> 0 | BO20: =SUMPRODUCT((DA3:DA105=BJ20)*(DD3:DD105=BJ21)*DC3:DC105)+SUMPRODUCT((DA3:DA105=BJ20)*(DD3:DD105=BJ22)*DC3:DC105)+SUMPRODUCT((DA3:DA105=BJ20)*(DD3:DD105=BJ18)*DC3:DC105)+SUMPRODUCT((DA3:DA105=BJ20)*(DD3:DD105=BJ19)*DC3:DC105)+SUMPRODUCT((DA3:DA105=BJ21)*(DD3:DD105=BJ20)*DB3:DB105)+SUMPRODUCT((DA3:DA105=BJ22)*(DD3:DD105=BJ20)*DB3:DB105)+SUMPRODUCT((DA3:DA105=BJ18)*(DD3:DD105=BJ20)*DB3:DB105)+SUMPRODUCT((DA3:DA105=BJ19)*(DD3:DD105=BJ20)*DB3:DB105) -> 0 | BP20: =BN20-BO20+1000 -> 1000 | BQ20: =IF(BJ20<>"",BK20*3+BL20*1,"") | BR20: =IF(BJ20<>"",VLOOKUP(BJ20,C4:I52,7,FALSE),"") | BS20: =IF(BJ20<>"",VLOOKUP(BJ20,C4:I52,5,FALSE),"") | BT20: =IF(BJ20<>"",VLOOKUP(BJ20,C4:K52,9,FALSE),"") | BU20: =BQ20 | BV20: =IF(BJ20<>"",RANK(BU20,BU18:BU22),"") | BW20: =IF(BJ20<>"",SUMPRODUCT((BU18:BU22=BU20)*(BP18:BP22>BP20)),"") | BX20: =IF(BJ20<>"",SUMPRODUCT((BU18:BU22=BU20)*(BP18:BP22=BP20)*(BN18:BN22>BN20)),"") | BY20: =IF(BJ20<>"",SUMPRODUCT((BU18:BU22=BU20)*(BP18:BP22=BP20)*(BN18:BN22=BN20)*(BR18:BR22>BR20)),"") | BZ20: =IF(BJ20<>"",SUMPRODUCT((BU18:BU22=BU20)*(BP18:BP22=BP20)*(BN18:BN22=BN20)*(BR18:BR22=BR20)*(BS18:BS22>BS20)),"") | CA20: =IF(BJ20<>"",SUMPRODUCT((BU18:BU22=BU20)*(BP18:BP22=BP20)*(BN18:BN22=BN20)*(BR18:BR22=BR20)*(BS18:BS22=BS20)*(BT18:BT22>BT20)),"") | CB20: =IF(BJ20<>"",SUM(BV20:CA20)+2,"") | CC20: =IF(BJ20<>"",INDEX(BJ20:BJ22,MATCH(3,CB20:CB22,0),0),"") | CX20: =IF(CC20<>"",CC20,IF(BI20<>"",BI20,IF(AO20<>"",AO20,O20))) -> Scotland | CY20: 3 | CZ20: 18 | DA20: =Matches!F25 -> Iraq | DB20: =IF(DA2<>"",IF(AND(Matches!H25<>"",Matches!I25<>""),Matches!H25,0),"") -> 0 | DC20: =IF(DA2<>"",IF(AND(Matches!H25<>"",Matches!I25<>""),Matches!I25,0),"") -> 0 | DD20: =Matches!K25 -> Norway | DE20: =IF(AND(Matches!H25<>"",Matches!I25<>""),IF(DB20>DC20,"W",IF(DB20=DC20,"D","L")),"") | DF20: =IF(DE20<>"",IF(DE20="W","L",IF(DE20="L","W","D")),"")
A21: =Setup!E17+100 -> 138 | B21: =VLOOKUP(C21,CX18:CY22,2,FALSE) -> 3 | C21: =Setup!D17 -> Scotland | D21: =SUMPRODUCT((DA3:DA105=C21)*(DE3:DE105="W"))+SUMPRODUCT((DD3:DD105=C21)*(DF3:DF105="W")) -> 0 | E21: =SUMPRODUCT((DA3:DA105=C21)*(DE3:DE105="D"))+SUMPRODUCT((DD3:DD105=C21)*(DF3:DF105="D")) -> 0 | F21: =SUMPRODUCT((DA3:DA105=C21)*(DE3:DE105="L"))+SUMPRODUCT((DD3:DD105=C21)*(DF3:DF105="L")) -> 0 | G21: =SUMIF(DA3:DA123,C21,DB3:DB123)+SUMIF(DD3:DD123,C21,DC3:DC123) -> 0 | H21: =SUMIF(DD3:DD123,C21,DB3:DB123)+SUMIF(DA3:DA123,C21,DC3:DC123) -> 0 | I21: =G21-H21+1000 -> 1000 | J21: =D21*3+E21*1 -> 0 | K21: =IF(Setup!F17<>"",Setup!F17,-A21) -> -138 | L21: =IF(COUNTIF(J18:J22,4)<>4,RANK(J21,J18:J22),J100) -> 1 | N21: =SUMPRODUCT((L18:L21=L21)*(K18:K21<K21))+L21 -> 2 | O21: =INDEX(C18:C22,MATCH(4,N18:N22,0),0) -> Brazil | P21: =INDEX(L18:L22,MATCH(O21,C18:C22,0),0) -> 1 | Q21: =IF(AND(Q20<>"",P21=1),O21,"") -> Brazil | R21: =IF(AND(R20<>"",P22=2),O22,"") | V21: =IF(Q21<>"",Q21,"") -> Brazil | W21: =SUMPRODUCT((DA3:DA105=V21)*(DD3:DD105=V22)*(DE3:DE105="W"))+SUMPRODUCT((DA3:DA105=V21)*(DD3:DD105=V18)*(DE3:DE105="W"))+SUMPRODUCT((DA3:DA105=V21)*(DD3:DD105=V19)*(DE3:DE105="W"))+SUMPRODUCT((DA3:DA105=V21)*(DD3:DD105=V20)*(DE3:DE105="W"))+SUMPRODUCT((DA3:DA105=V22)*(DD3:DD105=V21)*(DF3:DF105="W"))+SUMPRODUCT((DA3:DA105=V18)*(DD3:DD105=V21)*(DF3:DF105="W"))+SUMPRODUCT((DA3:DA105=V19)*(DD3:DD105=V21)*(DF3:DF105="W"))+SUMPRODUCT((DA3:DA105=V20)*(DD3:DD105=V21)*(DF3:DF105="W")) -> 0 | X21: =SUMPRODUCT((DA3:DA105=V21)*(DD3:DD105=V22)*(DE3:DE105="D"))+SUMPRODUCT((DA3:DA105=V21)*(DD3:DD105=V18)*(DE3:DE105="D"))+SUMPRODUCT((DA3:DA105=V21)*(DD3:DD105=V19)*(DE3:DE105="D"))+SUMPRODUCT((DA3:DA105=V21)*(DD3:DD105=V20)*(DE3:DE105="D"))+SUMPRODUCT((DA3:DA105=V22)*(DD3:DD105=V21)*(DE3:DE105="D"))+SUMPRODUCT((DA3:DA105=V18)*(DD3:DD105=V21)*(DE3:DE105="D"))+SUMPRODUCT((DA3:DA105=V19)*(DD3:DD105=V21)*(DE3:DE105="D"))+SUMPRODUCT((DA3:DA105=V20)*(DD3:DD105=V21)*(DE3:DE105="D")) -> 0 | Y21: =SUMPRODUCT((DA3:DA105=V21)*(DD3:DD105=V22)*(DE3:DE105="L"))+SUMPRODUCT((DA3:DA105=V21)*(DD3:DD105=V18)*(DE3:DE105="L"))+SUMPRODUCT((DA3:DA105=V21)*(DD3:DD105=V19)*(DE3:DE105="L"))+SUMPRODUCT((DA3:DA105=V21)*(DD3:DD105=V20)*(DE3:DE105="L"))+SUMPRODUCT((DA3:DA105=V22)*(DD3:DD105=V21)*(DF3:DF105="L"))+SUMPRODUCT((DA3:DA105=V18)*(DD3:DD105=V21)*(DF3:DF105="L"))+SUMPRODUCT((DA3:DA105=V19)*(DD3:DD105=V21)*(DF3:DF105="L"))+SUMPRODUCT((DA3:DA105=V20)*(DD3:DD105=V21)*(DF3:DF105="L")) -> 0 | Z21: =SUMPRODUCT((DA3:DA105=V21)*(DD3:DD105=V22)*DB3:DB105)+SUMPRODUCT((DA3:DA105=V21)*(DD3:DD105=V18)*DB3:DB105)+SUMPRODUCT((DA3:DA105=V21)*(DD3:DD105=V19)*DB3:DB105)+SUMPRODUCT((DA3:DA105=V21)*(DD3:DD105=V20)*DB3:DB105)+SUMPRODUCT((DA3:DA105=V22)*(DD3:DD105=V21)*DC3:DC105)+SUMPRODUCT((DA3:DA105=V18)*(DD3:DD105=V21)*DC3:DC105)+SUMPRODUCT((DA3:DA105=V19)*(DD3:DD105=V21)*DC3:DC105)+SUMPRODUCT((DA3:DA105=V20)*(DD3:DD105=V21)*DC3:DC105) -> 0 | AA21: =SUMPRODUCT((DA3:DA105=V21)*(DD3:DD105=V22)*DC3:DC105)+SUMPRODUCT((DA3:DA105=V21)*(DD3:DD105=V18)*DC3:DC105)+SUMPRODUCT((DA3:DA105=V21)*(DD3:DD105=V19)*DC3:DC105)+SUMPRODUCT((DA3:DA105=V21)*(DD3:DD105=V20)*DC3:DC105)+SUMPRODUCT((DA3:DA105=V22)*(DD3:DD105=V21)*DB3:DB105)+SUMPRODUCT((DA3:DA105=V18)*(DD3:DD105=V21)*DB3:DB105)+SUMPRODUCT((DA3:DA105=V19)*(DD3:DD105=V21)*DB3:DB105)+SUMPRODUCT((DA3:DA105=V20)*(DD3:DD105=V21)*DB3:DB105) -> 0 | AB21: =Z21-AA21+1000 -> 1000 | AC21: =IF(V21<>"",W21*3+X21*1,"") -> 0 | AD21: =IF(V21<>"",VLOOKUP(V21,C4:I52,7,FALSE),"") -> 1000 | AE21: =IF(V21<>"",VLOOKUP(V21,C4:I52,5,FALSE),"") -> 0 | AF21: =IF(V21<>"",VLOOKUP(V21,C4:K52,9,FALSE),"") -> -105 | AG21: =AC21 -> 0 | AH21: =IF(V21<>"",RANK(AG21,AG18:AG22),"") -> 1 | AI21: =IF(V21<>"",SUMPRODUCT((AG18:AG22=AG21)*(AB18:AB22>AB21)),"") -> 0 | AJ21: =IF(V21<>"",SUMPRODUCT((AG18:AG22=AG21)*(AB18:AB22=AB21)*(Z18:Z22>Z21)),"") -> 0 | AK21: =IF(V21<>"",SUMPRODUCT((AG18:AG22=AG21)*(AB18:AB22=AB21)*(Z18:Z22=Z21)*(AD18:AD22>AD21)),"") -> 0 | AL21: =IF(V21<>"",SUMPRODUCT((AG18:AG22=AG21)*(AB18:AB22=AB21)*(Z18:Z22=Z21)*(AD18:AD22=AD21)*(AE18:AE22>AE21)),"") -> 0 | AM21: =IF(V21<>"",SUMPRODUCT((AG18:AG22=AG21)*(AB18:AB22=AB21)*(Z18:Z22=Z21)*(AD18:AD22=AD21)*(AE18:AE22=AE21)*(AF18:AF22>AF21)),"") -> 0 | AN21: =IF(V21<>"",IF(SUM(X18:X21)=12,SUM(AH21:AM21),IF(AN100<>"",IF(U96=3,AN100,AN100+U96),SUM(AH21:AM21))),"") -> 1 | AO21: =IF(V21<>"",INDEX(V18:V22,MATCH(4,AN18:AN22,0),0),"") -> Haiti | AP21: =IF(R20<>"",R20,"") | AQ21: =IF(AP21<>"",SUMPRODUCT((DA3:DA105=AP21)*(DD3:DD105=AP22)*(DE3:DE105="W"))+SUMPRODUCT((DA3:DA105=AP21)*(DD3:DD105=AP19)*(DE3:DE105="W"))+SUMPRODUCT((DA3:DA105=AP21)*(DD3:DD105=AP20)*(DE3:DE105="W"))+SUMPRODUCT((DA3:DA105=AP22)*(DD3:DD105=AP21)*(DF3:DF105="W"))+SUMPRODUCT((DA3:DA105=AP19)*(DD3:DD105=AP21)*(DF3:DF105="W"))+SUMPRODUCT((DA3:DA105=AP20)*(DD3:DD105=AP21)*(DF3:DF105="W")),"") | AR21: =IF(AP21<>"",SUMPRODUCT((DA3:DA105=AP21)*(DD3:DD105=AP22)*(DE3:DE105="D"))+SUMPRODUCT((DA3:DA105=AP21)*(DD3:DD105=AP19)*(DE3:DE105="D"))+SUMPRODUCT((DA3:DA105=AP21)*(DD3:DD105=AP20)*(DE3:DE105="D"))+SUMPRODUCT((DA3:DA105=AP22)*(DD3:DD105=AP21)*(DE3:DE105="D"))+SUMPRODUCT((DA3:DA105=AP19)*(DD3:DD105=AP21)*(DE3:DE105="D"))+SUMPRODUCT((DA3:DA105=AP20)*(DD3:DD105=AP21)*(DE3:DE105="D")),"") | AS21: =IF(AP21<>"",SUMPRODUCT((DA3:DA105=AP21)*(DD3:DD105=AP22)*(DE3:DE105="L"))+SUMPRODUCT((DA3:DA105=AP21)*(DD3:DD105=AP19)*(DE3:DE105="L"))+SUMPRODUCT((DA3:DA105=AP21)*(DD3:DD105=AP20)*(DE3:DE105="L"))+SUMPRODUCT((DA3:DA105=AP22)*(DD3:DD105=AP21)*(DF3:DF105="L"))+SUMPRODUCT((DA3:DA105=AP19)*(DD3:DD105=AP21)*(DF3:DF105="L"))+SUMPRODUCT((DA3:DA105=AP20)*(DD3:DD105=AP21)*(DF3:DF105="L")),"") | AT21: =SUMPRODUCT((DA3:DA105=AP21)*(DD3:DD105=AP22)*DB3:DB105)+SUMPRODUCT((DA3:DA105=AP21)*(DD3:DD105=AP18)*DB3:DB105)+SUMPRODUCT((DA3:DA105=AP21)*(DD3:DD105=AP19)*DB3:DB105)+SUMPRODUCT((DA3:DA105=AP21)*(DD3:DD105=AP20)*DB3:DB105)+SUMPRODUCT((DA3:DA105=AP22)*(DD3:DD105=AP21)*DC3:DC105)+SUMPRODUCT((DA3:DA105=AP18)*(DD3:DD105=AP21)*DC3:DC105)+SUMPRODUCT((DA3:DA105=AP19)*(DD3:DD105=AP21)*DC3:DC105)+SUMPRODUCT((DA3:DA105=AP20)*(DD3:DD105=AP21)*DC3:DC105) -> 0 | AU21: =SUMPRODUCT((DA3:DA105=AP21)*(DD3:DD105=AP22)*DC3:DC105)+SUMPRODUCT((DA3:DA105=AP21)*(DD3:DD105=AP18)*DC3:DC105)+SUMPRODUCT((DA3:DA105=AP21)*(DD3:DD105=AP19)*DC3:DC105)+SUMPRODUCT((DA3:DA105=AP21)*(DD3:DD105=AP20)*DC3:DC105)+SUMPRODUCT((DA3:DA105=AP22)*(DD3:DD105=AP21)*DB3:DB105)+SUMPRODUCT((DA3:DA105=AP18)*(DD3:DD105=AP21)*DB3:DB105)+SUMPRODUCT((DA3:DA105=AP19)*(DD3:DD105=AP21)*DB3:DB105)+SUMPRODUCT((DA3:DA105=AP20)*(DD3:DD105=AP21)*DB3:DB105) -> 0 | AV21: =AT21-AU21+1000 -> 1000 | AW21: =IF(AP21<>"",AQ21*3+AR21*1,"") | AX21: =IF(AP21<>"",VLOOKUP(AP21,C4:I52,7,FALSE),"") | AY21: =IF(AP21<>"",VLOOKUP(AP21,C4:I52,5,FALSE),"") | AZ21: =IF(AP21<>"",VLOOKUP(AP21,C4:K52,9,FALSE),"") | BA21: =AW21 | BB21: =IF(AP21<>"",RANK(BA21,BA18:BA22),"") | BC21: =IF(AP21<>"",SUMPRODUCT((BA18:BA22=BA21)*(AV18:AV22>AV21)),"") | BD21: =IF(AP21<>"",SUMPRODUCT((BA18:BA22=BA21)*(AV18:AV22=AV21)*(AT18:AT22>AT21)),"") | BE21: =IF(AP21<>"",SUMPRODUCT((BA18:BA22=BA21)*(AV18:AV22=AV21)*(AT18:AT22=AT21)*(AX18:AX22>AX21)),"") | BF21: =IF(AP21<>"",SUMPRODUCT((BA18:BA22=BA21)*(AV18:AV22=AV21)*(AT18:AT22=AT21)*(AX18:AX22=AX21)*(AY18:AY22>AY21)),"") | BG21: =IF(AP21<>"",SUMPRODUCT((BA18:BA22=BA21)*(AV18:AV22=AV21)*(AT18:AT22=AT21)*(AX18:AX22=AX21)*(AY18:AY22=AY21)*(AZ18:AZ22>AZ21)),"") | BH21: =IF(AP21<>"",IF(BH100<>"",IF(AO96=3,BH100,BH100+AO96),SUM(BB21:BG21)+1),"") | BI21: =IF(AP21<>"",INDEX(AP19:AP22,MATCH(4,BH19:BH22,0),0),"") | BJ21: =IF(S19<>"",S19,"") | BK21: =SUMPRODUCT((DA3:DA105=BJ21)*(DD3:DD105=BJ22)*(DE3:DE105="W"))+SUMPRODUCT((DA3:DA105=BJ21)*(DD3:DD105=BJ23)*(DE3:DE105="W"))+SUMPRODUCT((DA3:DA105=BJ21)*(DD3:DD105=BJ20)*(DE3:DE105="W"))+SUMPRODUCT((DA3:DA105=BJ22)*(DD3:DD105=BJ21)*(DF3:DF105="W"))+SUMPRODUCT((DA3:DA105=BJ23)*(DD3:DD105=BJ21)*(DF3:DF105="W"))+SUMPRODUCT((DA3:DA105=BJ20)*(DD3:DD105=BJ21)*(DF3:DF105="W")) -> 0 | BL21: =SUMPRODUCT((DA3:DA105=BJ21)*(DD3:DD105=BJ22)*(DE3:DE105="D"))+SUMPRODUCT((DA3:DA105=BJ21)*(DD3:DD105=BJ23)*(DE3:DE105="D"))+SUMPRODUCT((DA3:DA105=BJ21)*(DD3:DD105=BJ20)*(DE3:DE105="D"))+SUMPRODUCT((DA3:DA105=BJ22)*(DD3:DD105=BJ21)*(DE3:DE105="D"))+SUMPRODUCT((DA3:DA105=BJ23)*(DD3:DD105=BJ21)*(DE3:DE105="D"))+SUMPRODUCT((DA3:DA105=BJ20)*(DD3:DD105=BJ21)*(DE3:DE105="D")) -> 0 | BM21: =SUMPRODUCT((DA3:DA105=BJ21)*(DD3:DD105=BJ22)*(DE3:DE105="L"))+SUMPRODUCT((DA3:DA105=BJ21)*(DD3:DD105=BJ23)*(DE3:DE105="L"))+SUMPRODUCT((DA3:DA105=BJ21)*(DD3:DD105=BJ20)*(DE3:DE105="L"))+SUMPRODUCT((DA3:DA105=BJ22)*(DD3:DD105=BJ21)*(DF3:DF105="L"))+SUMPRODUCT((DA3:DA105=BJ23)*(DD3:DD105=BJ21)*(DF3:DF105="L"))+SUMPRODUCT((DA3:DA105=BJ20)*(DD3:DD105=BJ21)*(DF3:DF105="L")) -> 0 | BN21: =SUMPRODUCT((DA3:DA105=BJ21)*(DD3:DD105=BJ22)*DB3:DB105)+SUMPRODUCT((DA3:DA105=BJ21)*(DD3:DD105=BJ18)*DB3:DB105)+SUMPRODUCT((DA3:DA105=BJ21)*(DD3:DD105=BJ19)*DB3:DB105)+SUMPRODUCT((DA3:DA105=BJ21)*(DD3:DD105=BJ20)*DB3:DB105)+SUMPRODUCT((DA3:DA105=BJ22)*(DD3:DD105=BJ21)*DC3:DC105)+SUMPRODUCT((DA3:DA105=BJ18)*(DD3:DD105=BJ21)*DC3:DC105)+SUMPRODUCT((DA3:DA105=BJ19)*(DD3:DD105=BJ21)*DC3:DC105)+SUMPRODUCT((DA3:DA105=BJ20)*(DD3:DD105=BJ21)*DC3:DC105) -> 0 | BO21: =SUMPRODUCT((DA3:DA105=BJ21)*(DD3:DD105=BJ22)*DC3:DC105)+SUMPRODUCT((DA3:DA105=BJ21)*(DD3:DD105=BJ18)*DC3:DC105)+SUMPRODUCT((DA3:DA105=BJ21)*(DD3:DD105=BJ19)*DC3:DC105)+SUMPRODUCT((DA3:DA105=BJ21)*(DD3:DD105=BJ20)*DC3:DC105)+SUMPRODUCT((DA3:DA105=BJ22)*(DD3:DD105=BJ21)*DB3:DB105)+SUMPRODUCT((DA3:DA105=BJ18)*(DD3:DD105=BJ21)*DB3:DB105)+SUMPRODUCT((DA3:DA105=BJ19)*(DD3:DD105=BJ21)*DB3:DB105)+SUMPRODUCT((DA3:DA105=BJ20)*(DD3:DD105=BJ21)*DB3:DB105) -> 0 | BP21: =BN21-BO21+1000 -> 1000 | BQ21: =IF(BJ21<>"",BK21*3+BL21*1,"") | BR21: =IF(BJ21<>"",VLOOKUP(BJ21,C4:I52,7,FALSE),"") | BS21: =IF(BJ21<>"",VLOOKUP(BJ21,C4:I52,5,FALSE),"") | BT21: =IF(BJ21<>"",VLOOKUP(BJ21,C4:K52,9,FALSE),"") | BU21: =BQ21 | BV21: =IF(BJ21<>"",RANK(BU21,BU18:BU22),"") | BW21: =IF(BJ21<>"",SUMPRODUCT((BU18:BU22=BU21)*(BP18:BP22>BP21)),"") | BX21: =IF(BJ21<>"",SUMPRODUCT((BU18:BU22=BU21)*(BP18:BP22=BP21)*(BN18:BN22>BN21)),"") | BY21: =IF(BJ21<>"",SUMPRODUCT((BU18:BU22=BU21)*(BP18:BP22=BP21)*(BN18:BN22=BN21)*(BR18:BR22>BR21)),"") | BZ21: =IF(BJ21<>"",SUMPRODUCT((BU18:BU22=BU21)*(BP18:BP22=BP21)*(BN18:BN22=BN21)*(BR18:BR22=BR21)*(BS18:BS22>BS21)),"") | CA21: =IF(BJ21<>"",SUMPRODUCT((BU18:BU22=BU21)*(BP18:BP22=BP21)*(BN18:BN22=BN21)*(BR18:BR22=BR21)*(BS18:BS22=BS21)*(BT18:BT22>BT21)),"") | CB21: =IF(BJ21<>"",SUM(BV21:CA21)+2,"") | CC21: =IF(BJ21<>"",INDEX(BJ20:BJ22,MATCH(4,CB20:CB22,0),0),"") | CD21: =IF(T18<>"",T18,"") | CE21: =SUMPRODUCT((DA3:DA105=CD21)*(DD3:DD105=CD22)*(DE3:DE105="W"))+SUMPRODUCT((DA3:DA105=CD21)*(DD3:DD105=CD23)*(DE3:DE105="W"))+SUMPRODUCT((DA3:DA105=CD21)*(DD3:DD105=CD24)*(DE3:DE105="W"))+SUMPRODUCT((DA3:DA105=CD22)*(DD3:DD105=CD21)*(DF3:DF105="W"))+SUMPRODUCT((DA3:DA105=CD23)*(DD3:DD105=CD21)*(DF3:DF105="W"))+SUMPRODUCT((DA3:DA105=CD24)*(DD3:DD105=CD21)*(DF3:DF105="W")) -> 0 | CF21: =SUMPRODUCT((DA3:DA105=CD21)*(DD3:DD105=CD22)*(DE3:DE105="D"))+SUMPRODUCT((DA3:DA105=CD21)*(DD3:DD105=CD23)*(DE3:DE105="D"))+SUMPRODUCT((DA3:DA105=CD21)*(DD3:DD105=CD24)*(DE3:DE105="D"))+SUMPRODUCT((DA3:DA105=CD22)*(DD3:DD105=CD21)*(DE3:DE105="D"))+SUMPRODUCT((DA3:DA105=CD23)*(DD3:DD105=CD21)*(DE3:DE105="D"))+SUMPRODUCT((DA3:DA105=CD24)*(DD3:DD105=CD21)*(DE3:DE105="D")) -> 0 | CG21: =SUMPRODUCT((DA3:DA105=CD21)*(DD3:DD105=CD22)*(DE3:DE105="L"))+SUMPRODUCT((DA3:DA105=CD21)*(DD3:DD105=CD23)*(DE3:DE105="L"))+SUMPRODUCT((DA3:DA105=CD21)*(DD3:DD105=CD24)*(DE3:DE105="L"))+SUMPRODUCT((DA3:DA105=CD22)*(DD3:DD105=CD21)*(DF3:DF105="L"))+SUMPRODUCT((DA3:DA105=CD23)*(DD3:DD105=CD21)*(DF3:DF105="L"))+SUMPRODUCT((DA3:DA105=CD24)*(DD3:DD105=CD21)*(DF3:DF105="L")) -> 0 | CH21: =SUMPRODUCT((DA3:DA105=CD21)*(DD3:DD105=CD22)*DB3:DB105)+SUMPRODUCT((DA3:DA105=CD21)*(DD3:DD105=CD18)*DB3:DB105)+SUMPRODUCT((DA3:DA105=CD21)*(DD3:DD105=CD19)*DB3:DB105)+SUMPRODUCT((DA3:DA105=CD21)*(DD3:DD105=CD20)*DB3:DB105)+SUMPRODUCT((DA3:DA105=CD22)*(DD3:DD105=CD21)*DC3:DC105)+SUMPRODUCT((DA3:DA105=CD18)*(DD3:DD105=CD21)*DC3:DC105)+SUMPRODUCT((DA3:DA105=CD19)*(DD3:DD105=CD21)*DC3:DC105)+SUMPRODUCT((DA3:DA105=CD20)*(DD3:DD105=CD21)*DC3:DC105) -> 0 | CI21: =SUMPRODUCT((DA3:DA105=CD21)*(DD3:DD105=CD22)*DC3:DC105)+SUMPRODUCT((DA3:DA105=CD21)*(DD3:DD105=CD18)*DC3:DC105)+SUMPRODUCT((DA3:DA105=CD21)*(DD3:DD105=CD19)*DC3:DC105)+SUMPRODUCT((DA3:DA105=CD21)*(DD3:DD105=CD20)*DC3:DC105)+SUMPRODUCT((DA3:DA105=CD22)*(DD3:DD105=CD21)*DB3:DB105)+SUMPRODUCT((DA3:DA105=CD18)*(DD3:DD105=CD21)*DB3:DB105)+SUMPRODUCT((DA3:DA105=CD19)*(DD3:DD105=CD21)*DB3:DB105)+SUMPRODUCT((DA3:DA105=CD20)*(DD3:DD105=CD21)*DB3:DB105) -> 0 | CJ21: =CH21-CI21+1000 -> 1000 | CK21: =IF(CD21<>"",CE21*3+CF21*1,"") | CL21: =IF(CD21<>"",VLOOKUP(CD21,C4:I52,7,FALSE),"") | CM21: =IF(CD21<>"",VLOOKUP(CD21,C4:I52,5,FALSE),"") | CN21: =IF(CD21<>"",VLOOKUP(CD21,C4:K52,9,FALSE),"") | CO21: =CK21 | CP21: =IF(CD21<>"",RANK(CO21,CO18:CO22),"") | CQ21: =IF(CD21<>"",SUMPRODUCT((CO18:CO22=CO21)*(CJ18:CJ22>CJ21)),"") | CR21: =IF(CD21<>"",SUMPRODUCT((CO18:CO22=CO21)*(CJ18:CJ22=CJ21)*(CH18:CH22>CH21)),"") | CS21: =IF(CD21<>"",SUMPRODUCT((CO18:CO22=CO21)*(CJ18:CJ22=CJ21)*(CH18:CH22=CH21)*(CL18:CL22>CL21)),"") | CT21: =IF(CD21<>"",SUMPRODUCT((CO18:CO22=CO21)*(CJ18:CJ22=CJ21)*(CH18:CH22=CH21)*(CL18:CL22=CL21)*(CM18:CM22>CM21)),"") | CU21: =IF(CD21<>"",SUMPRODUCT((CO18:CO22=CO21)*(CJ18:CJ22=CJ21)*(CH18:CH22=CH21)*(CL18:CL22=CL21)*(CM18:CM22=CM21)*(CN18:CN22>CN21)),"") | CV21: =IF(CD21<>"",SUM(CP21:CU21)+3,"") | CW21: =IF(CD21<>"",IF(CV21=4,CD21,CD22),"") | CX21: =IF(CW21<>"",CW21,IF(CC21<>"",CC21,IF(BI21<>"",BI21,IF(AO21<>"",AO21,O21)))) -> Haiti | CY21: 4 | CZ21: 19 | DA21: =Matches!F26 -> Argentina | DB21: =IF(DA2<>"",IF(AND(Matches!H26<>"",Matches!I26<>""),Matches!H26,0),"") -> 0 | DC21: =IF(DA2<>"",IF(AND(Matches!H26<>"",Matches!I26<>""),Matches!I26,0),"") -> 0 | DD21: =Matches!K26 -> Algeria | DE21: =IF(AND(Matches!H26<>"",Matches!I26<>""),IF(DB21>DC21,"W",IF(DB21=DC21,"D","L")),"") | DF21: =IF(DE21<>"",IF(DE21="W","L",IF(DE21="L","W","D")),"")
CZ22: 20 | DA22: =Matches!F27 -> Austria | DB22: =IF(DA2<>"",IF(AND(Matches!H27<>"",Matches!I27<>""),Matches!H27,0),"") -> 0 | DC22: =IF(DA2<>"",IF(AND(Matches!H27<>"",Matches!I27<>""),Matches!I27,0),"") -> 0 | DD22: =Matches!K27 -> Jordan | DE22: =IF(AND(Matches!H27<>"",Matches!I27<>""),IF(DB22>DC22,"W",IF(DB22=DC22,"D","L")),"") | DF22: =IF(DE22<>"",IF(DE22="W","L",IF(DE22="L","W","D")),"")
CZ23: 21 | DA23: =Matches!F28 -> Ghana | DB23: =IF(DA2<>"",IF(AND(Matches!H28<>"",Matches!I28<>""),Matches!H28,0),"") -> 0 | DC23: =IF(DA2<>"",IF(AND(Matches!H28<>"",Matches!I28<>""),Matches!I28,0),"") -> 0 | DD23: =Matches!K28 -> Panama | DE23: =IF(AND(Matches!H28<>"",Matches!I28<>""),IF(DB23>DC23,"W",IF(DB23=DC23,"D","L")),"") | DF23: =IF(DE23<>"",IF(DE23="W","L",IF(DE23="L","W","D")),"")
CZ24: 22 | DA24: =Matches!F29 -> England | DB24: =IF(DA2<>"",IF(AND(Matches!H29<>"",Matches!I29<>""),Matches!H29,0),"") -> 0 | DC24: =IF(DA2<>"",IF(AND(Matches!H29<>"",Matches!I29<>""),Matches!I29,0),"") -> 0 | DD24: =Matches!K29 -> Croatia | DE24: =IF(AND(Matches!H29<>"",Matches!I29<>""),IF(DB24>DC24,"W",IF(DB24=DC24,"D","L")),"") | DF24: =IF(DE24<>"",IF(DE24="W","L",IF(DE24="L","W","D")),"")
A25: =Setup!E18+100 -> 115 | B25: =VLOOKUP(C25,CX25:CY29,2,FALSE) -> 1 | C25: =Setup!D18 -> USA | D25: =SUMPRODUCT((DA3:DA105=C25)*(DE3:DE105="W"))+SUMPRODUCT((DD3:DD105=C25)*(DF3:DF105="W")) -> 0 | E25: =SUMPRODUCT((DA3:DA105=C25)*(DE3:DE105="D"))+SUMPRODUCT((DD3:DD105=C25)*(DF3:DF105="D")) -> 0 | F25: =SUMPRODUCT((DA3:DA105=C25)*(DE3:DE105="L"))+SUMPRODUCT((DD3:DD105=C25)*(DF3:DF105="L")) -> 0 | G25: =SUMIF(DA3:DA123,C25,DB3:DB123)+SUMIF(DD3:DD123,C25,DC3:DC123) -> 0 | H25: =SUMIF(DD3:DD123,C25,DB3:DB123)+SUMIF(DA3:DA123,C25,DC3:DC123) -> 0 | I25: =G25-H25+1000 -> 1000 | J25: =D25*3+E25*1 -> 0 | K25: =IF(Setup!F18<>"",Setup!F18,-A25) -> -115 | L25: =IF(COUNTIF(J25:J29,4)<>4,RANK(J25,J25:J29),J104) -> 1 | N25: =SUMPRODUCT((L25:L28=L25)*(K25:K28<K25))+L25 -> 4 | O25: =INDEX(C25:C29,MATCH(1,N25:N29,0),0) -> Paraguay | P25: =INDEX(L25:L29,MATCH(O25,C25:C29,0),0) -> 1 | Q25: =IF(P26=1,O25,"") -> Paraguay | R25: =IF(P27=2,O26,"") | S25: =IF(P28=3,O27,"") | T25: =IF(P29=4,O28,"") | V25: =IF(Q25<>"",Q25,"") -> Paraguay | W25: =SUMPRODUCT((DA3:DA105=V25)*(DD3:DD105=V26)*(DE3:DE105="W"))+SUMPRODUCT((DA3:DA105=V25)*(DD3:DD105=V27)*(DE3:DE105="W"))+SUMPRODUCT((DA3:DA105=V25)*(DD3:DD105=V28)*(DE3:DE105="W"))+SUMPRODUCT((DA3:DA105=V25)*(DD3:DD105=V29)*(DE3:DE105="W"))+SUMPRODUCT((DA3:DA105=V26)*(DD3:DD105=V25)*(DF3:DF105="W"))+SUMPRODUCT((DA3:DA105=V27)*(DD3:DD105=V25)*(DF3:DF105="W"))+SUMPRODUCT((DA3:DA105=V28)*(DD3:DD105=V25)*(DF3:DF105="W"))+SUMPRODUCT((DA3:DA105=V29)*(DD3:DD105=V25)*(DF3:DF105="W")) -> 0 | X25: =SUMPRODUCT((DA3:DA105=V25)*(DD3:DD105=V26)*(DE3:DE105="D"))+SUMPRODUCT((DA3:DA105=V25)*(DD3:DD105=V27)*(DE3:DE105="D"))+SUMPRODUCT((DA3:DA105=V25)*(DD3:DD105=V28)*(DE3:DE105="D"))+SUMPRODUCT((DA3:DA105=V25)*(DD3:DD105=V29)*(DE3:DE105="D"))+SUMPRODUCT((DA3:DA105=V26)*(DD3:DD105=V25)*(DE3:DE105="D"))+SUMPRODUCT((DA3:DA105=V27)*(DD3:DD105=V25)*(DE3:DE105="D"))+SUMPRODUCT((DA3:DA105=V28)*(DD3:DD105=V25)*(DE3:DE105="D"))+SUMPRODUCT((DA3:DA105=V29)*(DD3:DD105=V25)*(DE3:DE105="D")) -> 0 | Y25: =SUMPRODUCT((DA3:DA105=V25)*(DD3:DD105=V26)*(DE3:DE105="L"))+SUMPRODUCT((DA3:DA105=V25)*(DD3:DD105=V27)*(DE3:DE105="L"))+SUMPRODUCT((DA3:DA105=V25)*(DD3:DD105=V28)*(DE3:DE105="L"))+SUMPRODUCT((DA3:DA105=V25)*(DD3:DD105=V29)*(DE3:DE105="L"))+SUMPRODUCT((DA3:DA105=V26)*(DD3:DD105=V25)*(DF3:DF105="L"))+SUMPRODUCT((DA3:DA105=V27)*(DD3:DD105=V25)*(DF3:DF105="L"))+SUMPRODUCT((DA3:DA105=V28)*(DD3:DD105=V25)*(DF3:DF105="L"))+SUMPRODUCT((DA3:DA105=V29)*(DD3:DD105=V25)*(DF3:DF105="L")) -> 0 | Z25: =SUMPRODUCT((DA3:DA105=V25)*(DD3:DD105=V26)*DB3:DB105)+SUMPRODUCT((DA3:DA105=V25)*(DD3:DD105=V27)*DB3:DB105)+SUMPRODUCT((DA3:DA105=V25)*(DD3:DD105=V28)*DB3:DB105)+SUMPRODUCT((DA3:DA105=V25)*(DD3:DD105=V29)*DB3:DB105)+SUMPRODUCT((DA3:DA105=V26)*(DD3:DD105=V25)*DC3:DC105)+SUMPRODUCT((DA3:DA105=V27)*(DD3:DD105=V25)*DC3:DC105)+SUMPRODUCT((DA3:DA105=V28)*(DD3:DD105=V25)*DC3:DC105)+SUMPRODUCT((DA3:DA105=V29)*(DD3:DD105=V25)*DC3:DC105) -> 0 | AA25: =SUMPRODUCT((DA3:DA105=V25)*(DD3:DD105=V26)*DC3:DC105)+SUMPRODUCT((DA3:DA105=V25)*(DD3:DD105=V27)*DC3:DC105)+SUMPRODUCT((DA3:DA105=V25)*(DD3:DD105=V28)*DC3:DC105)+SUMPRODUCT((DA3:DA105=V25)*(DD3:DD105=V29)*DC3:DC105)+SUMPRODUCT((DA3:DA105=V26)*(DD3:DD105=V25)*DB3:DB105)+SUMPRODUCT((DA3:DA105=V27)*(DD3:DD105=V25)*DB3:DB105)+SUMPRODUCT((DA3:DA105=V28)*(DD3:DD105=V25)*DB3:DB105)+SUMPRODUCT((DA3:DA105=V29)*(DD3:DD105=V25)*DB3:DB105) -> 0 | AB25: =Z25-AA25+1000 -> 1000 | AC25: =IF(V25<>"",W25*3+X25*1,"") -> 0 | AD25: =IF(V25<>"",VLOOKUP(V25,C4:I52,7,FALSE),"") -> 1000 | AE25: =IF(V25<>"",VLOOKUP(V25,C4:I52,5,FALSE),"") -> 0 | AF25: =IF(V25<>"",VLOOKUP(V25,C4:K52,9,FALSE),"") -> -140 | AG25: =AC25 -> 0 | AH25: =IF(V25<>"",RANK(AG25,AG25:AG29),"") -> 1 | AI25: =IF(V25<>"",SUMPRODUCT((AG25:AG29=AG25)*(AB25:AB29>AB25)),"") -> 0 | AJ25: =IF(V25<>"",SUMPRODUCT((AG25:AG29=AG25)*(AB25:AB29=AB25)*(Z25:Z29>Z25)),"") -> 0 | AK25: =IF(V25<>"",SUMPRODUCT((AG25:AG29=AG25)*(AB25:AB29=AB25)*(Z25:Z29=Z25)*(AD25:AD29>AD25)),"") -> 0 | AL25: =IF(V25<>"",SUMPRODUCT((AG25:AG29=AG25)*(AB25:AB29=AB25)*(Z25:Z29=Z25)*(AD25:AD29=AD25)*(AE25:AE29>AE25)),"") -> 0 | AM25: =IF(V25<>"",SUMPRODUCT((AG25:AG29=AG25)*(AB25:AB29=AB25)*(Z25:Z29=Z25)*(AD25:AD29=AD25)*(AE25:AE29=AE25)*(AF25:AF29>AF25)),"") -> 3 | AN25: =IF(V25<>"",IF(SUM(X25:X28)=12,SUM(AH25:AM25),IF(AN104<>"",IF(U103=3,AN104,AN104+U103),SUM(AH25:AM25))),"") -> 4 | AO25: =IF(V25<>"",INDEX(V25:V29,MATCH(1,AN25:AN29,0),0),"") -> USA | CX25: =IF(AO25<>"",AO25,O25) -> USA | CY25: 1 | CZ25: 23 | DA25: =Matches!F30 -> Portugal | DB25: =IF(DA2<>"",IF(AND(Matches!H30<>"",Matches!I30<>""),Matches!H30,0),"") -> 0 | DC25: =IF(DA2<>"",IF(AND(Matches!H30<>"",Matches!I30<>""),Matches!I30,0),"") -> 0 | DD25: =Matches!K30 -> DR Congo | DE25: =IF(AND(Matches!H30<>"",Matches!I30<>""),IF(DB25>DC25,"W",IF(DB25=DC25,"D","L")),"") | DF25: =IF(DE25<>"",IF(DE25="W","L",IF(DE25="L","W","D")),"")
A26: =Setup!E19+100 -> 140 | B26: =VLOOKUP(C26,CX25:CY29,2,FALSE) -> 4 | C26: =Setup!D19 -> Paraguay | D26: =SUMPRODUCT((DA3:DA105=C26)*(DE3:DE105="W"))+SUMPRODUCT((DD3:DD105=C26)*(DF3:DF105="W")) -> 0 | E26: =SUMPRODUCT((DA3:DA105=C26)*(DE3:DE105="D"))+SUMPRODUCT((DD3:DD105=C26)*(DF3:DF105="D")) -> 0 | F26: =SUMPRODUCT((DA3:DA105=C26)*(DE3:DE105="L"))+SUMPRODUCT((DD3:DD105=C26)*(DF3:DF105="L")) -> 0 | G26: =SUMIF(DA3:DA123,C26,DB3:DB123)+SUMIF(DD3:DD123,C26,DC3:DC123) -> 0 | H26: =SUMIF(DD3:DD123,C26,DB3:DB123)+SUMIF(DA3:DA123,C26,DC3:DC123) -> 0 | I26: =G26-H26+1000 -> 1000 | J26: =D26*3+E26*1 -> 0 | K26: =IF(Setup!F19<>"",Setup!F19,-A26) -> -140 | L26: =IF(COUNTIF(J25:J29,4)<>4,RANK(J26,J25:J29),J105) -> 1 | N26: =SUMPRODUCT((L25:L28=L26)*(K25:K28<K26))+L26 -> 1 | O26: =INDEX(C25:C29,MATCH(2,N25:N29,0),0) -> Australia | P26: =INDEX(L25:L29,MATCH(O26,C25:C29,0),0) -> 1 | Q26: =IF(Q25<>"",O26,"") -> Australia | R26: =IF(R25<>"",O27,"") | S26: =IF(S25<>"",O28,"") | T26: =IF(T25<>"",O29,"") | V26: =IF(Q26<>"",Q26,"") -> Australia | W26: =SUMPRODUCT((DA3:DA105=V26)*(DD3:DD105=V27)*(DE3:DE105="W"))+SUMPRODUCT((DA3:DA105=V26)*(DD3:DD105=V28)*(DE3:DE105="W"))+SUMPRODUCT((DA3:DA105=V26)*(DD3:DD105=V29)*(DE3:DE105="W"))+SUMPRODUCT((DA3:DA105=V26)*(DD3:DD105=V25)*(DE3:DE105="W"))+SUMPRODUCT((DA3:DA105=V27)*(DD3:DD105=V26)*(DF3:DF105="W"))+SUMPRODUCT((DA3:DA105=V28)*(DD3:DD105=V26)*(DF3:DF105="W"))+SUMPRODUCT((DA3:DA105=V29)*(DD3:DD105=V26)*(DF3:DF105="W"))+SUMPRODUCT((DA3:DA105=V25)*(DD3:DD105=V26)*(DF3:DF105="W")) -> 0 | X26: =SUMPRODUCT((DA3:DA105=V26)*(DD3:DD105=V27)*(DE3:DE105="D"))+SUMPRODUCT((DA3:DA105=V26)*(DD3:DD105=V28)*(DE3:DE105="D"))+SUMPRODUCT((DA3:DA105=V26)*(DD3:DD105=V29)*(DE3:DE105="D"))+SUMPRODUCT((DA3:DA105=V26)*(DD3:DD105=V25)*(DE3:DE105="D"))+SUMPRODUCT((DA3:DA105=V27)*(DD3:DD105=V26)*(DE3:DE105="D"))+SUMPRODUCT((DA3:DA105=V28)*(DD3:DD105=V26)*(DE3:DE105="D"))+SUMPRODUCT((DA3:DA105=V29)*(DD3:DD105=V26)*(DE3:DE105="D"))+SUMPRODUCT((DA3:DA105=V25)*(DD3:DD105=V26)*(DE3:DE105="D")) -> 0 | Y26: =SUMPRODUCT((DA3:DA105=V26)*(DD3:DD105=V27)*(DE3:DE105="L"))+SUMPRODUCT((DA3:DA105=V26)*(DD3:DD105=V28)*(DE3:DE105="L"))+SUMPRODUCT((DA3:DA105=V26)*(DD3:DD105=V29)*(DE3:DE105="L"))+SUMPRODUCT((DA3:DA105=V26)*(DD3:DD105=V25)*(DE3:DE105="L"))+SUMPRODUCT((DA3:DA105=V27)*(DD3:DD105=V26)*(DF3:DF105="L"))+SUMPRODUCT((DA3:DA105=V28)*(DD3:DD105=V26)*(DF3:DF105="L"))+SUMPRODUCT((DA3:DA105=V29)*(DD3:DD105=V26)*(DF3:DF105="L"))+SUMPRODUCT((DA3:DA105=V25)*(DD3:DD105=V26)*(DF3:DF105="L")) -> 0 | Z26: =SUMPRODUCT((DA3:DA105=V26)*(DD3:DD105=V27)*DB3:DB105)+SUMPRODUCT((DA3:DA105=V26)*(DD3:DD105=V28)*DB3:DB105)+SUMPRODUCT((DA3:DA105=V26)*(DD3:DD105=V29)*DB3:DB105)+SUMPRODUCT((DA3:DA105=V26)*(DD3:DD105=V25)*DB3:DB105)+SUMPRODUCT((DA3:DA105=V27)*(DD3:DD105=V26)*DC3:DC105)+SUMPRODUCT((DA3:DA105=V28)*(DD3:DD105=V26)*DC3:DC105)+SUMPRODUCT((DA3:DA105=V29)*(DD3:DD105=V26)*DC3:DC105)+SUMPRODUCT((DA3:DA105=V25)*(DD3:DD105=V26)*DC3:DC105) -> 0 | AA26: =SUMPRODUCT((DA3:DA105=V26)*(DD3:DD105=V27)*DC3:DC105)+SUMPRODUCT((DA3:DA105=V26)*(DD3:DD105=V28)*DC3:DC105)+SUMPRODUCT((DA3:DA105=V26)*(DD3:DD105=V29)*DC3:DC105)+SUMPRODUCT((DA3:DA105=V26)*(DD3:DD105=V25)*DC3:DC105)+SUMPRODUCT((DA3:DA105=V27)*(DD3:DD105=V26)*DB3:DB105)+SUMPRODUCT((DA3:DA105=V28)*(DD3:DD105=V26)*DB3:DB105)+SUMPRODUCT((DA3:DA105=V29)*(DD3:DD105=V26)*DB3:DB105)+SUMPRODUCT((DA3:DA105=V25)*(DD3:DD105=V26)*DB3:DB105) -> 0 | AB26: =Z26-AA26+1000 -> 1000 | AC26: =IF(V26<>"",W26*3+X26*1,"") -> 0 | AD26: =IF(V26<>"",VLOOKUP(V26,C4:I52,7,FALSE),"") -> 1000 | AE26: =IF(V26<>"",VLOOKUP(V26,C4:I52,5,FALSE),"") -> 0 | AF26: =IF(V26<>"",VLOOKUP(V26,C4:K52,9,FALSE),"") -> -127 | AG26: =AC26 -> 0 | AH26: =IF(V26<>"",RANK(AG26,AG25:AG29),"") -> 1 | AI26: =IF(V26<>"",SUMPRODUCT((AG25:AG29=AG26)*(AB25:AB29>AB26)),"") -> 0 | AJ26: =IF(V26<>"",SUMPRODUCT((AG25:AG29=AG26)*(AB25:AB29=AB26)*(Z25:Z29>Z26)),"") -> 0 | AK26: =IF(V26<>"",SUMPRODUCT((AG25:AG29=AG26)*(AB25:AB29=AB26)*(Z25:Z29=Z26)*(AD25:AD29>AD26)),"") -> 0 | AL26: =IF(V26<>"",SUMPRODUCT((AG25:AG29=AG26)*(AB25:AB29=AB26)*(Z25:Z29=Z26)*(AD25:AD29=AD26)*(AE25:AE29>AE26)),"") -> 0 | AM26: =IF(V26<>"",SUMPRODUCT((AG25:AG29=AG26)*(AB25:AB29=AB26)*(Z25:Z29=Z26)*(AD25:AD29=AD26)*(AE25:AE29=AE26)*(AF25:AF29>AF26)),"") -> 2 | AN26: =IF(V26<>"",IF(SUM(X25:X28)=12,SUM(AH26:AM26),IF(AN105<>"",IF(U103=3,AN105,AN105+U103),SUM(AH26:AM26))),"") -> 3 | AO26: =IF(V26<>"",INDEX(V25:V29,MATCH(2,AN25:AN29,0),0),"") -> Türkiye | AP26: =IF(R25<>"",R25,"") | AQ26: =SUMPRODUCT((DA3:DA105=AP26)*(DD3:DD105=AP27)*(DE3:DE105="W"))+SUMPRODUCT((DA3:DA105=AP26)*(DD3:DD105=AP28)*(DE3:DE105="W"))+SUMPRODUCT((DA3:DA105=AP26)*(DD3:DD105=AP29)*(DE3:DE105="W"))+SUMPRODUCT((DA3:DA105=AP27)*(DD3:DD105=AP26)*(DF3:DF105="W"))+SUMPRODUCT((DA3:DA105=AP28)*(DD3:DD105=AP26)*(DF3:DF105="W"))+SUMPRODUCT((DA3:DA105=AP29)*(DD3:DD105=AP26)*(DF3:DF105="W")) -> 0 | AR26: =SUMPRODUCT((DA3:DA105=AP26)*(DD3:DD105=AP27)*(DE3:DE105="D"))+SUMPRODUCT((DA3:DA105=AP26)*(DD3:DD105=AP28)*(DE3:DE105="D"))+SUMPRODUCT((DA3:DA105=AP26)*(DD3:DD105=AP29)*(DE3:DE105="D"))+SUMPRODUCT((DA3:DA105=AP27)*(DD3:DD105=AP26)*(DE3:DE105="D"))+SUMPRODUCT((DA3:DA105=AP28)*(DD3:DD105=AP26)*(DE3:DE105="D"))+SUMPRODUCT((DA3:DA105=AP29)*(DD3:DD105=AP26)*(DE3:DE105="D")) -> 0 | AS26: =SUMPRODUCT((DA3:DA105=AP26)*(DD3:DD105=AP27)*(DE3:DE105="L"))+SUMPRODUCT((DA3:DA105=AP26)*(DD3:DD105=AP28)*(DE3:DE105="L"))+SUMPRODUCT((DA3:DA105=AP26)*(DD3:DD105=AP29)*(DE3:DE105="L"))+SUMPRODUCT((DA3:DA105=AP27)*(DD3:DD105=AP26)*(DF3:DF105="L"))+SUMPRODUCT((DA3:DA105=AP28)*(DD3:DD105=AP26)*(DF3:DF105="L"))+SUMPRODUCT((DA3:DA105=AP29)*(DD3:DD105=AP26)*(DF3:DF105="L")) -> 0 | AT26: =SUMPRODUCT((DA3:DA105=AP26)*(DD3:DD105=AP27)*DB3:DB105)+SUMPRODUCT((DA3:DA105=AP26)*(DD3:DD105=AP28)*DB3:DB105)+SUMPRODUCT((DA3:DA105=AP26)*(DD3:DD105=AP29)*DB3:DB105)+SUMPRODUCT((DA3:DA105=AP26)*(DD3:DD105=AP25)*DB3:DB105)+SUMPRODUCT((DA3:DA105=AP27)*(DD3:DD105=AP26)*DC3:DC105)+SUMPRODUCT((DA3:DA105=AP28)*(DD3:DD105=AP26)*DC3:DC105)+SUMPRODUCT((DA3:DA105=AP29)*(DD3:DD105=AP26)*DC3:DC105)+SUMPRODUCT((DA3:DA105=AP25)*(DD3:DD105=AP26)*DC3:DC105) -> 0 | AU26: =SUMPRODUCT((DA3:DA105=AP26)*(DD3:DD105=AP27)*DC3:DC105)+SUMPRODUCT((DA3:DA105=AP26)*(DD3:DD105=AP28)*DC3:DC105)+SUMPRODUCT((DA3:DA105=AP26)*(DD3:DD105=AP29)*DC3:DC105)+SUMPRODUCT((DA3:DA105=AP26)*(DD3:DD105=AP25)*DC3:DC105)+SUMPRODUCT((DA3:DA105=AP27)*(DD3:DD105=AP26)*DB3:DB105)+SUMPRODUCT((DA3:DA105=AP28)*(DD3:DD105=AP26)*DB3:DB105)+SUMPRODUCT((DA3:DA105=AP29)*(DD3:DD105=AP26)*DB3:DB105)+SUMPRODUCT((DA3:DA105=AP25)*(DD3:DD105=AP26)*DB3:DB105) -> 0 | AV26: =AT26-AU26+1000 -> 1000 | AW26: =IF(AP26<>"",AQ26*3+AR26*1,"") | AX26: =IF(AP26<>"",VLOOKUP(AP26,C4:I52,7,FALSE),"") | AY26: =IF(AP26<>"",VLOOKUP(AP26,C4:I52,5,FALSE),"") | AZ26: =IF(AP26<>"",VLOOKUP(AP26,C4:K52,9,FALSE),"") | BA26: =AW26 | BB26: =IF(AP26<>"",RANK(BA26,BA25:BA29),"") | BC26: =IF(AP26<>"",SUMPRODUCT((BA25:BA29=BA26)*(AV25:AV29>AV26)),"") | BD26: =IF(AP26<>"",SUMPRODUCT((BA25:BA29=BA26)*(AV25:AV29=AV26)*(AT25:AT29>AT26)),"") | BE26: =IF(AP26<>"",SUMPRODUCT((BA25:BA29=BA26)*(AV25:AV29=AV26)*(AT25:AT29=AT26)*(AX25:AX29>AX26)),"") | BF26: =IF(AP26<>"",SUMPRODUCT((BA25:BA29=BA26)*(AV25:AV29=AV26)*(AT25:AT29=AT26)*(AX25:AX29=AX26)*(AY25:AY29>AY26)),"") | BG26: =IF(AP26<>"",SUMPRODUCT((BA25:BA29=BA26)*(AV25:AV29=AV26)*(AT25:AT29=AT26)*(AX25:AX29=AX26)*(AY25:AY29=AY26)*(AZ25:AZ29>AZ26)),"") | BH26: =IF(AP26<>"",IF(BH105<>"",IF(AO103=3,BH105,BH105+AO103),SUM(BB26:BG26)+1),"") | BI26: =IF(AP26<>"",INDEX(AP26:AP29,MATCH(2,BH26:BH29,0),0),"") | CX26: =IF(BI26<>"",BI26,IF(AO26<>"",AO26,O26)) -> Türkiye | CY26: 2 | CZ26: 24 | DA26: =Matches!F31 -> Uzbekistan | DB26: =IF(DA2<>"",IF(AND(Matches!H31<>"",Matches!I31<>""),Matches!H31,0),"") -> 0 | DC26: =IF(DA2<>"",IF(AND(Matches!H31<>"",Matches!I31<>""),Matches!I31,0),"") -> 0 | DD26: =Matches!K31 -> Colombia | DE26: =IF(AND(Matches!H31<>"",Matches!I31<>""),IF(DB26>DC26,"W",IF(DB26=DC26,"D","L")),"") | DF26: =IF(DE26<>"",IF(DE26="W","L",IF(DE26="L","W","D")),"")
A27: =Setup!E20+100 -> 127 | B27: =VLOOKUP(C27,CX25:CY29,2,FALSE) -> 3 | C27: =Setup!D20 -> Australia | D27: =SUMPRODUCT((DA3:DA105=C27)*(DE3:DE105="W"))+SUMPRODUCT((DD3:DD105=C27)*(DF3:DF105="W")) -> 0 | E27: =SUMPRODUCT((DA3:DA105=C27)*(DE3:DE105="D"))+SUMPRODUCT((DD3:DD105=C27)*(DF3:DF105="D")) -> 0 | F27: =SUMPRODUCT((DA3:DA105=C27)*(DE3:DE105="L"))+SUMPRODUCT((DD3:DD105=C27)*(DF3:DF105="L")) -> 0 | G27: =SUMIF(DA3:DA123,C27,DB3:DB123)+SUMIF(DD3:DD123,C27,DC3:DC123) -> 0 | H27: =SUMIF(DD3:DD123,C27,DB3:DB123)+SUMIF(DA3:DA123,C27,DC3:DC123) -> 0 | I27: =G27-H27+1000 -> 1000 | J27: =D27*3+E27*1 -> 0 | K27: =IF(Setup!F20<>"",Setup!F20,-A27) -> -127 | L27: =IF(COUNTIF(J25:J29,4)<>4,RANK(J27,J25:J29),J106) -> 1 | N27: =SUMPRODUCT((L25:L28=L27)*(K25:K28<K27))+L27 -> 2 | O27: =INDEX(C25:C29,MATCH(3,N25:N29,0),0) -> Türkiye | P27: =INDEX(L25:L29,MATCH(O27,C25:C29,0),0) -> 1 | Q27: =IF(AND(Q26<>"",P27=1),O27,"") -> Türkiye | R27: =IF(AND(R26<>"",P28=2),O28,"") | S27: =IF(AND(S26<>"",P29=3),O29,"") | V27: =IF(Q27<>"",Q27,"") -> Türkiye | W27: =SUMPRODUCT((DA3:DA105=V27)*(DD3:DD105=V28)*(DE3:DE105="W"))+SUMPRODUCT((DA3:DA105=V27)*(DD3:DD105=V29)*(DE3:DE105="W"))+SUMPRODUCT((DA3:DA105=V27)*(DD3:DD105=V25)*(DE3:DE105="W"))+SUMPRODUCT((DA3:DA105=V27)*(DD3:DD105=V26)*(DE3:DE105="W"))+SUMPRODUCT((DA3:DA105=V28)*(DD3:DD105=V27)*(DF3:DF105="W"))+SUMPRODUCT((DA3:DA105=V29)*(DD3:DD105=V27)*(DF3:DF105="W"))+SUMPRODUCT((DA3:DA105=V25)*(DD3:DD105=V27)*(DF3:DF105="W"))+SUMPRODUCT((DA3:DA105=V26)*(DD3:DD105=V27)*(DF3:DF105="W")) -> 0 | X27: =SUMPRODUCT((DA3:DA105=V27)*(DD3:DD105=V28)*(DE3:DE105="D"))+SUMPRODUCT((DA3:DA105=V27)*(DD3:DD105=V29)*(DE3:DE105="D"))+SUMPRODUCT((DA3:DA105=V27)*(DD3:DD105=V25)*(DE3:DE105="D"))+SUMPRODUCT((DA3:DA105=V27)*(DD3:DD105=V26)*(DE3:DE105="D"))+SUMPRODUCT((DA3:DA105=V28)*(DD3:DD105=V27)*(DE3:DE105="D"))+SUMPRODUCT((DA3:DA105=V29)*(DD3:DD105=V27)*(DE3:DE105="D"))+SUMPRODUCT((DA3:DA105=V25)*(DD3:DD105=V27)*(DE3:DE105="D"))+SUMPRODUCT((DA3:DA105=V26)*(DD3:DD105=V27)*(DE3:DE105="D")) -> 0 | Y27: =SUMPRODUCT((DA3:DA105=V27)*(DD3:DD105=V28)*(DE3:DE105="L"))+SUMPRODUCT((DA3:DA105=V27)*(DD3:DD105=V29)*(DE3:DE105="L"))+SUMPRODUCT((DA3:DA105=V27)*(DD3:DD105=V25)*(DE3:DE105="L"))+SUMPRODUCT((DA3:DA105=V27)*(DD3:DD105=V26)*(DE3:DE105="L"))+SUMPRODUCT((DA3:DA105=V28)*(DD3:DD105=V27)*(DF3:DF105="L"))+SUMPRODUCT((DA3:DA105=V29)*(DD3:DD105=V27)*(DF3:DF105="L"))+SUMPRODUCT((DA3:DA105=V25)*(DD3:DD105=V27)*(DF3:DF105="L"))+SUMPRODUCT((DA3:DA105=V26)*(DD3:DD105=V27)*(DF3:DF105="L")) -> 0 | Z27: =SUMPRODUCT((DA3:DA105=V27)*(DD3:DD105=V28)*DB3:DB105)+SUMPRODUCT((DA3:DA105=V27)*(DD3:DD105=V29)*DB3:DB105)+SUMPRODUCT((DA3:DA105=V27)*(DD3:DD105=V25)*DB3:DB105)+SUMPRODUCT((DA3:DA105=V27)*(DD3:DD105=V26)*DB3:DB105)+SUMPRODUCT((DA3:DA105=V28)*(DD3:DD105=V27)*DC3:DC105)+SUMPRODUCT((DA3:DA105=V29)*(DD3:DD105=V27)*DC3:DC105)+SUMPRODUCT((DA3:DA105=V25)*(DD3:DD105=V27)*DC3:DC105)+SUMPRODUCT((DA3:DA105=V26)*(DD3:DD105=V27)*DC3:DC105) -> 0 | AA27: =SUMPRODUCT((DA3:DA105=V27)*(DD3:DD105=V28)*DC3:DC105)+SUMPRODUCT((DA3:DA105=V27)*(DD3:DD105=V29)*DC3:DC105)+SUMPRODUCT((DA3:DA105=V27)*(DD3:DD105=V25)*DC3:DC105)+SUMPRODUCT((DA3:DA105=V27)*(DD3:DD105=V26)*DC3:DC105)+SUMPRODUCT((DA3:DA105=V28)*(DD3:DD105=V27)*DB3:DB105)+SUMPRODUCT((DA3:DA105=V29)*(DD3:DD105=V27)*DB3:DB105)+SUMPRODUCT((DA3:DA105=V25)*(DD3:DD105=V27)*DB3:DB105)+SUMPRODUCT((DA3:DA105=V26)*(DD3:DD105=V27)*DB3:DB105) -> 0 | AB27: =Z27-AA27+1000 -> 1000 | AC27: =IF(V27<>"",W27*3+X27*1,"") -> 0 | AD27: =IF(V27<>"",VLOOKUP(V27,C4:I52,7,FALSE),"") -> 1000 | AE27: =IF(V27<>"",VLOOKUP(V27,C4:I52,5,FALSE),"") -> 0 | AF27: =IF(V27<>"",VLOOKUP(V27,C4:K52,9,FALSE),"") -> -125 | AG27: =AC27 -> 0 | AH27: =IF(V27<>"",RANK(AG27,AG25:AG29),"") -> 1 | AI27: =IF(V27<>"",SUMPRODUCT((AG25:AG29=AG27)*(AB25:AB29>AB27)),"") -> 0 | AJ27: =IF(V27<>"",SUMPRODUCT((AG25:AG29=AG27)*(AB25:AB29=AB27)*(Z25:Z29>Z27)),"") -> 0 | AK27: =IF(V27<>"",SUMPRODUCT((AG25:AG29=AG27)*(AB25:AB29=AB27)*(Z25:Z29=Z27)*(AD25:AD29>AD27)),"") -> 0 | AL27: =IF(V27<>"",SUMPRODUCT((AG25:AG29=AG27)*(AB25:AB29=AB27)*(Z25:Z29=Z27)*(AD25:AD29=AD27)*(AE25:AE29>AE27)),"") -> 0 | AM27: =IF(V27<>"",SUMPRODUCT((AG25:AG29=AG27)*(AB25:AB29=AB27)*(Z25:Z29=Z27)*(AD25:AD29=AD27)*(AE25:AE29=AE27)*(AF25:AF29>AF27)),"") -> 1 | AN27: =IF(V27<>"",IF(SUM(X25:X28)=12,SUM(AH27:AM27),IF(AN106<>"",IF(U103=3,AN106,AN106+U103),SUM(AH27:AM27))),"") -> 2 | AO27: =IF(V27<>"",INDEX(V25:V29,MATCH(3,AN25:AN29,0),0),"") -> Australia | AP27: =IF(R26<>"",R26,"") | AQ27: =SUMPRODUCT((DA3:DA105=AP27)*(DD3:DD105=AP28)*(DE3:DE105="W"))+SUMPRODUCT((DA3:DA105=AP27)*(DD3:DD105=AP29)*(DE3:DE105="W"))+SUMPRODUCT((DA3:DA105=AP27)*(DD3:DD105=AP26)*(DE3:DE105="W"))+SUMPRODUCT((DA3:DA105=AP28)*(DD3:DD105=AP27)*(DF3:DF105="W"))+SUMPRODUCT((DA3:DA105=AP29)*(DD3:DD105=AP27)*(DF3:DF105="W"))+SUMPRODUCT((DA3:DA105=AP26)*(DD3:DD105=AP27)*(DF3:DF105="W")) -> 0 | AR27: =SUMPRODUCT((DA3:DA105=AP27)*(DD3:DD105=AP28)*(DE3:DE105="D"))+SUMPRODUCT((DA3:DA105=AP27)*(DD3:DD105=AP29)*(DE3:DE105="D"))+SUMPRODUCT((DA3:DA105=AP27)*(DD3:DD105=AP26)*(DE3:DE105="D"))+SUMPRODUCT((DA3:DA105=AP28)*(DD3:DD105=AP27)*(DE3:DE105="D"))+SUMPRODUCT((DA3:DA105=AP29)*(DD3:DD105=AP27)*(DE3:DE105="D"))+SUMPRODUCT((DA3:DA105=AP26)*(DD3:DD105=AP27)*(DE3:DE105="D")) -> 0 | AS27: =SUMPRODUCT((DA3:DA105=AP27)*(DD3:DD105=AP28)*(DE3:DE105="L"))+SUMPRODUCT((DA3:DA105=AP27)*(DD3:DD105=AP29)*(DE3:DE105="L"))+SUMPRODUCT((DA3:DA105=AP27)*(DD3:DD105=AP26)*(DE3:DE105="L"))+SUMPRODUCT((DA3:DA105=AP28)*(DD3:DD105=AP27)*(DF3:DF105="L"))+SUMPRODUCT((DA3:DA105=AP29)*(DD3:DD105=AP27)*(DF3:DF105="L"))+SUMPRODUCT((DA3:DA105=AP26)*(DD3:DD105=AP27)*(DF3:DF105="L")) -> 0 | AT27: =SUMPRODUCT((DA3:DA105=AP27)*(DD3:DD105=AP28)*DB3:DB105)+SUMPRODUCT((DA3:DA105=AP27)*(DD3:DD105=AP29)*DB3:DB105)+SUMPRODUCT((DA3:DA105=AP27)*(DD3:DD105=AP25)*DB3:DB105)+SUMPRODUCT((DA3:DA105=AP27)*(DD3:DD105=AP26)*DB3:DB105)+SUMPRODUCT((DA3:DA105=AP28)*(DD3:DD105=AP27)*DC3:DC105)+SUMPRODUCT((DA3:DA105=AP29)*(DD3:DD105=AP27)*DC3:DC105)+SUMPRODUCT((DA3:DA105=AP25)*(DD3:DD105=AP27)*DC3:DC105)+SUMPRODUCT((DA3:DA105=AP26)*(DD3:DD105=AP27)*DC3:DC105) -> 0 | AU27: =SUMPRODUCT((DA3:DA105=AP27)*(DD3:DD105=AP28)*DC3:DC105)+SUMPRODUCT((DA3:DA105=AP27)*(DD3:DD105=AP29)*DC3:DC105)+SUMPRODUCT((DA3:DA105=AP27)*(DD3:DD105=AP25)*DC3:DC105)+SUMPRODUCT((DA3:DA105=AP27)*(DD3:DD105=AP26)*DC3:DC105)+SUMPRODUCT((DA3:DA105=AP28)*(DD3:DD105=AP27)*DB3:DB105)+SUMPRODUCT((DA3:DA105=AP29)*(DD3:DD105=AP27)*DB3:DB105)+SUMPRODUCT((DA3:DA105=AP25)*(DD3:DD105=AP27)*DB3:DB105)+SUMPRODUCT((DA3:DA105=AP26)*(DD3:DD105=AP27)*DB3:DB105) -> 0 | AV27: =AT27-AU27+1000 -> 1000 | AW27: =IF(AP27<>"",AQ27*3+AR27*1,"") | AX27: =IF(AP27<>"",VLOOKUP(AP27,C4:I52,7,FALSE),"") | AY27: =IF(AP27<>"",VLOOKUP(AP27,C4:I52,5,FALSE),"") | AZ27: =IF(AP27<>"",VLOOKUP(AP27,C4:K52,9,FALSE),"") | BA27: =AW27 | BB27: =IF(AP27<>"",RANK(BA27,BA25:BA29),"") | BC27: =IF(AP27<>"",SUMPRODUCT((BA25:BA29=BA27)*(AV25:AV29>AV27)),"") | BD27: =IF(AP27<>"",SUMPRODUCT((BA25:BA29=BA27)*(AV25:AV29=AV27)*(AT25:AT29>AT27)),"") | BE27: =IF(AP27<>"",SUMPRODUCT((BA25:BA29=BA27)*(AV25:AV29=AV27)*(AT25:AT29=AT27)*(AX25:AX29>AX27)),"") | BF27: =IF(AP27<>"",SUMPRODUCT((BA25:BA29=BA27)*(AV25:AV29=AV27)*(AT25:AT29=AT27)*(AX25:AX29=AX27)*(AY25:AY29>AY27)),"") | BG27: =IF(AP27<>"",SUMPRODUCT((BA25:BA29=BA27)*(AV25:AV29=AV27)*(AT25:AT29=AT27)*(AX25:AX29=AX27)*(AY25:AY29=AY27)*(AZ25:AZ29>AZ27)),"") | BH27: =IF(AP27<>"",IF(BH106<>"",IF(AO103=3,BH106,BH106+AO103),SUM(BB27:BG27)+1),"") | BI27: =IF(AP27<>"",INDEX(AP26:AP29,MATCH(3,BH26:BH29,0),0),"") | BJ27: =IF(S25<>"",S25,"") | BK27: =SUMPRODUCT((DA3:DA105=BJ27)*(DD3:DD105=BJ28)*(DE3:DE105="W"))+SUMPRODUCT((DA3:DA105=BJ27)*(DD3:DD105=BJ29)*(DE3:DE105="W"))+SUMPRODUCT((DA3:DA105=BJ27)*(DD3:DD105=BJ30)*(DE3:DE105="W"))+SUMPRODUCT((DA3:DA105=BJ28)*(DD3:DD105=BJ27)*(DF3:DF105="W"))+SUMPRODUCT((DA3:DA105=BJ29)*(DD3:DD105=BJ27)*(DF3:DF105="W"))+SUMPRODUCT((DA3:DA105=BJ30)*(DD3:DD105=BJ27)*(DF3:DF105="W")) -> 0 | BL27: =SUMPRODUCT((DA3:DA105=BJ27)*(DD3:DD105=BJ28)*(DE3:DE105="D"))+SUMPRODUCT((DA3:DA105=BJ27)*(DD3:DD105=BJ29)*(DE3:DE105="D"))+SUMPRODUCT((DA3:DA105=BJ27)*(DD3:DD105=BJ30)*(DE3:DE105="D"))+SUMPRODUCT((DA3:DA105=BJ28)*(DD3:DD105=BJ27)*(DE3:DE105="D"))+SUMPRODUCT((DA3:DA105=BJ29)*(DD3:DD105=BJ27)*(DE3:DE105="D"))+SUMPRODUCT((DA3:DA105=BJ30)*(DD3:DD105=BJ27)*(DE3:DE105="D")) -> 0 | BM27: =SUMPRODUCT((DA3:DA105=BJ27)*(DD3:DD105=BJ28)*(DE3:DE105="L"))+SUMPRODUCT((DA3:DA105=BJ27)*(DD3:DD105=BJ29)*(DE3:DE105="L"))+SUMPRODUCT((DA3:DA105=BJ27)*(DD3:DD105=BJ30)*(DE3:DE105="L"))+SUMPRODUCT((DA3:DA105=BJ28)*(DD3:DD105=BJ27)*(DF3:DF105="L"))+SUMPRODUCT((DA3:DA105=BJ29)*(DD3:DD105=BJ27)*(DF3:DF105="L"))+SUMPRODUCT((DA3:DA105=BJ30)*(DD3:DD105=BJ27)*(DF3:DF105="L")) -> 0 | BN27: =SUMPRODUCT((DA3:DA105=BJ27)*(DD3:DD105=BJ28)*DB3:DB105)+SUMPRODUCT((DA3:DA105=BJ27)*(DD3:DD105=BJ29)*DB3:DB105)+SUMPRODUCT((DA3:DA105=BJ27)*(DD3:DD105=BJ25)*DB3:DB105)+SUMPRODUCT((DA3:DA105=BJ27)*(DD3:DD105=BJ26)*DB3:DB105)+SUMPRODUCT((DA3:DA105=BJ28)*(DD3:DD105=BJ27)*DC3:DC105)+SUMPRODUCT((DA3:DA105=BJ29)*(DD3:DD105=BJ27)*DC3:DC105)+SUMPRODUCT((DA3:DA105=BJ25)*(DD3:DD105=BJ27)*DC3:DC105)+SUMPRODUCT((DA3:DA105=BJ26)*(DD3:DD105=BJ27)*DC3:DC105) -> 0 | BO27: =SUMPRODUCT((DA3:DA105=BJ27)*(DD3:DD105=BJ28)*DC3:DC105)+SUMPRODUCT((DA3:DA105=BJ27)*(DD3:DD105=BJ29)*DC3:DC105)+SUMPRODUCT((DA3:DA105=BJ27)*(DD3:DD105=BJ25)*DC3:DC105)+SUMPRODUCT((DA3:DA105=BJ27)*(DD3:DD105=BJ26)*DC3:DC105)+SUMPRODUCT((DA3:DA105=BJ28)*(DD3:DD105=BJ27)*DB3:DB105)+SUMPRODUCT((DA3:DA105=BJ29)*(DD3:DD105=BJ27)*DB3:DB105)+SUMPRODUCT((DA3:DA105=BJ25)*(DD3:DD105=BJ27)*DB3:DB105)+SUMPRODUCT((DA3:DA105=BJ26)*(DD3:DD105=BJ27)*DB3:DB105) -> 0 | BP27: =BN27-BO27+1000 -> 1000 | BQ27: =IF(BJ27<>"",BK27*3+BL27*1,"") | BR27: =IF(BJ27<>"",VLOOKUP(BJ27,C4:I52,7,FALSE),"") | BS27: =IF(BJ27<>"",VLOOKUP(BJ27,C4:I52,5,FALSE),"") | BT27: =IF(BJ27<>"",VLOOKUP(BJ27,C4:K52,9,FALSE),"") | BU27: =BQ27 | BV27: =IF(BJ27<>"",RANK(BU27,BU25:BU29),"") | BW27: =IF(BJ27<>"",SUMPRODUCT((BU25:BU29=BU27)*(BP25:BP29>BP27)),"") | BX27: =IF(BJ27<>"",SUMPRODUCT((BU25:BU29=BU27)*(BP25:BP29=BP27)*(BN25:BN29>BN27)),"") | BY27: =IF(BJ27<>"",SUMPRODUCT((BU25:BU29=BU27)*(BP25:BP29=BP27)*(BN25:BN29=BN27)*(BR25:BR29>BR27)),"") | BZ27: =IF(BJ27<>"",SUMPRODUCT((BU25:BU29=BU27)*(BP25:BP29=BP27)*(BN25:BN29=BN27)*(BR25:BR29=BR27)*(BS25:BS29>BS27)),"") | CA27: =IF(BJ27<>"",SUMPRODUCT((BU25:BU29=BU27)*(BP25:BP29=BP27)*(BN25:BN29=BN27)*(BR25:BR29=BR27)*(BS25:BS29=BS27)*(BT25:BT29>BT27)),"") | CB27: =IF(BJ27<>"",SUM(BV27:CA27)+2,"") | CC27: =IF(BJ27<>"",INDEX(BJ27:BJ29,MATCH(3,CB27:CB29,0),0),"") | CX27: =IF(CC27<>"",CC27,IF(BI27<>"",BI27,IF(AO27<>"",AO27,O27))) -> Australia | CY27: 3 | CZ27: 25 | DA27: =Matches!F32 -> Czechia | DB27: =IF(DA2<>"",IF(AND(Matches!H32<>"",Matches!I32<>""),Matches!H32,0),"") -> 0 | DC27: =IF(DA2<>"",IF(AND(Matches!H32<>"",Matches!I32<>""),Matches!I32,0),"") -> 0 | DD27: =Matches!K32 -> South Africa | DE27: =IF(AND(Matches!H32<>"",Matches!I32<>""),IF(DB27>DC27,"W",IF(DB27=DC27,"D","L")),"") | DF27: =IF(DE27<>"",IF(DE27="W","L",IF(DE27="L","W","D")),"")
A28: =Setup!E21+100 -> 125 | B28: =VLOOKUP(C28,CX25:CY29,2,FALSE) -> 2 | C28: =Setup!D21 -> Türkiye | D28: =SUMPRODUCT((DA3:DA105=C28)*(DE3:DE105="W"))+SUMPRODUCT((DD3:DD105=C28)*(DF3:DF105="W")) -> 0 | E28: =SUMPRODUCT((DA3:DA105=C28)*(DE3:DE105="D"))+SUMPRODUCT((DD3:DD105=C28)*(DF3:DF105="D")) -> 0 | F28: =SUMPRODUCT((DA3:DA105=C28)*(DE3:DE105="L"))+SUMPRODUCT((DD3:DD105=C28)*(DF3:DF105="L")) -> 0 | G28: =SUMIF(DA3:DA123,C28,DB3:DB123)+SUMIF(DD3:DD123,C28,DC3:DC123) -> 0 | H28: =SUMIF(DD3:DD123,C28,DB3:DB123)+SUMIF(DA3:DA123,C28,DC3:DC123) -> 0 | I28: =G28-H28+1000 -> 1000 | J28: =D28*3+E28*1 -> 0 | K28: =IF(Setup!F21<>"",Setup!F21,-A28) -> -125 | L28: =IF(COUNTIF(J25:J29,4)<>4,RANK(J28,J25:J29),J107) -> 1 | N28: =SUMPRODUCT((L25:L28=L28)*(K25:K28<K28))+L28 -> 3 | O28: =INDEX(C25:C29,MATCH(4,N25:N29,0),0) -> USA | P28: =INDEX(L25:L29,MATCH(O28,C25:C29,0),0) -> 1 | Q28: =IF(AND(Q27<>"",P28=1),O28,"") -> USA | R28: =IF(AND(R27<>"",P29=2),O29,"") | V28: =IF(Q28<>"",Q28,"") -> USA | W28: =SUMPRODUCT((DA3:DA105=V28)*(DD3:DD105=V29)*(DE3:DE105="W"))+SUMPRODUCT((DA3:DA105=V28)*(DD3:DD105=V25)*(DE3:DE105="W"))+SUMPRODUCT((DA3:DA105=V28)*(DD3:DD105=V26)*(DE3:DE105="W"))+SUMPRODUCT((DA3:DA105=V28)*(DD3:DD105=V27)*(DE3:DE105="W"))+SUMPRODUCT((DA3:DA105=V29)*(DD3:DD105=V28)*(DF3:DF105="W"))+SUMPRODUCT((DA3:DA105=V25)*(DD3:DD105=V28)*(DF3:DF105="W"))+SUMPRODUCT((DA3:DA105=V26)*(DD3:DD105=V28)*(DF3:DF105="W"))+SUMPRODUCT((DA3:DA105=V27)*(DD3:DD105=V28)*(DF3:DF105="W")) -> 0 | X28: =SUMPRODUCT((DA3:DA105=V28)*(DD3:DD105=V29)*(DE3:DE105="D"))+SUMPRODUCT((DA3:DA105=V28)*(DD3:DD105=V25)*(DE3:DE105="D"))+SUMPRODUCT((DA3:DA105=V28)*(DD3:DD105=V26)*(DE3:DE105="D"))+SUMPRODUCT((DA3:DA105=V28)*(DD3:DD105=V27)*(DE3:DE105="D"))+SUMPRODUCT((DA3:DA105=V29)*(DD3:DD105=V28)*(DE3:DE105="D"))+SUMPRODUCT((DA3:DA105=V25)*(DD3:DD105=V28)*(DE3:DE105="D"))+SUMPRODUCT((DA3:DA105=V26)*(DD3:DD105=V28)*(DE3:DE105="D"))+SUMPRODUCT((DA3:DA105=V27)*(DD3:DD105=V28)*(DE3:DE105="D")) -> 0 | Y28: =SUMPRODUCT((DA3:DA105=V28)*(DD3:DD105=V29)*(DE3:DE105="L"))+SUMPRODUCT((DA3:DA105=V28)*(DD3:DD105=V25)*(DE3:DE105="L"))+SUMPRODUCT((DA3:DA105=V28)*(DD3:DD105=V26)*(DE3:DE105="L"))+SUMPRODUCT((DA3:DA105=V28)*(DD3:DD105=V27)*(DE3:DE105="L"))+SUMPRODUCT((DA3:DA105=V29)*(DD3:DD105=V28)*(DF3:DF105="L"))+SUMPRODUCT((DA3:DA105=V25)*(DD3:DD105=V28)*(DF3:DF105="L"))+SUMPRODUCT((DA3:DA105=V26)*(DD3:DD105=V28)*(DF3:DF105="L"))+SUMPRODUCT((DA3:DA105=V27)*(DD3:DD105=V28)*(DF3:DF105="L")) -> 0 | Z28: =SUMPRODUCT((DA3:DA105=V28)*(DD3:DD105=V29)*DB3:DB105)+SUMPRODUCT((DA3:DA105=V28)*(DD3:DD105=V25)*DB3:DB105)+SUMPRODUCT((DA3:DA105=V28)*(DD3:DD105=V26)*DB3:DB105)+SUMPRODUCT((DA3:DA105=V28)*(DD3:DD105=V27)*DB3:DB105)+SUMPRODUCT((DA3:DA105=V29)*(DD3:DD105=V28)*DC3:DC105)+SUMPRODUCT((DA3:DA105=V25)*(DD3:DD105=V28)*DC3:DC105)+SUMPRODUCT((DA3:DA105=V26)*(DD3:DD105=V28)*DC3:DC105)+SUMPRODUCT((DA3:DA105=V27)*(DD3:DD105=V28)*DC3:DC105) -> 0 | AA28: =SUMPRODUCT((DA3:DA105=V28)*(DD3:DD105=V29)*DC3:DC105)+SUMPRODUCT((DA3:DA105=V28)*(DD3:DD105=V25)*DC3:DC105)+SUMPRODUCT((DA3:DA105=V28)*(DD3:DD105=V26)*DC3:DC105)+SUMPRODUCT((DA3:DA105=V28)*(DD3:DD105=V27)*DC3:DC105)+SUMPRODUCT((DA3:DA105=V29)*(DD3:DD105=V28)*DB3:DB105)+SUMPRODUCT((DA3:DA105=V25)*(DD3:DD105=V28)*DB3:DB105)+SUMPRODUCT((DA3:DA105=V26)*(DD3:DD105=V28)*DB3:DB105)+SUMPRODUCT((DA3:DA105=V27)*(DD3:DD105=V28)*DB3:DB105) -> 0 | AB28: =Z28-AA28+1000 -> 1000 | AC28: =IF(V28<>"",W28*3+X28*1,"") -> 0 | AD28: =IF(V28<>"",VLOOKUP(V28,C4:I52,7,FALSE),"") -> 1000 | AE28: =IF(V28<>"",VLOOKUP(V28,C4:I52,5,FALSE),"") -> 0 | AF28: =IF(V28<>"",VLOOKUP(V28,C4:K52,9,FALSE),"") -> -115 | AG28: =AC28 -> 0 | AH28: =IF(V28<>"",RANK(AG28,AG25:AG29),"") -> 1 | AI28: =IF(V28<>"",SUMPRODUCT((AG25:AG29=AG28)*(AB25:AB29>AB28)),"") -> 0 | AJ28: =IF(V28<>"",SUMPRODUCT((AG25:AG29=AG28)*(AB25:AB29=AB28)*(Z25:Z29>Z28)),"") -> 0 | AK28: =IF(V28<>"",SUMPRODUCT((AG25:AG29=AG28)*(AB25:AB29=AB28)*(Z25:Z29=Z28)*(AD25:AD29>AD28)),"") -> 0 | AL28: =IF(V28<>"",SUMPRODUCT((AG25:AG29=AG28)*(AB25:AB29=AB28)*(Z25:Z29=Z28)*(AD25:AD29=AD28)*(AE25:AE29>AE28)),"") -> 0 | AM28: =IF(V28<>"",SUMPRODUCT((AG25:AG29=AG28)*(AB25:AB29=AB28)*(Z25:Z29=Z28)*(AD25:AD29=AD28)*(AE25:AE29=AE28)*(AF25:AF29>AF28)),"") -> 0 | AN28: =IF(V28<>"",IF(SUM(X25:X28)=12,SUM(AH28:AM28),IF(AN107<>"",IF(U103=3,AN107,AN107+U103),SUM(AH28:AM28))),"") -> 1 | AO28: =IF(V28<>"",INDEX(V25:V29,MATCH(4,AN25:AN29,0),0),"") -> Paraguay | AP28: =IF(R27<>"",R27,"") | AQ28: =IF(AP28<>"",SUMPRODUCT((DA3:DA105=AP28)*(DD3:DD105=AP29)*(DE3:DE105="W"))+SUMPRODUCT((DA3:DA105=AP28)*(DD3:DD105=AP26)*(DE3:DE105="W"))+SUMPRODUCT((DA3:DA105=AP28)*(DD3:DD105=AP27)*(DE3:DE105="W"))+SUMPRODUCT((DA3:DA105=AP29)*(DD3:DD105=AP28)*(DF3:DF105="W"))+SUMPRODUCT((DA3:DA105=AP26)*(DD3:DD105=AP28)*(DF3:DF105="W"))+SUMPRODUCT((DA3:DA105=AP27)*(DD3:DD105=AP28)*(DF3:DF105="W")),"") | AR28: =IF(AP28<>"",SUMPRODUCT((DA3:DA105=AP28)*(DD3:DD105=AP29)*(DE3:DE105="D"))+SUMPRODUCT((DA3:DA105=AP28)*(DD3:DD105=AP26)*(DE3:DE105="D"))+SUMPRODUCT((DA3:DA105=AP28)*(DD3:DD105=AP27)*(DE3:DE105="D"))+SUMPRODUCT((DA3:DA105=AP29)*(DD3:DD105=AP28)*(DE3:DE105="D"))+SUMPRODUCT((DA3:DA105=AP26)*(DD3:DD105=AP28)*(DE3:DE105="D"))+SUMPRODUCT((DA3:DA105=AP27)*(DD3:DD105=AP28)*(DE3:DE105="D")),"") | AS28: =IF(AP28<>"",SUMPRODUCT((DA3:DA105=AP28)*(DD3:DD105=AP29)*(DE3:DE105="L"))+SUMPRODUCT((DA3:DA105=AP28)*(DD3:DD105=AP26)*(DE3:DE105="L"))+SUMPRODUCT((DA3:DA105=AP28)*(DD3:DD105=AP27)*(DE3:DE105="L"))+SUMPRODUCT((DA3:DA105=AP29)*(DD3:DD105=AP28)*(DF3:DF105="L"))+SUMPRODUCT((DA3:DA105=AP26)*(DD3:DD105=AP28)*(DF3:DF105="L"))+SUMPRODUCT((DA3:DA105=AP27)*(DD3:DD105=AP28)*(DF3:DF105="L")),"") | AT28: =SUMPRODUCT((DA3:DA105=AP28)*(DD3:DD105=AP29)*DB3:DB105)+SUMPRODUCT((DA3:DA105=AP28)*(DD3:DD105=AP25)*DB3:DB105)+SUMPRODUCT((DA3:DA105=AP28)*(DD3:DD105=AP26)*DB3:DB105)+SUMPRODUCT((DA3:DA105=AP28)*(DD3:DD105=AP27)*DB3:DB105)+SUMPRODUCT((DA3:DA105=AP29)*(DD3:DD105=AP28)*DC3:DC105)+SUMPRODUCT((DA3:DA105=AP25)*(DD3:DD105=AP28)*DC3:DC105)+SUMPRODUCT((DA3:DA105=AP26)*(DD3:DD105=AP28)*DC3:DC105)+SUMPRODUCT((DA3:DA105=AP27)*(DD3:DD105=AP28)*DC3:DC105) -> 0 | AU28: =SUMPRODUCT((DA3:DA105=AP28)*(DD3:DD105=AP29)*DC3:DC105)+SUMPRODUCT((DA3:DA105=AP28)*(DD3:DD105=AP25)*DC3:DC105)+SUMPRODUCT((DA3:DA105=AP28)*(DD3:DD105=AP26)*DC3:DC105)+SUMPRODUCT((DA3:DA105=AP28)*(DD3:DD105=AP27)*DC3:DC105)+SUMPRODUCT((DA3:DA105=AP29)*(DD3:DD105=AP28)*DB3:DB105)+SUMPRODUCT((DA3:DA105=AP25)*(DD3:DD105=AP28)*DB3:DB105)+SUMPRODUCT((DA3:DA105=AP26)*(DD3:DD105=AP28)*DB3:DB105)+SUMPRODUCT((DA3:DA105=AP27)*(DD3:DD105=AP28)*DB3:DB105) -> 0 | AV28: =AT28-AU28+1000 -> 1000 | AW28: =IF(AP28<>"",AQ28*3+AR28*1,"") | AX28: =IF(AP28<>"",VLOOKUP(AP28,C4:I52,7,FALSE),"") | AY28: =IF(AP28<>"",VLOOKUP(AP28,C4:I52,5,FALSE),"") | AZ28: =IF(AP28<>"",VLOOKUP(AP28,C4:K52,9,FALSE),"") | BA28: =AW28 | BB28: =IF(AP28<>"",RANK(BA28,BA25:BA29),"") | BC28: =IF(AP28<>"",SUMPRODUCT((BA25:BA29=BA28)*(AV25:AV29>AV28)),"") | BD28: =IF(AP28<>"",SUMPRODUCT((BA25:BA29=BA28)*(AV25:AV29=AV28)*(AT25:AT29>AT28)),"") | BE28: =IF(AP28<>"",SUMPRODUCT((BA25:BA29=BA28)*(AV25:AV29=AV28)*(AT25:AT29=AT28)*(AX25:AX29>AX28)),"") | BF28: =IF(AP28<>"",SUMPRODUCT((BA25:BA29=BA28)*(AV25:AV29=AV28)*(AT25:AT29=AT28)*(AX25:AX29=AX28)*(AY25:AY29>AY28)),"") | BG28: =IF(AP28<>"",SUMPRODUCT((BA25:BA29=BA28)*(AV25:AV29=AV28)*(AT25:AT29=AT28)*(AX25:AX29=AX28)*(AY25:AY29=AY28)*(AZ25:AZ29>AZ28)),"") | BH28: =IF(AP28<>"",IF(BH107<>"",IF(AO103=3,BH107,BH107+AO103),SUM(BB28:BG28)+1),"") | BI28: =IF(AP28<>"",INDEX(AP26:AP29,MATCH(4,BH26:BH29,0),0),"") | BJ28: =IF(S26<>"",S26,"") | BK28: =SUMPRODUCT((DA3:DA105=BJ28)*(DD3:DD105=BJ29)*(DE3:DE105="W"))+SUMPRODUCT((DA3:DA105=BJ28)*(DD3:DD105=BJ30)*(DE3:DE105="W"))+SUMPRODUCT((DA3:DA105=BJ28)*(DD3:DD105=BJ27)*(DE3:DE105="W"))+SUMPRODUCT((DA3:DA105=BJ29)*(DD3:DD105=BJ28)*(DF3:DF105="W"))+SUMPRODUCT((DA3:DA105=BJ30)*(DD3:DD105=BJ28)*(DF3:DF105="W"))+SUMPRODUCT((DA3:DA105=BJ27)*(DD3:DD105=BJ28)*(DF3:DF105="W")) -> 0 | BL28: =SUMPRODUCT((DA3:DA105=BJ28)*(DD3:DD105=BJ29)*(DE3:DE105="D"))+SUMPRODUCT((DA3:DA105=BJ28)*(DD3:DD105=BJ30)*(DE3:DE105="D"))+SUMPRODUCT((DA3:DA105=BJ28)*(DD3:DD105=BJ27)*(DE3:DE105="D"))+SUMPRODUCT((DA3:DA105=BJ29)*(DD3:DD105=BJ28)*(DE3:DE105="D"))+SUMPRODUCT((DA3:DA105=BJ30)*(DD3:DD105=BJ28)*(DE3:DE105="D"))+SUMPRODUCT((DA3:DA105=BJ27)*(DD3:DD105=BJ28)*(DE3:DE105="D")) -> 0 | BM28: =SUMPRODUCT((DA3:DA105=BJ28)*(DD3:DD105=BJ29)*(DE3:DE105="L"))+SUMPRODUCT((DA3:DA105=BJ28)*(DD3:DD105=BJ30)*(DE3:DE105="L"))+SUMPRODUCT((DA3:DA105=BJ28)*(DD3:DD105=BJ27)*(DE3:DE105="L"))+SUMPRODUCT((DA3:DA105=BJ29)*(DD3:DD105=BJ28)*(DF3:DF105="L"))+SUMPRODUCT((DA3:DA105=BJ30)*(DD3:DD105=BJ28)*(DF3:DF105="L"))+SUMPRODUCT((DA3:DA105=BJ27)*(DD3:DD105=BJ28)*(DF3:DF105="L")) -> 0 | BN28: =SUMPRODUCT((DA3:DA105=BJ28)*(DD3:DD105=BJ29)*DB3:DB105)+SUMPRODUCT((DA3:DA105=BJ28)*(DD3:DD105=BJ25)*DB3:DB105)+SUMPRODUCT((DA3:DA105=BJ28)*(DD3:DD105=BJ26)*DB3:DB105)+SUMPRODUCT((DA3:DA105=BJ28)*(DD3:DD105=BJ27)*DB3:DB105)+SUMPRODUCT((DA3:DA105=BJ29)*(DD3:DD105=BJ28)*DC3:DC105)+SUMPRODUCT((DA3:DA105=BJ25)*(DD3:DD105=BJ28)*DC3:DC105)+SUMPRODUCT((DA3:DA105=BJ26)*(DD3:DD105=BJ28)*DC3:DC105)+SUMPRODUCT((DA3:DA105=BJ27)*(DD3:DD105=BJ28)*DC3:DC105) -> 0 | BO28: =SUMPRODUCT((DA3:DA105=BJ28)*(DD3:DD105=BJ29)*DC3:DC105)+SUMPRODUCT((DA3:DA105=BJ28)*(DD3:DD105=BJ25)*DC3:DC105)+SUMPRODUCT((DA3:DA105=BJ28)*(DD3:DD105=BJ26)*DC3:DC105)+SUMPRODUCT((DA3:DA105=BJ28)*(DD3:DD105=BJ27)*DC3:DC105)+SUMPRODUCT((DA3:DA105=BJ29)*(DD3:DD105=BJ28)*DB3:DB105)+SUMPRODUCT((DA3:DA105=BJ25)*(DD3:DD105=BJ28)*DB3:DB105)+SUMPRODUCT((DA3:DA105=BJ26)*(DD3:DD105=BJ28)*DB3:DB105)+SUMPRODUCT((DA3:DA105=BJ27)*(DD3:DD105=BJ28)*DB3:DB105) -> 0 | BP28: =BN28-BO28+1000 -> 1000 | BQ28: =IF(BJ28<>"",BK28*3+BL28*1,"") | BR28: =IF(BJ28<>"",VLOOKUP(BJ28,C4:I52,7,FALSE),"") | BS28: =IF(BJ28<>"",VLOOKUP(BJ28,C4:I52,5,FALSE),"") | BT28: =IF(BJ28<>"",VLOOKUP(BJ28,C4:K52,9,FALSE),"") | BU28: =BQ28 | BV28: =IF(BJ28<>"",RANK(BU28,BU25:BU29),"") | BW28: =IF(BJ28<>"",SUMPRODUCT((BU25:BU29=BU28)*(BP25:BP29>BP28)),"") | BX28: =IF(BJ28<>"",SUMPRODUCT((BU25:BU29=BU28)*(BP25:BP29=BP28)*(BN25:BN29>BN28)),"") | BY28: =IF(BJ28<>"",SUMPRODUCT((BU25:BU29=BU28)*(BP25:BP29=BP28)*(BN25:BN29=BN28)*(BR25:BR29>BR28)),"") | BZ28: =IF(BJ28<>"",SUMPRODUCT((BU25:BU29=BU28)*(BP25:BP29=BP28)*(BN25:BN29=BN28)*(BR25:BR29=BR28)*(BS25:BS29>BS28)),"") | CA28: =IF(BJ28<>"",SUMPRODUCT((BU25:BU29=BU28)*(BP25:BP29=BP28)*(BN25:BN29=BN28)*(BR25:BR29=BR28)*(BS25:BS29=BS28)*(BT25:BT29>BT28)),"") | CB28: =IF(BJ28<>"",SUM(BV28:CA28)+2,"") | CC28: =IF(BJ28<>"",INDEX(BJ27:BJ29,MATCH(4,CB27:CB29,0),0),"") | CD28: =IF(T25<>"",T25,"") | CE28: =SUMPRODUCT((DA3:DA105=CD28)*(DD3:DD105=CD29)*(DE3:DE105="W"))+SUMPRODUCT((DA3:DA105=CD28)*(DD3:DD105=CD30)*(DE3:DE105="W"))+SUMPRODUCT((DA3:DA105=CD28)*(DD3:DD105=CD31)*(DE3:DE105="W"))+SUMPRODUCT((DA3:DA105=CD29)*(DD3:DD105=CD28)*(DF3:DF105="W"))+SUMPRODUCT((DA3:DA105=CD30)*(DD3:DD105=CD28)*(DF3:DF105="W"))+SUMPRODUCT((DA3:DA105=CD31)*(DD3:DD105=CD28)*(DF3:DF105="W")) -> 0 | CF28: =SUMPRODUCT((DA3:DA105=CD28)*(DD3:DD105=CD29)*(DE3:DE105="D"))+SUMPRODUCT((DA3:DA105=CD28)*(DD3:DD105=CD30)*(DE3:DE105="D"))+SUMPRODUCT((DA3:DA105=CD28)*(DD3:DD105=CD31)*(DE3:DE105="D"))+SUMPRODUCT((DA3:DA105=CD29)*(DD3:DD105=CD28)*(DE3:DE105="D"))+SUMPRODUCT((DA3:DA105=CD30)*(DD3:DD105=CD28)*(DE3:DE105="D"))+SUMPRODUCT((DA3:DA105=CD31)*(DD3:DD105=CD28)*(DE3:DE105="D")) -> 0 | CG28: =SUMPRODUCT((DA3:DA105=CD28)*(DD3:DD105=CD29)*(DE3:DE105="L"))+SUMPRODUCT((DA3:DA105=CD28)*(DD3:DD105=CD30)*(DE3:DE105="L"))+SUMPRODUCT((DA3:DA105=CD28)*(DD3:DD105=CD31)*(DE3:DE105="L"))+SUMPRODUCT((DA3:DA105=CD29)*(DD3:DD105=CD28)*(DF3:DF105="L"))+SUMPRODUCT((DA3:DA105=CD30)*(DD3:DD105=CD28)*(DF3:DF105="L"))+SUMPRODUCT((DA3:DA105=CD31)*(DD3:DD105=CD28)*(DF3:DF105="L")) -> 0 | CH28: =SUMPRODUCT((DA3:DA105=CD28)*(DD3:DD105=CD29)*DB3:DB105)+SUMPRODUCT((DA3:DA105=CD28)*(DD3:DD105=CD25)*DB3:DB105)+SUMPRODUCT((DA3:DA105=CD28)*(DD3:DD105=CD26)*DB3:DB105)+SUMPRODUCT((DA3:DA105=CD28)*(DD3:DD105=CD27)*DB3:DB105)+SUMPRODUCT((DA3:DA105=CD29)*(DD3:DD105=CD28)*DC3:DC105)+SUMPRODUCT((DA3:DA105=CD25)*(DD3:DD105=CD28)*DC3:DC105)+SUMPRODUCT((DA3:DA105=CD26)*(DD3:DD105=CD28)*DC3:DC105)+SUMPRODUCT((DA3:DA105=CD27)*(DD3:DD105=CD28)*DC3:DC105) -> 0 | CI28: =SUMPRODUCT((DA3:DA105=CD28)*(DD3:DD105=CD29)*DC3:DC105)+SUMPRODUCT((DA3:DA105=CD28)*(DD3:DD105=CD25)*DC3:DC105)+SUMPRODUCT((DA3:DA105=CD28)*(DD3:DD105=CD26)*DC3:DC105)+SUMPRODUCT((DA3:DA105=CD28)*(DD3:DD105=CD27)*DC3:DC105)+SUMPRODUCT((DA3:DA105=CD29)*(DD3:DD105=CD28)*DB3:DB105)+SUMPRODUCT((DA3:DA105=CD25)*(DD3:DD105=CD28)*DB3:DB105)+SUMPRODUCT((DA3:DA105=CD26)*(DD3:DD105=CD28)*DB3:DB105)+SUMPRODUCT((DA3:DA105=CD27)*(DD3:DD105=CD28)*DB3:DB105) -> 0 | CJ28: =CH28-CI28+1000 -> 1000 | CK28: =IF(CD28<>"",CE28*3+CF28*1,"") | CL28: =IF(CD28<>"",VLOOKUP(CD28,C4:I52,7,FALSE),"") | CM28: =IF(CD28<>"",VLOOKUP(CD28,C4:I52,5,FALSE),"") | CN28: =IF(CD28<>"",VLOOKUP(CD28,C4:K52,9,FALSE),"") | CO28: =CK28 | CP28: =IF(CD28<>"",RANK(CO28,AG25:AG29),"") | CQ28: =IF(CD28<>"",SUMPRODUCT((CO25:CO29=CO28)*(CJ25:CJ29>CJ28)),"") | CR28: =IF(CD28<>"",SUMPRODUCT((CO25:CO29=CO28)*(CJ25:CJ29=CJ28)*(CH25:CH29>CH28)),"") | CS28: =IF(CD28<>"",SUMPRODUCT((CO25:CO29=CO28)*(CJ25:CJ29=CJ28)*(CH25:CH29=CH28)*(CL25:CL29>CL28)),"") | CT28: =IF(CD28<>"",SUMPRODUCT((CO25:CO29=CO28)*(CJ25:CJ29=CJ28)*(CH25:CH29=CH28)*(CL25:CL29=CL28)*(CM25:CM29>CM28)),"") | CU28: =IF(CD28<>"",SUMPRODUCT((CO25:CO29=CO28)*(CJ25:CJ29=CJ28)*(CH25:CH29=CH28)*(CL25:CL29=CL28)*(CM25:CM29=CM28)*(CN25:CN29>CN28)),"") | CV28: =IF(CD28<>"",SUM(CP28:CU28)+3,"") | CW28: =IF(CD28<>"",IF(CV28=4,CD28,CD29),"") | CX28: =IF(CW28<>"",CW28,IF(CC28<>"",CC28,IF(BI28<>"",BI28,IF(AO28<>"",AO28,O28)))) -> Paraguay | CY28: 4 | CZ28: 26 | DA28: =Matches!F33 -> Switzerland | DB28: =IF(DA2<>"",IF(AND(Matches!H33<>"",Matches!I33<>""),Matches!H33,0),"") -> 0 | DC28: =IF(DA2<>"",IF(AND(Matches!H33<>"",Matches!I33<>""),Matches!I33,0),"") -> 0 | DD28: =Matches!K33 -> Bosnia and Herzegovina | DE28: =IF(AND(Matches!H33<>"",Matches!I33<>""),IF(DB28>DC28,"W",IF(DB28=DC28,"D","L")),"") | DF28: =IF(DE28<>"",IF(DE28="W","L",IF(DE28="L","W","D")),"")
CW29: =IF(CD28<>"",IF(CD28=CW28,CD29,CD28),"") | CZ29: 27 | DA29: =Matches!F34 -> Canada | DB29: =IF(DA2<>"",IF(AND(Matches!H34<>"",Matches!I34<>""),Matches!H34,0),"") -> 0 | DC29: =IF(DA2<>"",IF(AND(Matches!H34<>"",Matches!I34<>""),Matches!I34,0),"") -> 0 | DD29: =Matches!K34 -> Qatar | DE29: =IF(AND(Matches!H34<>"",Matches!I34<>""),IF(DB29>DC29,"W",IF(DB29=DC29,"D","L")),"") | DF29: =IF(DE29<>"",IF(DE29="W","L",IF(DE29="L","W","D")),"")
CD30: =IF(BO29<>"",BO29,"") | CZ30: 28 | DA30: =Matches!F35 -> Mexico | DB30: =IF(DA2<>"",IF(AND(Matches!H35<>"",Matches!I35<>""),Matches!H35,0),"") -> 0 | DC30: =IF(DA2<>"",IF(AND(Matches!H35<>"",Matches!I35<>""),Matches!I35,0),"") -> 0 | DD30: =Matches!K35 -> Korea Republic | DE30: =IF(AND(Matches!H35<>"",Matches!I35<>""),IF(DB30>DC30,"W",IF(DB30=DC30,"D","L")),"") | DF30: =IF(DE30<>"",IF(DE30="W","L",IF(DE30="L","W","D")),"")
A31: =Setup!E22+100 -> 110 | B31: =VLOOKUP(C31,CX31:CY35,2,FALSE) -> 1 | C31: =Setup!D22 -> Germany | D31: =SUMPRODUCT((DA3:DA105=C31)*(DE3:DE105="W"))+SUMPRODUCT((DD3:DD105=C31)*(DF3:DF105="W")) -> 0 | E31: =SUMPRODUCT((DA3:DA105=C31)*(DE3:DE105="D"))+SUMPRODUCT((DD3:DD105=C31)*(DF3:DF105="D")) -> 0 | F31: =SUMPRODUCT((DA3:DA105=C31)*(DE3:DE105="L"))+SUMPRODUCT((DD3:DD105=C31)*(DF3:DF105="L")) -> 0 | G31: =SUMIF(DA3:DA123,C31,DB3:DB123)+SUMIF(DD3:DD123,C31,DC3:DC123) -> 0 | H31: =SUMIF(DD3:DD123,C31,DB3:DB123)+SUMIF(DA3:DA123,C31,DC3:DC123) -> 0 | I31: =G31-H31+1000 -> 1000 | J31: =D31*3+E31*1 -> 0 | K31: =IF(Setup!F22<>"",Setup!F22,-A31) -> -110 | L31: =IF(COUNTIF(J31:J35,4)<>4,RANK(J31,J31:J35),J110) -> 1 | N31: =SUMPRODUCT((L31:L34=L31)*(K31:K34<K31))+L31 -> 4 | O31: =INDEX(C31:C35,MATCH(1,N31:N35,0),0) -> Curacao | P31: =INDEX(L31:L35,MATCH(O31,C31:C35,0),0) -> 1 | Q31: =IF(P32=1,O31,"") -> Curacao | R31: =IF(P33=2,O32,"") | S31: =IF(P34=3,O33,"") | T31: =IF(P35=4,O34,"") | V31: =IF(Q31<>"",Q31,"") -> Curacao | W31: =SUMPRODUCT((DA3:DA105=V31)*(DD3:DD105=V32)*(DE3:DE105="W"))+SUMPRODUCT((DA3:DA105=V31)*(DD3:DD105=V33)*(DE3:DE105="W"))+SUMPRODUCT((DA3:DA105=V31)*(DD3:DD105=V34)*(DE3:DE105="W"))+SUMPRODUCT((DA3:DA105=V31)*(DD3:DD105=V35)*(DE3:DE105="W"))+SUMPRODUCT((DA3:DA105=V32)*(DD3:DD105=V31)*(DF3:DF105="W"))+SUMPRODUCT((DA3:DA105=V33)*(DD3:DD105=V31)*(DF3:DF105="W"))+SUMPRODUCT((DA3:DA105=V34)*(DD3:DD105=V31)*(DF3:DF105="W"))+SUMPRODUCT((DA3:DA105=V35)*(DD3:DD105=V31)*(DF3:DF105="W")) -> 0 | X31: =SUMPRODUCT((DA3:DA105=V31)*(DD3:DD105=V32)*(DE3:DE105="D"))+SUMPRODUCT((DA3:DA105=V31)*(DD3:DD105=V33)*(DE3:DE105="D"))+SUMPRODUCT((DA3:DA105=V31)*(DD3:DD105=V34)*(DE3:DE105="D"))+SUMPRODUCT((DA3:DA105=V31)*(DD3:DD105=V35)*(DE3:DE105="D"))+SUMPRODUCT((DA3:DA105=V32)*(DD3:DD105=V31)*(DE3:DE105="D"))+SUMPRODUCT((DA3:DA105=V33)*(DD3:DD105=V31)*(DE3:DE105="D"))+SUMPRODUCT((DA3:DA105=V34)*(DD3:DD105=V31)*(DE3:DE105="D"))+SUMPRODUCT((DA3:DA105=V35)*(DD3:DD105=V31)*(DE3:DE105="D")) -> 0 | Y31: =SUMPRODUCT((DA3:DA105=V31)*(DD3:DD105=V32)*(DE3:DE105="L"))+SUMPRODUCT((DA3:DA105=V31)*(DD3:DD105=V33)*(DE3:DE105="L"))+SUMPRODUCT((DA3:DA105=V31)*(DD3:DD105=V34)*(DE3:DE105="L"))+SUMPRODUCT((DA3:DA105=V31)*(DD3:DD105=V35)*(DE3:DE105="L"))+SUMPRODUCT((DA3:DA105=V32)*(DD3:DD105=V31)*(DF3:DF105="L"))+SUMPRODUCT((DA3:DA105=V33)*(DD3:DD105=V31)*(DF3:DF105="L"))+SUMPRODUCT((DA3:DA105=V34)*(DD3:DD105=V31)*(DF3:DF105="L"))+SUMPRODUCT((DA3:DA105=V35)*(DD3:DD105=V31)*(DF3:DF105="L")) -> 0 | Z31: =SUMPRODUCT((DA3:DA105=V31)*(DD3:DD105=V32)*DB3:DB105)+SUMPRODUCT((DA3:DA105=V31)*(DD3:DD105=V33)*DB3:DB105)+SUMPRODUCT((DA3:DA105=V31)*(DD3:DD105=V34)*DB3:DB105)+SUMPRODUCT((DA3:DA105=V31)*(DD3:DD105=V35)*DB3:DB105)+SUMPRODUCT((DA3:DA105=V32)*(DD3:DD105=V31)*DC3:DC105)+SUMPRODUCT((DA3:DA105=V33)*(DD3:DD105=V31)*DC3:DC105)+SUMPRODUCT((DA3:DA105=V34)*(DD3:DD105=V31)*DC3:DC105)+SUMPRODUCT((DA3:DA105=V35)*(DD3:DD105=V31)*DC3:DC105) -> 0 | AA31: =SUMPRODUCT((DA3:DA105=V31)*(DD3:DD105=V32)*DC3:DC105)+SUMPRODUCT((DA3:DA105=V31)*(DD3:DD105=V33)*DC3:DC105)+SUMPRODUCT((DA3:DA105=V31)*(DD3:DD105=V34)*DC3:DC105)+SUMPRODUCT((DA3:DA105=V31)*(DD3:DD105=V35)*DC3:DC105)+SUMPRODUCT((DA3:DA105=V32)*(DD3:DD105=V31)*DB3:DB105)+SUMPRODUCT((DA3:DA105=V33)*(DD3:DD105=V31)*DB3:DB105)+SUMPRODUCT((DA3:DA105=V34)*(DD3:DD105=V31)*DB3:DB105)+SUMPRODUCT((DA3:DA105=V35)*(DD3:DD105=V31)*DB3:DB105) -> 0 | AB31: =Z31-AA31+1000 -> 1000 | AC31: =IF(V31<>"",W31*3+X31*1,"") -> 0 | AD31: =IF(V31<>"",VLOOKUP(V31,C4:I52,7,FALSE),"") -> 1000 | AE31: =IF(V31<>"",VLOOKUP(V31,C4:I52,5,FALSE),"") -> 0 | AF31: =IF(V31<>"",VLOOKUP(V31,C4:K52,9,FALSE),"") -> -181 | AG31: =AC31 -> 0 | AH31: =IF(V31<>"",RANK(AG31,AG31:AG35),"") -> 1 | AI31: =IF(V31<>"",SUMPRODUCT((AG31:AG35=AG31)*(AB31:AB35>AB31)),"") -> 0 | AJ31: =IF(V31<>"",SUMPRODUCT((AG31:AG35=AG31)*(AB31:AB35=AB31)*(Z31:Z35>Z31)),"") -> 0 | AK31: =IF(V31<>"",SUMPRODUCT((AG31:AG35=AG31)*(AB31:AB35=AB31)*(Z31:Z35=Z31)*(AD31:AD35>AD31)),"") -> 0 | AL31: =IF(V31<>"",SUMPRODUCT((AG31:AG35=AG31)*(AB31:AB35=AB31)*(Z31:Z35=Z31)*(AD31:AD35=AD31)*(AE31:AE35>AE31)),"") -> 0 | AM31: =IF(V31<>"",SUMPRODUCT((AG31:AG35=AG31)*(AB31:AB35=AB31)*(Z31:Z35=Z31)*(AD31:AD35=AD31)*(AE31:AE35=AE31)*(AF31:AF35>AF31)),"") -> 3 | AN31: =IF(V31<>"",IF(SUM(X31:X34)=12,SUM(AH31:AM31),IF(AN110<>"",IF(U109=3,AN110,AN110+U109),SUM(AH31:AM31))),"") -> 4 | AO31: =IF(V31<>"",INDEX(V31:V35,MATCH(1,AN31:AN35,0),0),"") -> Germany | CX31: =IF(AO31<>"",AO31,O31) -> Germany | CY31: 1 | CZ31: 29 | DA31: =Matches!F36 -> Brazil | DB31: =IF(DA2<>"",IF(AND(Matches!H36<>"",Matches!I36<>""),Matches!H36,0),"") -> 0 | DC31: =IF(DA2<>"",IF(AND(Matches!H36<>"",Matches!I36<>""),Matches!I36,0),"") -> 0 | DD31: =Matches!K36 -> Haiti | DE31: =IF(AND(Matches!H36<>"",Matches!I36<>""),IF(DB31>DC31,"W",IF(DB31=DC31,"D","L")),"") | DF31: =IF(DE31<>"",IF(DE31="W","L",IF(DE31="L","W","D")),"")
A32: =Setup!E23+100 -> 181 | B32: =VLOOKUP(C32,CX31:CY35,2,FALSE) -> 4 | C32: =Setup!D23 -> Curacao | D32: =SUMPRODUCT((DA3:DA105=C32)*(DE3:DE105="W"))+SUMPRODUCT((DD3:DD105=C32)*(DF3:DF105="W")) -> 0 | E32: =SUMPRODUCT((DA3:DA105=C32)*(DE3:DE105="D"))+SUMPRODUCT((DD3:DD105=C32)*(DF3:DF105="D")) -> 0 | F32: =SUMPRODUCT((DA3:DA105=C32)*(DE3:DE105="L"))+SUMPRODUCT((DD3:DD105=C32)*(DF3:DF105="L")) -> 0 | G32: =SUMIF(DA3:DA123,C32,DB3:DB123)+SUMIF(DD3:DD123,C32,DC3:DC123) -> 0 | H32: =SUMIF(DD3:DD123,C32,DB3:DB123)+SUMIF(DA3:DA123,C32,DC3:DC123) -> 0 | I32: =G32-H32+1000 -> 1000 | J32: =D32*3+E32*1 -> 0 | K32: =IF(Setup!F23<>"",Setup!F23,-A32) -> -181 | L32: =IF(COUNTIF(J31:J35,4)<>4,RANK(J32,J31:J35),J111) -> 1 | N32: =SUMPRODUCT((L31:L34=L32)*(K31:K34<K32))+L32 -> 1 | O32: =INDEX(C31:C35,MATCH(2,N31:N35,0),0) -> Cote D'Voire | P32: =INDEX(L31:L35,MATCH(O32,C31:C35,0),0) -> 1 | Q32: =IF(Q31<>"",O32,"") -> Cote D'Voire | R32: =IF(R31<>"",O33,"") | S32: =IF(S31<>"",O34,"") | T32: =IF(T31<>"",O35,"") | V32: =IF(Q32<>"",Q32,"") -> Cote D'Voire | W32: =SUMPRODUCT((DA3:DA105=V32)*(DD3:DD105=V33)*(DE3:DE105="W"))+SUMPRODUCT((DA3:DA105=V32)*(DD3:DD105=V34)*(DE3:DE105="W"))+SUMPRODUCT((DA3:DA105=V32)*(DD3:DD105=V35)*(DE3:DE105="W"))+SUMPRODUCT((DA3:DA105=V32)*(DD3:DD105=V31)*(DE3:DE105="W"))+SUMPRODUCT((DA3:DA105=V33)*(DD3:DD105=V32)*(DF3:DF105="W"))+SUMPRODUCT((DA3:DA105=V34)*(DD3:DD105=V32)*(DF3:DF105="W"))+SUMPRODUCT((DA3:DA105=V35)*(DD3:DD105=V32)*(DF3:DF105="W"))+SUMPRODUCT((DA3:DA105=V31)*(DD3:DD105=V32)*(DF3:DF105="W")) -> 0 | X32: =SUMPRODUCT((DA3:DA105=V32)*(DD3:DD105=V33)*(DE3:DE105="D"))+SUMPRODUCT((DA3:DA105=V32)*(DD3:DD105=V34)*(DE3:DE105="D"))+SUMPRODUCT((DA3:DA105=V32)*(DD3:DD105=V35)*(DE3:DE105="D"))+SUMPRODUCT((DA3:DA105=V32)*(DD3:DD105=V31)*(DE3:DE105="D"))+SUMPRODUCT((DA3:DA105=V33)*(DD3:DD105=V32)*(DE3:DE105="D"))+SUMPRODUCT((DA3:DA105=V34)*(DD3:DD105=V32)*(DE3:DE105="D"))+SUMPRODUCT((DA3:DA105=V35)*(DD3:DD105=V32)*(DE3:DE105="D"))+SUMPRODUCT((DA3:DA105=V31)*(DD3:DD105=V32)*(DE3:DE105="D")) -> 0 | Y32: =SUMPRODUCT((DA3:DA105=V32)*(DD3:DD105=V33)*(DE3:DE105="L"))+SUMPRODUCT((DA3:DA105=V32)*(DD3:DD105=V34)*(DE3:DE105="L"))+SUMPRODUCT((DA3:DA105=V32)*(DD3:DD105=V35)*(DE3:DE105="L"))+SUMPRODUCT((DA3:DA105=V32)*(DD3:DD105=V31)*(DE3:DE105="L"))+SUMPRODUCT((DA3:DA105=V33)*(DD3:DD105=V32)*(DF3:DF105="L"))+SUMPRODUCT((DA3:DA105=V34)*(DD3:DD105=V32)*(DF3:DF105="L"))+SUMPRODUCT((DA3:DA105=V35)*(DD3:DD105=V32)*(DF3:DF105="L"))+SUMPRODUCT((DA3:DA105=V31)*(DD3:DD105=V32)*(DF3:DF105="L")) -> 0 | Z32: =SUMPRODUCT((DA3:DA105=V32)*(DD3:DD105=V33)*DB3:DB105)+SUMPRODUCT((DA3:DA105=V32)*(DD3:DD105=V34)*DB3:DB105)+SUMPRODUCT((DA3:DA105=V32)*(DD3:DD105=V35)*DB3:DB105)+SUMPRODUCT((DA3:DA105=V32)*(DD3:DD105=V31)*DB3:DB105)+SUMPRODUCT((DA3:DA105=V33)*(DD3:DD105=V32)*DC3:DC105)+SUMPRODUCT((DA3:DA105=V34)*(DD3:DD105=V32)*DC3:DC105)+SUMPRODUCT((DA3:DA105=V35)*(DD3:DD105=V32)*DC3:DC105)+SUMPRODUCT((DA3:DA105=V31)*(DD3:DD105=V32)*DC3:DC105) -> 0 | AA32: =SUMPRODUCT((DA3:DA105=V32)*(DD3:DD105=V33)*DC3:DC105)+SUMPRODUCT((DA3:DA105=V32)*(DD3:DD105=V34)*DC3:DC105)+SUMPRODUCT((DA3:DA105=V32)*(DD3:DD105=V35)*DC3:DC105)+SUMPRODUCT((DA3:DA105=V32)*(DD3:DD105=V31)*DC3:DC105)+SUMPRODUCT((DA3:DA105=V33)*(DD3:DD105=V32)*DB3:DB105)+SUMPRODUCT((DA3:DA105=V34)*(DD3:DD105=V32)*DB3:DB105)+SUMPRODUCT((DA3:DA105=V35)*(DD3:DD105=V32)*DB3:DB105)+SUMPRODUCT((DA3:DA105=V31)*(DD3:DD105=V32)*DB3:DB105) -> 0 | AB32: =Z32-AA32+1000 -> 1000 | AC32: =IF(V32<>"",W32*3+X32*1,"") -> 0 | AD32: =IF(V32<>"",VLOOKUP(V32,C4:I52,7,FALSE),"") -> 1000 | AE32: =IF(V32<>"",VLOOKUP(V32,C4:I52,5,FALSE),"") -> 0 | AF32: =IF(V32<>"",VLOOKUP(V32,C4:K52,9,FALSE),"") -> -137 | AG32: =AC32 -> 0 | AH32: =IF(V32<>"",RANK(AG32,AG31:AG35),"") -> 1 | AI32: =IF(V32<>"",SUMPRODUCT((AG31:AG35=AG32)*(AB31:AB35>AB32)),"") -> 0 | AJ32: =IF(V32<>"",SUMPRODUCT((AG31:AG35=AG32)*(AB31:AB35=AB32)*(Z31:Z35>Z32)),"") -> 0 | AK32: =IF(V32<>"",SUMPRODUCT((AG31:AG35=AG32)*(AB31:AB35=AB32)*(Z31:Z35=Z32)*(AD31:AD35>AD32)),"") -> 0 | AL32: =IF(V32<>"",SUMPRODUCT((AG31:AG35=AG32)*(AB31:AB35=AB32)*(Z31:Z35=Z32)*(AD31:AD35=AD32)*(AE31:AE35>AE32)),"") -> 0 | AM32: =IF(V32<>"",SUMPRODUCT((AG31:AG35=AG32)*(AB31:AB35=AB32)*(Z31:Z35=Z32)*(AD31:AD35=AD32)*(AE31:AE35=AE32)*(AF31:AF35>AF32)),"") -> 2 | AN32: =IF(V32<>"",IF(SUM(X31:X34)=12,SUM(AH32:AM32),IF(AN111<>"",IF(U109=3,AN111,AN111+U109),SUM(AH32:AM32))),"") -> 3 | AO32: =IF(V32<>"",INDEX(V31:V35,MATCH(2,AN31:AN35,0),0),"") -> Ecuador | AP32: =IF(R31<>"",R31,"") | AQ32: =SUMPRODUCT((DA3:DA105=AP32)*(DD3:DD105=AP33)*(DE3:DE105="W"))+SUMPRODUCT((DA3:DA105=AP32)*(DD3:DD105=AP34)*(DE3:DE105="W"))+SUMPRODUCT((DA3:DA105=AP32)*(DD3:DD105=AP35)*(DE3:DE105="W"))+SUMPRODUCT((DA3:DA105=AP33)*(DD3:DD105=AP32)*(DF3:DF105="W"))+SUMPRODUCT((DA3:DA105=AP34)*(DD3:DD105=AP32)*(DF3:DF105="W"))+SUMPRODUCT((DA3:DA105=AP35)*(DD3:DD105=AP32)*(DF3:DF105="W")) -> 0 | AR32: =SUMPRODUCT((DA3:DA105=AP32)*(DD3:DD105=AP33)*(DE3:DE105="D"))+SUMPRODUCT((DA3:DA105=AP32)*(DD3:DD105=AP34)*(DE3:DE105="D"))+SUMPRODUCT((DA3:DA105=AP32)*(DD3:DD105=AP35)*(DE3:DE105="D"))+SUMPRODUCT((DA3:DA105=AP33)*(DD3:DD105=AP32)*(DE3:DE105="D"))+SUMPRODUCT((DA3:DA105=AP34)*(DD3:DD105=AP32)*(DE3:DE105="D"))+SUMPRODUCT((DA3:DA105=AP35)*(DD3:DD105=AP32)*(DE3:DE105="D")) -> 0 | AS32: =SUMPRODUCT((DA3:DA105=AP32)*(DD3:DD105=AP33)*(DE3:DE105="L"))+SUMPRODUCT((DA3:DA105=AP32)*(DD3:DD105=AP34)*(DE3:DE105="L"))+SUMPRODUCT((DA3:DA105=AP32)*(DD3:DD105=AP35)*(DE3:DE105="L"))+SUMPRODUCT((DA3:DA105=AP33)*(DD3:DD105=AP32)*(DF3:DF105="L"))+SUMPRODUCT((DA3:DA105=AP34)*(DD3:DD105=AP32)*(DF3:DF105="L"))+SUMPRODUCT((DA3:DA105=AP35)*(DD3:DD105=AP32)*(DF3:DF105="L")) -> 0 | AT32: =SUMPRODUCT((DA3:DA105=AP32)*(DD3:DD105=AP33)*DB3:DB105)+SUMPRODUCT((DA3:DA105=AP32)*(DD3:DD105=AP34)*DB3:DB105)+SUMPRODUCT((DA3:DA105=AP32)*(DD3:DD105=AP35)*DB3:DB105)+SUMPRODUCT((DA3:DA105=AP32)*(DD3:DD105=AP31)*DB3:DB105)+SUMPRODUCT((DA3:DA105=AP33)*(DD3:DD105=AP32)*DC3:DC105)+SUMPRODUCT((DA3:DA105=AP34)*(DD3:DD105=AP32)*DC3:DC105)+SUMPRODUCT((DA3:DA105=AP35)*(DD3:DD105=AP32)*DC3:DC105)+SUMPRODUCT((DA3:DA105=AP31)*(DD3:DD105=AP32)*DC3:DC105) -> 0 | AU32: =SUMPRODUCT((DA3:DA105=AP32)*(DD3:DD105=AP33)*DC3:DC105)+SUMPRODUCT((DA3:DA105=AP32)*(DD3:DD105=AP34)*DC3:DC105)+SUMPRODUCT((DA3:DA105=AP32)*(DD3:DD105=AP35)*DC3:DC105)+SUMPRODUCT((DA3:DA105=AP32)*(DD3:DD105=AP31)*DC3:DC105)+SUMPRODUCT((DA3:DA105=AP33)*(DD3:DD105=AP32)*DB3:DB105)+SUMPRODUCT((DA3:DA105=AP34)*(DD3:DD105=AP32)*DB3:DB105)+SUMPRODUCT((DA3:DA105=AP35)*(DD3:DD105=AP32)*DB3:DB105)+SUMPRODUCT((DA3:DA105=AP31)*(DD3:DD105=AP32)*DB3:DB105) -> 0 | AV32: =AT32-AU32+1000 -> 1000 | AW32: =IF(AP32<>"",AQ32*3+AR32*1,"") | AX32: =IF(AP32<>"",VLOOKUP(AP32,C4:I52,7,FALSE),"") | AY32: =IF(AP32<>"",VLOOKUP(AP32,C4:I52,5,FALSE),"") | AZ32: =IF(AP32<>"",VLOOKUP(AP32,C4:K52,9,FALSE),"") | BA32: =AW32 | BB32: =IF(AP32<>"",RANK(BA32,BA31:BA35),"") | BC32: =IF(AP32<>"",SUMPRODUCT((BA31:BA35=BA32)*(AV31:AV35>AV32)),"") | BD32: =IF(AP32<>"",SUMPRODUCT((BA31:BA35=BA32)*(AV31:AV35=AV32)*(AT31:AT35>AT32)),"") | BE32: =IF(AP32<>"",SUMPRODUCT((BA31:BA35=BA32)*(AV31:AV35=AV32)*(AT31:AT35=AT32)*(AX31:AX35>AX32)),"") | BF32: =IF(AP32<>"",SUMPRODUCT((BA31:BA35=BA32)*(AV31:AV35=AV32)*(AT31:AT35=AT32)*(AX31:AX35=AX32)*(AY31:AY35>AY32)),"") | BG32: =IF(AP32<>"",SUMPRODUCT((BA31:BA35=BA32)*(AV31:AV35=AV32)*(AT31:AT35=AT32)*(AX31:AX35=AX32)*(AY31:AY35=AY32)*(AZ31:AZ35>AZ32)),"") | BH32: =IF(AP32<>"",IF(BH111<>"",IF(AO109=3,BH111,BH111+AO109),SUM(BB32:BG32)+1),"") | BI32: =IF(AP32<>"",INDEX(AP32:AP35,MATCH(2,BH32:BH35,0),0),"") | CX32: =IF(BI32<>"",BI32,IF(AO32<>"",AO32,O32)) -> Ecuador | CY32: 2 | CZ32: 30 | DA32: =Matches!F37 -> Scotland | DB32: =IF(DA2<>"",IF(AND(Matches!H37<>"",Matches!I37<>""),Matches!H37,0),"") -> 0 | DC32: =IF(DA2<>"",IF(AND(Matches!H37<>"",Matches!I37<>""),Matches!I37,0),"") -> 0 | DD32: =Matches!K37 -> Morocco | DE32: =IF(AND(Matches!H37<>"",Matches!I37<>""),IF(DB32>DC32,"W",IF(DB32=DC32,"D","L")),"") | DF32: =IF(DE32<>"",IF(DE32="W","L",IF(DE32="L","W","D")),"")
A33: =Setup!E24+100 -> 137 | B33: =VLOOKUP(C33,CX31:CY35,2,FALSE) -> 3 | C33: =Setup!D24 -> Cote D'Voire | D33: =SUMPRODUCT((DA3:DA105=C33)*(DE3:DE105="W"))+SUMPRODUCT((DD3:DD105=C33)*(DF3:DF105="W")) -> 0 | E33: =SUMPRODUCT((DA3:DA105=C33)*(DE3:DE105="D"))+SUMPRODUCT((DD3:DD105=C33)*(DF3:DF105="D")) -> 0 | F33: =SUMPRODUCT((DA3:DA105=C33)*(DE3:DE105="L"))+SUMPRODUCT((DD3:DD105=C33)*(DF3:DF105="L")) -> 0 | G33: =SUMIF(DA3:DA123,C33,DB3:DB123)+SUMIF(DD3:DD123,C33,DC3:DC123) -> 0 | H33: =SUMIF(DD3:DD123,C33,DB3:DB123)+SUMIF(DA3:DA123,C33,DC3:DC123) -> 0 | I33: =G33-H33+1000 -> 1000 | J33: =D33*3+E33*1 -> 0 | K33: =IF(Setup!F24<>"",Setup!F24,-A33) -> -137 | L33: =IF(COUNTIF(J31:J35,4)<>4,RANK(J33,J31:J35),J112) -> 1 | N33: =SUMPRODUCT((L31:L34=L33)*(K31:K34<K33))+L33 -> 2 | O33: =INDEX(C31:C35,MATCH(3,N31:N35,0),0) -> Ecuador | P33: =INDEX(L31:L35,MATCH(O33,C31:C35,0),0) -> 1 | Q33: =IF(AND(Q32<>"",P33=1),O33,"") -> Ecuador | R33: =IF(AND(R32<>"",P34=2),O34,"") | S33: =IF(AND(S32<>"",P35=3),O35,"") | V33: =IF(Q33<>"",Q33,"") -> Ecuador | W33: =SUMPRODUCT((DA3:DA105=V33)*(DD3:DD105=V34)*(DE3:DE105="W"))+SUMPRODUCT((DA3:DA105=V33)*(DD3:DD105=V35)*(DE3:DE105="W"))+SUMPRODUCT((DA3:DA105=V33)*(DD3:DD105=V31)*(DE3:DE105="W"))+SUMPRODUCT((DA3:DA105=V33)*(DD3:DD105=V32)*(DE3:DE105="W"))+SUMPRODUCT((DA3:DA105=V34)*(DD3:DD105=V33)*(DF3:DF105="W"))+SUMPRODUCT((DA3:DA105=V35)*(DD3:DD105=V33)*(DF3:DF105="W"))+SUMPRODUCT((DA3:DA105=V31)*(DD3:DD105=V33)*(DF3:DF105="W"))+SUMPRODUCT((DA3:DA105=V32)*(DD3:DD105=V33)*(DF3:DF105="W")) -> 0 | X33: =SUMPRODUCT((DA3:DA105=V33)*(DD3:DD105=V34)*(DE3:DE105="D"))+SUMPRODUCT((DA3:DA105=V33)*(DD3:DD105=V35)*(DE3:DE105="D"))+SUMPRODUCT((DA3:DA105=V33)*(DD3:DD105=V31)*(DE3:DE105="D"))+SUMPRODUCT((DA3:DA105=V33)*(DD3:DD105=V32)*(DE3:DE105="D"))+SUMPRODUCT((DA3:DA105=V34)*(DD3:DD105=V33)*(DE3:DE105="D"))+SUMPRODUCT((DA3:DA105=V35)*(DD3:DD105=V33)*(DE3:DE105="D"))+SUMPRODUCT((DA3:DA105=V31)*(DD3:DD105=V33)*(DE3:DE105="D"))+SUMPRODUCT((DA3:DA105=V32)*(DD3:DD105=V33)*(DE3:DE105="D")) -> 0 | Y33: =SUMPRODUCT((DA3:DA105=V33)*(DD3:DD105=V34)*(DE3:DE105="L"))+SUMPRODUCT((DA3:DA105=V33)*(DD3:DD105=V35)*(DE3:DE105="L"))+SUMPRODUCT((DA3:DA105=V33)*(DD3:DD105=V31)*(DE3:DE105="L"))+SUMPRODUCT((DA3:DA105=V33)*(DD3:DD105=V32)*(DE3:DE105="L"))+SUMPRODUCT((DA3:DA105=V34)*(DD3:DD105=V33)*(DF3:DF105="L"))+SUMPRODUCT((DA3:DA105=V35)*(DD3:DD105=V33)*(DF3:DF105="L"))+SUMPRODUCT((DA3:DA105=V31)*(DD3:DD105=V33)*(DF3:DF105="L"))+SUMPRODUCT((DA3:DA105=V32)*(DD3:DD105=V33)*(DF3:DF105="L")) -> 0 | Z33: =SUMPRODUCT((DA3:DA105=V33)*(DD3:DD105=V34)*DB3:DB105)+SUMPRODUCT((DA3:DA105=V33)*(DD3:DD105=V35)*DB3:DB105)+SUMPRODUCT((DA3:DA105=V33)*(DD3:DD105=V31)*DB3:DB105)+SUMPRODUCT((DA3:DA105=V33)*(DD3:DD105=V32)*DB3:DB105)+SUMPRODUCT((DA3:DA105=V34)*(DD3:DD105=V33)*DC3:DC105)+SUMPRODUCT((DA3:DA105=V35)*(DD3:DD105=V33)*DC3:DC105)+SUMPRODUCT((DA3:DA105=V31)*(DD3:DD105=V33)*DC3:DC105)+SUMPRODUCT((DA3:DA105=V32)*(DD3:DD105=V33)*DC3:DC105) -> 0 | AA33: =SUMPRODUCT((DA3:DA105=V33)*(DD3:DD105=V34)*DC3:DC105)+SUMPRODUCT((DA3:DA105=V33)*(DD3:DD105=V35)*DC3:DC105)+SUMPRODUCT((DA3:DA105=V33)*(DD3:DD105=V31)*DC3:DC105)+SUMPRODUCT((DA3:DA105=V33)*(DD3:DD105=V32)*DC3:DC105)+SUMPRODUCT((DA3:DA105=V34)*(DD3:DD105=V33)*DB3:DB105)+SUMPRODUCT((DA3:DA105=V35)*(DD3:DD105=V33)*DB3:DB105)+SUMPRODUCT((DA3:DA105=V31)*(DD3:DD105=V33)*DB3:DB105)+SUMPRODUCT((DA3:DA105=V32)*(DD3:DD105=V33)*DB3:DB105) -> 0 | AB33: =Z33-AA33+1000 -> 1000 | AC33: =IF(V33<>"",W33*3+X33*1,"") -> 0 | AD33: =IF(V33<>"",VLOOKUP(V33,C4:I52,7,FALSE),"") -> 1000 | AE33: =IF(V33<>"",VLOOKUP(V33,C4:I52,5,FALSE),"") -> 0 | AF33: =IF(V33<>"",VLOOKUP(V33,C4:K52,9,FALSE),"") -> -123 | AG33: =AC33 -> 0 | AH33: =IF(V33<>"",RANK(AG33,AG31:AG35),"") -> 1 | AI33: =IF(V33<>"",SUMPRODUCT((AG31:AG35=AG33)*(AB31:AB35>AB33)),"") -> 0 | AJ33: =IF(V33<>"",SUMPRODUCT((AG31:AG35=AG33)*(AB31:AB35=AB33)*(Z31:Z35>Z33)),"") -> 0 | AK33: =IF(V33<>"",SUMPRODUCT((AG31:AG35=AG33)*(AB31:AB35=AB33)*(Z31:Z35=Z33)*(AD31:AD35>AD33)),"") -> 0 | AL33: =IF(V33<>"",SUMPRODUCT((AG31:AG35=AG33)*(AB31:AB35=AB33)*(Z31:Z35=Z33)*(AD31:AD35=AD33)*(AE31:AE35>AE33)),"") -> 0 | AM33: =IF(V33<>"",SUMPRODUCT((AG31:AG35=AG33)*(AB31:AB35=AB33)*(Z31:Z35=Z33)*(AD31:AD35=AD33)*(AE31:AE35=AE33)*(AF31:AF35>AF33)),"") -> 1 | AN33: =IF(V33<>"",IF(SUM(X31:X34)=12,SUM(AH33:AM33),IF(AN112<>"",IF(U109=3,AN112,AN112+U109),SUM(AH33:AM33))),"") -> 2 | AO33: =IF(V33<>"",INDEX(V31:V35,MATCH(3,AN31:AN35,0),0),"") -> Cote D'Voire | AP33: =IF(R32<>"",R32,"") | AQ33: =SUMPRODUCT((DA3:DA105=AP33)*(DD3:DD105=AP34)*(DE3:DE105="W"))+SUMPRODUCT((DA3:DA105=AP33)*(DD3:DD105=AP35)*(DE3:DE105="W"))+SUMPRODUCT((DA3:DA105=AP33)*(DD3:DD105=AP32)*(DE3:DE105="W"))+SUMPRODUCT((DA3:DA105=AP34)*(DD3:DD105=AP33)*(DF3:DF105="W"))+SUMPRODUCT((DA3:DA105=AP35)*(DD3:DD105=AP33)*(DF3:DF105="W"))+SUMPRODUCT((DA3:DA105=AP32)*(DD3:DD105=AP33)*(DF3:DF105="W")) -> 0 | AR33: =SUMPRODUCT((DA3:DA105=AP33)*(DD3:DD105=AP34)*(DE3:DE105="D"))+SUMPRODUCT((DA3:DA105=AP33)*(DD3:DD105=AP35)*(DE3:DE105="D"))+SUMPRODUCT((DA3:DA105=AP33)*(DD3:DD105=AP32)*(DE3:DE105="D"))+SUMPRODUCT((DA3:DA105=AP34)*(DD3:DD105=AP33)*(DE3:DE105="D"))+SUMPRODUCT((DA3:DA105=AP35)*(DD3:DD105=AP33)*(DE3:DE105="D"))+SUMPRODUCT((DA3:DA105=AP32)*(DD3:DD105=AP33)*(DE3:DE105="D")) -> 0 | AS33: =SUMPRODUCT((DA3:DA105=AP33)*(DD3:DD105=AP34)*(DE3:DE105="L"))+SUMPRODUCT((DA3:DA105=AP33)*(DD3:DD105=AP35)*(DE3:DE105="L"))+SUMPRODUCT((DA3:DA105=AP33)*(DD3:DD105=AP32)*(DE3:DE105="L"))+SUMPRODUCT((DA3:DA105=AP34)*(DD3:DD105=AP33)*(DF3:DF105="L"))+SUMPRODUCT((DA3:DA105=AP35)*(DD3:DD105=AP33)*(DF3:DF105="L"))+SUMPRODUCT((DA3:DA105=AP32)*(DD3:DD105=AP33)*(DF3:DF105="L")) -> 0 | AT33: =SUMPRODUCT((DA3:DA105=AP33)*(DD3:DD105=AP34)*DB3:DB105)+SUMPRODUCT((DA3:DA105=AP33)*(DD3:DD105=AP35)*DB3:DB105)+SUMPRODUCT((DA3:DA105=AP33)*(DD3:DD105=AP31)*DB3:DB105)+SUMPRODUCT((DA3:DA105=AP33)*(DD3:DD105=AP32)*DB3:DB105)+SUMPRODUCT((DA3:DA105=AP34)*(DD3:DD105=AP33)*DC3:DC105)+SUMPRODUCT((DA3:DA105=AP35)*(DD3:DD105=AP33)*DC3:DC105)+SUMPRODUCT((DA3:DA105=AP31)*(DD3:DD105=AP33)*DC3:DC105)+SUMPRODUCT((DA3:DA105=AP32)*(DD3:DD105=AP33)*DC3:DC105) -> 0 | AU33: =SUMPRODUCT((DA3:DA105=AP33)*(DD3:DD105=AP34)*DC3:DC105)+SUMPRODUCT((DA3:DA105=AP33)*(DD3:DD105=AP35)*DC3:DC105)+SUMPRODUCT((DA3:DA105=AP33)*(DD3:DD105=AP31)*DC3:DC105)+SUMPRODUCT((DA3:DA105=AP33)*(DD3:DD105=AP32)*DC3:DC105)+SUMPRODUCT((DA3:DA105=AP34)*(DD3:DD105=AP33)*DB3:DB105)+SUMPRODUCT((DA3:DA105=AP35)*(DD3:DD105=AP33)*DB3:DB105)+SUMPRODUCT((DA3:DA105=AP31)*(DD3:DD105=AP33)*DB3:DB105)+SUMPRODUCT((DA3:DA105=AP32)*(DD3:DD105=AP33)*DB3:DB105) -> 0 | AV33: =AT33-AU33+1000 -> 1000 | AW33: =IF(AP33<>"",AQ33*3+AR33*1,"") | AX33: =IF(AP33<>"",VLOOKUP(AP33,C4:I52,7,FALSE),"") | AY33: =IF(AP33<>"",VLOOKUP(AP33,C4:I52,5,FALSE),"") | AZ33: =IF(AP33<>"",VLOOKUP(AP33,C4:K52,9,FALSE),"") | BA33: =AW33 | BB33: =IF(AP33<>"",RANK(BA33,BA31:BA35),"") | BC33: =IF(AP33<>"",SUMPRODUCT((BA31:BA35=BA33)*(AV31:AV35>AV33)),"") | BD33: =IF(AP33<>"",SUMPRODUCT((BA31:BA35=BA33)*(AV31:AV35=AV33)*(AT31:AT35>AT33)),"") | BE33: =IF(AP33<>"",SUMPRODUCT((BA31:BA35=BA33)*(AV31:AV35=AV33)*(AT31:AT35=AT33)*(AX31:AX35>AX33)),"") | BF33: =IF(AP33<>"",SUMPRODUCT((BA31:BA35=BA33)*(AV31:AV35=AV33)*(AT31:AT35=AT33)*(AX31:AX35=AX33)*(AY31:AY35>AY33)),"") | BG33: =IF(AP33<>"",SUMPRODUCT((BA31:BA35=BA33)*(AV31:AV35=AV33)*(AT31:AT35=AT33)*(AX31:AX35=AX33)*(AY31:AY35=AY33)*(AZ31:AZ35>AZ33)),"") | BH33: =IF(AP33<>"",IF(BH112<>"",IF(AO109=3,BH112,BH112+AO109),SUM(BB33:BG33)+1),"") | BI33: =IF(AP33<>"",INDEX(AP32:AP35,MATCH(3,BH32:BH35,0),0),"") | BJ33: =IF(S31<>"",S31,"") | BK33: =SUMPRODUCT((DA3:DA105=BJ33)*(DD3:DD105=BJ34)*(DE3:DE105="W"))+SUMPRODUCT((DA3:DA105=BJ33)*(DD3:DD105=BJ35)*(DE3:DE105="W"))+SUMPRODUCT((DA3:DA105=BJ33)*(DD3:DD105=BJ36)*(DE3:DE105="W"))+SUMPRODUCT((DA3:DA105=BJ34)*(DD3:DD105=BJ33)*(DF3:DF105="W"))+SUMPRODUCT((DA3:DA105=BJ35)*(DD3:DD105=BJ33)*(DF3:DF105="W"))+SUMPRODUCT((DA3:DA105=BJ36)*(DD3:DD105=BJ33)*(DF3:DF105="W")) -> 0 | BL33: =SUMPRODUCT((DA3:DA105=BJ33)*(DD3:DD105=BJ34)*(DE3:DE105="D"))+SUMPRODUCT((DA3:DA105=BJ33)*(DD3:DD105=BJ35)*(DE3:DE105="D"))+SUMPRODUCT((DA3:DA105=BJ33)*(DD3:DD105=BJ36)*(DE3:DE105="D"))+SUMPRODUCT((DA3:DA105=BJ34)*(DD3:DD105=BJ33)*(DE3:DE105="D"))+SUMPRODUCT((DA3:DA105=BJ35)*(DD3:DD105=BJ33)*(DE3:DE105="D"))+SUMPRODUCT((DA3:DA105=BJ36)*(DD3:DD105=BJ33)*(DE3:DE105="D")) -> 0 | BM33: =SUMPRODUCT((DA3:DA105=BJ33)*(DD3:DD105=BJ34)*(DE3:DE105="L"))+SUMPRODUCT((DA3:DA105=BJ33)*(DD3:DD105=BJ35)*(DE3:DE105="L"))+SUMPRODUCT((DA3:DA105=BJ33)*(DD3:DD105=BJ36)*(DE3:DE105="L"))+SUMPRODUCT((DA3:DA105=BJ34)*(DD3:DD105=BJ33)*(DF3:DF105="L"))+SUMPRODUCT((DA3:DA105=BJ35)*(DD3:DD105=BJ33)*(DF3:DF105="L"))+SUMPRODUCT((DA3:DA105=BJ36)*(DD3:DD105=BJ33)*(DF3:DF105="L")) -> 0 | BN33: =SUMPRODUCT((DA3:DA105=BJ33)*(DD3:DD105=BJ34)*DB3:DB105)+SUMPRODUCT((DA3:DA105=BJ33)*(DD3:DD105=BJ35)*DB3:DB105)+SUMPRODUCT((DA3:DA105=BJ33)*(DD3:DD105=BJ31)*DB3:DB105)+SUMPRODUCT((DA3:DA105=BJ33)*(DD3:DD105=BJ32)*DB3:DB105)+SUMPRODUCT((DA3:DA105=BJ34)*(DD3:DD105=BJ33)*DC3:DC105)+SUMPRODUCT((DA3:DA105=BJ35)*(DD3:DD105=BJ33)*DC3:DC105)+SUMPRODUCT((DA3:DA105=BJ31)*(DD3:DD105=BJ33)*DC3:DC105)+SUMPRODUCT((DA3:DA105=BJ32)*(DD3:DD105=BJ33)*DC3:DC105) -> 0 | BO33: =SUMPRODUCT((DA3:DA105=BJ33)*(DD3:DD105=BJ34)*DC3:DC105)+SUMPRODUCT((DA3:DA105=BJ33)*(DD3:DD105=BJ35)*DC3:DC105)+SUMPRODUCT((DA3:DA105=BJ33)*(DD3:DD105=BJ31)*DC3:DC105)+SUMPRODUCT((DA3:DA105=BJ33)*(DD3:DD105=BJ32)*DC3:DC105)+SUMPRODUCT((DA3:DA105=BJ34)*(DD3:DD105=BJ33)*DB3:DB105)+SUMPRODUCT((DA3:DA105=BJ35)*(DD3:DD105=BJ33)*DB3:DB105)+SUMPRODUCT((DA3:DA105=BJ31)*(DD3:DD105=BJ33)*DB3:DB105)+SUMPRODUCT((DA3:DA105=BJ32)*(DD3:DD105=BJ33)*DB3:DB105) -> 0 | BP33: =BN33-BO33+1000 -> 1000 | BQ33: =IF(BJ33<>"",BK33*3+BL33*1,"") | BR33: =IF(BJ33<>"",VLOOKUP(BJ33,C4:I52,7,FALSE),"") | BS33: =IF(BJ33<>"",VLOOKUP(BJ33,C4:I52,5,FALSE),"") | BT33: =IF(BJ33<>"",VLOOKUP(BJ33,C4:K52,9,FALSE),"") | BU33: =BQ33 | BV33: =IF(BJ33<>"",RANK(BU33,BU32:BU35),"") | BW33: =IF(BJ33<>"",SUMPRODUCT((BU31:BU35=BU33)*(BP31:BP35>BP33)),"") | BX33: =IF(BJ33<>"",SUMPRODUCT((BU31:BU35=BU33)*(BP31:BP35=BP33)*(BN31:BN35>BN33)),"") | BY33: =IF(BJ33<>"",SUMPRODUCT((BU31:BU35=BU33)*(BP31:BP35=BP33)*(BN31:BN35=BN33)*(BR31:BR35>BR33)),"") | BZ33: =IF(BJ33<>"",SUMPRODUCT((BU31:BU35=BU33)*(BP31:BP35=BP33)*(BN31:BN35=BN33)*(BR31:BR35=BR33)*(BS31:BS35>BS33)),"") | CA33: =IF(BJ33<>"",SUMPRODUCT((BU31:BU35=BU33)*(BP31:BP35=BP33)*(BN31:BN35=BN33)*(BR31:BR35=BR33)*(BS31:BS35=BS33)*(BT31:BT35>BT33)),"") | CB33: =IF(BJ33<>"",SUM(BV33:CA33)+2,"") | CC33: =IF(BJ33<>"",INDEX(BJ33:BJ35,MATCH(3,CB33:CB35,0),0),"") | CX33: =IF(CC33<>"",CC33,IF(BI33<>"",BI33,IF(AO33<>"",AO33,O33))) -> Cote D'Voire | CY33: 3 | CZ33: 31 | DA33: =Matches!F38 -> Türkiye | DB33: =IF(DA2<>"",IF(AND(Matches!H38<>"",Matches!I38<>""),Matches!H38,0),"") -> 0 | DC33: =IF(DA2<>"",IF(AND(Matches!H38<>"",Matches!I38<>""),Matches!I38,0),"") -> 0 | DD33: =Matches!K38 -> Paraguay | DE33: =IF(AND(Matches!H38<>"",Matches!I38<>""),IF(DB33>DC33,"W",IF(DB33=DC33,"D","L")),"") | DF33: =IF(DE33<>"",IF(DE33="W","L",IF(DE33="L","W","D")),"")
