Workbook
Name CurrentRound: Matches!$A$7
Name Donation: 'Player List'!$H$5
Name JackPot: 'Player List'!$H$7
Name KOTeam3: Matches!$F$99:$K$112
Name KOTeams: Matches!$F$83:$K$114
Name Players: 'Pick Board'!$A$6
Name Qualified: Matches!$B$99:$B$115
Name Round1: Matches!$O$8:$O$31
Name Round2: Matches!$O$32:$O$55
Name Round3: Matches!$O$56:$O$79
Name Round4: Matches!$O$83:$O$98
Name Round5: Matches!$O$99:$O$106
Name Round6: Matches!$O$107:$O$110
Name Round7: Matches!$O$111:$O$112
Name Round8: Matches!$O$113:$O$114
Name TeamParticipant: Setup!$D$6:$D$53

Sheet Setup
B3: TOURNAMENT SETUP | J3: Click here Purchase A Fully Editable Spreadsheet for 100 Players. Compatible with Google Sheets
B5: G | C5: No | D5: Team | E5: FIFA Rank | F5: Fair Play Points | J5: ● You may translate team name to your language in column D. Retype other texts in Game Board worksheet to translate it to your language
B6: A | C6: 1 | D6: Mexico | E6: 16 | J6: World Cup 2026 Group Tiebreaker Policy
B7: A | C7: 2 | D7: South Africa | E7: 60
B8: A | C8: 3 | D8: Korea Republic | E8: 22 | L8: OFFICIAL | M8: GAME ACTUAL RESULTS | N8: GAME PREDICTION RESULTS
B9: A | C9: 4 | D9: Czechia | E9: 43 | J9: The ranking of teams in the group stage is determined as follows:
B10: B | C10: =C6 -> 1 | D10: Canada | E10: 29 | J10: 1 | K10: Points obtained in all group matches; | L10: v | M10: v | N10: v
B11: B | C11: =C7 -> 2 | D11: Bosnia and Herzegovina | E11: 71 | J11: 2 | K11: Points obtained in the matches played between the teams in question; | L11: v | M11: v | N11: v
B12: B | C12: =C8 -> 3 | D12: Qatar | E12: 56 | J12: 3 | K12: Goal difference in the matches played between the teams in question; | L12: v | M12: v | N12: v
B13: B | C13: =C9 -> 4 | D13: Switzerland | E13: 18 | J13: 4 | K13: Number of goals scored in the matches played between the teams in question; | L13: v | M13: v | N13: v
B14: C | C14: =C10 -> 1 | D14: Brazil | E14: 5 | J14: 5 | K14: If, after having applied criteria 1 to 3, teams still have an equal ranking, criteria 2 to 4 are reapplied exclusively to the matches between the teams who are still level to determine their final rankings.[a] If this procedure does not lead to a decision, criteria 6 to 9 will apply; | L14: v | M14: v | N14: v
B15: C | C15: =C11 -> 2 | D15: Morocco | E15: 8 | J15: 6 | K15: Goal difference in all group matches; | L15: v | M15: v | N15: v
B16: C | C16: =C12 -> 3 | D16: Haiti | E16: 83 | J16: 7 | K16: Number of goals scored in all group matches; | L16: v | M16: v | N16: v
B17: C | C17: =C13 -> 4 | D17: Scotland | E17: 38 | J17: 8 | K17: Fair play points in all group matches | L17: v | M17: v* | N17: x***
B18: D | C18: =C14 -> 1 | D18: USA | E18: 15 | K18: > Yellow card: −1 point;
B19: D | C19: =C15 -> 2 | D19: Paraguay | E19: 40 | K19: > Indirect red card (second yellow card): −3 points;
B20: D | C20: =C16 -> 3 | D20: Australia | E20: 27 | K20: > Direct red card: −4 points;
B21: D | C21: =C17 -> 4 | D21: Türkiye | E21: 25 | K21: > Yellow card and direct red card: −5 points;
B22: E | C22: =C18 -> 1 | D22: Germany | E22: 10 | J22: 9 | K22: Better position in the most recent FIFA Men's World Ranking; | L22: v | M22: x** | N22: x****
B23: E | C23: =C19 -> 2 | D23: Curacao | E23: 81
B24: E | C24: =C20 -> 3 | D24: Cote D'Voire | E24: 37 | J24: NOTES
B25: E | C25: =C21 -> 4 | D25: Ecuador | E25: 23 | J25: * | K25: FILL FAIR PLAY POINTS between the teams concerned in COLUMN D to differentiate their standings (example, -1 and -4). If it is leaved empty, they will be ranked based on FIFA World Ranking points
B26: F | C26: =C22 -> 1 | D26: Netherlands | E26: 7 | J26: ** | K26: If, it has to go through tie-breaker No 9 to decide group winner and runner up, you change it by overwriting it in Player Game Board table in cell F60:I67
B27: F | C27: =C23 -> 2 | D27: Japan | E27: 19 | J27: *** | K27: There is no needs to differentiate team standings based on fair play points. Players can adjust their prediction scores to get one team rank upper than the other.
B28: F | C28: =C24 -> 3 | D28: Sweden | E28: 42 | J28: **** | K28: There is no needs to differentiate team standings based on drawing of lots. Players can adjust their prediction scores to get one team rank upper than the other.
B29: F | C29: =C25 -> 4 | D29: Tunisia | E29: 47 | K29: FIFA World Men's Ranking
B30: G | C30: =C26 -> 1 | D30: Belgium | E30: 9
B31: G | C31: =C27 -> 2 | D31: Egypt | E31: 31 | J31: Game Regulation
B32: G | C32: =C28 -> 3 | D32: Iran | E32: 20 | J32: ☑ | K32: Player can pick ONE TEAM that will win the match in each round
B33: G | C33: =C29 -> 4 | D33: New Zealand | E33: 85 | J33: ☑ | K33: Player CAN'T PICK SIMILAR TEAM in each rounds
B34: H | C34: =C30 -> 1 | D34: Spain | E34: 1 | J34: ☑ | K34: Player will be ELIMINATED if their CHOSEN TEAMS ARE NOT WINNING
B35: H | C35: =C31 -> 2 | D35: Cabo Verde | E35: 67 | J35: ☑ | K35: Game winner is THE LAST PLAYER who stay alive in this game
B36: H | C36: =C32 -> 3 | D36: Saudi Arabia | E36: 61
B37: H | C37: =C33 -> 4 | D37: Uruguay | E37: 17 | J37: How to Use
B38: I | C38: =C34 -> 1 | D38: France | E38: 3 | J38: 1 | K38: Type Player Name
B39: I | C39: =C35 -> 2 | D39: Senegal | E39: 12 | K39: Go to Pick Board Worksheet
B40: I | C40: =C36 -> 3 | D40: Iraq | E40: 58 | K40: > Type player name in player name column. Player name must be unique. Differentiate player name if there are similar player name (add 1, A or others)
B41: I | C41: =C37 -> 4 | D41: Norway | E41: 32
B42: J | C42: =C38 -> 1 | D42: Argentina | E42: 2 | J42: 2 | K42: Pick Team Winner
B43: J | C43: =C39 -> 2 | D43: Algeria | E43: 28 | K43: Go to Pick Board Worksheet
...

Sheet Dummy
B1: 0 | AH1: Rule
K2: dicek lagi ranking dunia ditaruh di A | V2: table rank 1 | AH2: 1 | AI2: 2 | AJ2: 3 | AK2: 5 | AL2: 6 | AM2: 9 | AP2: table rank 2 | BJ2: table rank 3 | CD2: table rank 4 | DA2: =INDEX(Matches!E8:E115,MATCH(105,Matches!C8:C115,0),0) -> 0 | DB2: GS | DC2: GA
D3: W | E3: D | F3: L | G3: GS | H3: GA | I3: Diff | J3: Points | K3: Rank | L3: rankall points | N3: rerank | Q3: rank 1 | R3: rank 2 | S3: rank 3 | T3: rank 4 | V3: Team | W3: W | X3: D | Y3: L | Z3: GS | AA3: GA | AB3: Diff | AC3: P | AD3: Sdif | AE3: SGS | AF3: Koef | AG3: Pts | AH3: R | AI3: GD | AJ3: GS | AK3: Sdiff | AL3: SGS | AM3: Koef | AN3: FR | AP3: Team | AQ3: W | AR3: D | AS3: L | AT3: GS | AU3: GA | AV3: Diff | AW3: P | AX3: Sdif | AY3: SGS | AZ3: Koef | BA3: Pts | BB3: R | BC3: GD | BD3: GS | BE3: Sdiff | BF3: SGS | BG3: Koef | BH3: FR | BJ3: Team | BK3: W | BL3: D | BM3: L | BN3: GS | BO3: GA | BP3: Diff | BQ3: P | BR3: Sdif | BS3: SGS | BT3: Koef | BU3: Pts | BV3: R | BW3: GD | BX3: GS | BY3: Sdif | BZ3: SGS | CA3: Koef | CB3: FR | CD3: Team | CE3: W | CF3: D | CG3: L | CH3: GS | CI3: GA | CJ3: Diff | CK3: P | CL3: Sdif | CM3: SGS | CN3: Koef | CO3: Pts | CP3: R | CQ3: GD | CR3: GS | CS3: Sdif | CT3: SGS | CU3: Koef | CV3: FR | CZ3: 1 | DA3: =Matches!F8 -> Mexico | DB3: =IF(DA2<>"",IF(AND(Matches!H8<>"",Matches!I8<>""),Matches!H8,0),"") -> 0 | DC3: =IF(DA2<>"",IF(AND(Matches!H8<>"",Matches!I8<>""),Matches!I8,0),"") -> 0 | DD3: =Matches!K8 -> South Africa | DE3: =IF(AND(Matches!H8<>"",Matches!I8<>""),IF(DB3>DC3,"W",IF(DB3=DC3,"D","L")),"") | DF3: =IF(DE3<>"",IF(DE3="W","L",IF(DE3="L","W","D")),"")
A4: =Setup!E6+100 -> 116 | B4: =VLOOKUP(C4,CX4:CY8,2,FALSE) -> 1 | C4: =Setup!D6 -> Mexico | D4: =SUMPRODUCT((DA3:DA105=C4)*(DE3:DE105="W"))+SUMPRODUCT((DD3:DD105=C4)*(DF3:DF105="W")) -> 0 | E4: =SUMPRODUCT((DA3:DA105=C4)*(DE3:DE105="D"))+SUMPRODUCT((DD3:DD105=C4)*(DF3:DF105="D")) -> 0 | F4: =SUMPRODUCT((DA3:DA105=C4)*(DE3:DE105="L"))+SUMPRODUCT((DD3:DD105=C4)*(DF3:DF105="L")) -> 0 | G4: =SUMIF(DA3:DA123,C4,DB3:DB123)+SUMIF(DD3:DD123,C4,DC3:DC123) -> 0 | H4: =SUMIF(DD3:DD123,C4,DB3:DB123)+SUMIF(DA3:DA123,C4,DC3:DC123) -> 0 | I4: =G4-H4+1000 -> 1000 | J4: =D4*3+E4*1 -> 0 | K4: =IF(Setup!F6<>"",Setup!F6,-A4) -> -116 | L4: =IF(COUNTIF(J4:J8,4)<>4,RANK(J4,J4:J8),J83) -> 1 | N4: =SUMPRODUCT((L4:L7=L4)*(K4:K7<K4))+L4 -> 4 | O4: =INDEX(C4:C8,MATCH(1,N4:N8,0),0) -> South Africa | P4: =INDEX(L4:L8,MATCH(O4,C4:C8,0),0) -> 1 | Q4: =IF(P5=1,O4,"") -> South Africa | R4: =IF(P6=2,O5,"") | S4: =IF(P7=3,O6,"") | T4: =IF(P8=4,O7,"") | V4: =IF(Q4<>"",Q4,"") -> South Africa | W4: =SUMPRODUCT((DA3:DA105=V4)*(DD3:DD105=V5)*(DE3:DE105="W"))+SUMPRODUCT((DA3:DA105=V4)*(DD3:DD105=V6)*(DE3:DE105="W"))+SUMPRODUCT((DA3:DA105=V4)*(DD3:DD105=V7)*(DE3:DE105="W"))+SUMPRODUCT((DA3:DA105=V4)*(DD3:DD105=V8)*(DE3:DE105="W"))+SUMPRODUCT((DA3:DA105=V5)*(DD3:DD105=V4)*(DF3:DF105="W"))+SUMPRODUCT((DA3:DA105=V6)*(DD3:DD105=V4)*(DF3:DF105="W"))+SUMPRODUCT((DA3:DA105=V7)*(DD3:DD105=V4)*(DF3:DF105="W"))+SUMPRODUCT((DA3:DA105=V8)*(DD3:DD105=V4)*(DF3:DF105="W")) -> 0 | X4: =SUMPRODUCT((DA3:DA105=V4)*(DD3:DD105=V5)*(DE3:DE105="D"))+SUMPRODUCT((DA3:DA105=V4)*(DD3:DD105=V6)*(DE3:DE105="D"))+SUMPRODUCT((DA3:DA105=V4)*(DD3:DD105=V7)*(DE3:DE105="D"))+SUMPRODUCT((DA3:DA105=V4)*(DD3:DD105=V8)*(DE3:DE105="D"))+SUMPRODUCT((DA3:DA105=V5)*(DD3:DD105=V4)*(DE3:DE105="D"))+SUMPRODUCT((DA3:DA105=V6)*(DD3:DD105=V4)*(DE3:DE105="D"))+SUMPRODUCT((DA3:DA105=V7)*(DD3:DD105=V4)*(DE3:DE105="D"))+SUMPRODUCT((DA3:DA105=V8)*(DD3:DD105=V4)*(DE3:DE105="D")) -> 0 | Y4: =SUMPRODUCT((DA3:DA105=V4)*(DD3:DD105=V5)*(DE3:DE105="L"))+SUMPRODUCT((DA3:DA105=V4)*(DD3:DD105=V6)*(DE3:DE105="L"))+SUMPRODUCT((DA3:DA105=V4)*(DD3:DD105=V7)*(DE3:DE105="L"))+SUMPRODUCT((DA3:DA105=V4)*(DD3:DD105=V8)*(DE3:DE105="L"))+SUMPRODUCT((DA3:DA105=V5)*(DD3:DD105=V4)*(DF3:DF105="L"))+SUMPRODUCT((DA3:DA105=V6)*(DD3:DD105=V4)*(DF3:DF105="L"))+SUMPRODUCT((DA3:DA105=V7)*(DD3:DD105=V4)*(DF3:DF105="L"))+SUMPRODUCT((DA3:DA105=V8)*(DD3:DD105=V4)*(DF3:DF105="L")) -> 0 | Z4: =SUMPRODUCT((DA3:DA105=V4)*(DD3:DD105=V5)*DB3:DB105)+SUMPRODUCT((DA3:DA105=V4)*(DD3:DD105=V6)*DB3:DB105)+SUMPRODUCT((DA3:DA105=V4)*(DD3:DD105=V7)*DB3:DB105)+SUMPRODUCT((DA3:DA105=V4)*(DD3:DD105=V8)*DB3:DB105)+SUMPRODUCT((DA3:DA105=V5)*(DD3:DD105=V4)*DC3:DC105)+SUMPRODUCT((DA3:DA105=V6)*(DD3:DD105=V4)*DC3:DC105)+SUMPRODUCT((DA3:DA105=V7)*(DD3:DD105=V4)*DC3:DC105)+SUMPRODUCT((DA3:DA105=V8)*(DD3:DD105=V4)*DC3:DC105) -> 0 | AA4: =SUMPRODUCT((DA3:DA105=V4)*(DD3:DD105=V5)*DC3:DC105)+SUMPRODUCT((DA3:DA105=V4)*(DD3:DD105=V6)*DC3:DC105)+SUMPRODUCT((DA3:DA105=V4)*(DD3:DD105=V7)*DC3:DC105)+SUMPRODUCT((DA3:DA105=V4)*(DD3:DD105=V8)*DC3:DC105)+SUMPRODUCT((DA3:DA105=V5)*(DD3:DD105=V4)*DB3:DB105)+SUMPRODUCT((DA3:DA105=V6)*(DD3:DD105=V4)*DB3:DB105)+SUMPRODUCT((DA3:DA105=V7)*(DD3:DD105=V4)*DB3:DB105)+SUMPRODUCT((DA3:DA105=V8)*(DD3:DD105=V4)*DB3:DB105) -> 0 | AB4: =Z4-AA4+1000 -> 1000 | AC4: =IF(V4<>"",W4*3+X4*1,"") -> 0 | AD4: =IF(V4<>"",VLOOKUP(V4,C4:I52,7,FALSE),"") -> 1000 | AE4: =IF(V4<>"",VLOOKUP(V4,C4:I52,5,FALSE),"") -> 0 | AF4: =IF(V4<>"",VLOOKUP(V4,C4:K52,9,FALSE),"") -> -160 | AG4: =AC4 -> 0 | AH4: =IF(V4<>"",RANK(AG4,AG4:AG8),"") -> 1 | AI4: =IF(V4<>"",SUMPRODUCT((AG4:AG8=AG4)*(AB4:AB8>AB4)),"") -> 0 | AJ4: =IF(V4<>"",SUMPRODUCT((AG4:AG8=AG4)*(AB4:AB8=AB4)*(Z4:Z8>Z4)),"") -> 0 | AK4: =IF(V4<>"",SUMPRODUCT((AG4:AG8=AG4)*(AB4:AB8=AB4)*(Z4:Z8=Z4)*(AD4:AD8>AD4)),"") -> 0 | AL4: =IF(V4<>"",SUMPRODUCT((AG4:AG8=AG4)*(AB4:AB8=AB4)*(Z4:Z8=Z4)*(AD4:AD8=AD4)*(AE4:AE8>AE4)),"") -> 0 | AM4: =IF(V4<>"",SUMPRODUCT((AG4:AG8=AG4)*(AB4:AB8=AB4)*(Z4:Z8=Z4)*(AD4:AD8=AD4)*(AE4:AE8=AE4)*(AF4:AF8>AF4)),"") -> 3 | AN4: =IF(V4<>"",IF(SUM(X4:X7)=12,SUM(AH4:AM4),IF(AN83<>"",IF(U82=3,AN83,AN83+U82),SUM(AH4:AM4))),"") -> 4 | AO4: =IF(V4<>"",INDEX(V4:V8,MATCH(1,AN4:AN8,0),0),"") -> Mexico | CX4: =IF(AO4<>"",AO4,O4) -> Mexico | CY4: 1 | CZ4: 2 | DA4: =Matches!F9 -> Korea Republic | DB4: =IF(DA2<>"",IF(AND(Matches!H9<>"",Matches!I9<>""),Matches!H9,0),"") -> 0 | DC4: =IF(DA2<>"",IF(AND(Matches!H9<>"",Matches!I9<>""),Matches!I9,0),"") -> 0 | DD4: =Matches!K9 -> Czechia | DE4: =IF(AND(Matches!H9<>"",Matches!I9<>""),IF(DB4>DC4,"W",IF(DB4=DC4,"D","L")),"") | DF4: =IF(DE4<>"",IF(DE4="W","L",IF(DE4="L","W","D")),"")
A5: =Setup!E7+100 -> 160 | B5: =VLOOKUP(C5,CX4:CY8,2,FALSE) -> 4 | C5: =Setup!D7 -> South Africa | D5: =SUMPRODUCT((DA3:DA105=C5)*(DE3:DE105="W"))+SUMPRODUCT((DD3:DD105=C5)*(DF3:DF105="W")) -> 0 | E5: =SUMPRODUCT((DA3:DA105=C5)*(DE3:DE105="D"))+SUMPRODUCT((DD3:DD105=C5)*(DF3:DF105="D")) -> 0 | F5: =SUMPRODUCT((DA3:DA105=C5)*(DE3:DE105="L"))+SUMPRODUCT((DD3:DD105=C5)*(DF3:DF105="L")) -> 0 | G5: =SUMIF(DA3:DA123,C5,DB3:DB123)+SUMIF(DD3:DD123,C5,DC3:DC123) -> 0 | H5: =SUMIF(DD3:DD123,C5,DB3:DB123)+SUMIF(DA3:DA123,C5,DC3:DC123) -> 0 | I5: =G5-H5+1000 -> 1000 | J5: =D5*3+E5*1 -> 0 | K5: =IF(Setup!F7<>"",Setup!F7,-A5) -> -160 | L5: =IF(COUNTIF(J4:J8,4)<>4,RANK(J5,J4:J8),J84) -> 1 | N5: =SUMPRODUCT((L4:L7=L5)*(K4:K7<K5))+L5 -> 1 | O5: =INDEX(C4:C8,MATCH(2,N4:N8,0),0) -> Czechia | P5: =INDEX(L4:L8,MATCH(O5,C4:C8,0),0) -> 1 | Q5: =IF(Q4<>"",O5,"") -> Czechia | R5: =IF(R4<>"",O6,"") | S5: =IF(S4<>"",O7,"") | T5: =IF(T4<>"",O8,"") | V5: =IF(Q5<>"",Q5,"") -> Czechia | W5: =SUMPRODUCT((DA3:DA105=V5)*(DD3:DD105=V6)*(DE3:DE105="W"))+SUMPRODUCT((DA3:DA105=V5)*(DD3:DD105=V7)*(DE3:DE105="W"))+SUMPRODUCT((DA3:DA105=V5)*(DD3:DD105=V8)*(DE3:DE105="W"))+SUMPRODUCT((DA3:DA105=V5)*(DD3:DD105=V4)*(DE3:DE105="W"))+SUMPRODUCT((DA3:DA105=V6)*(DD3:DD105=V5)*(DF3:DF105="W"))+SUMPRODUCT((DA3:DA105=V7)*(DD3:DD105=V5)*(DF3:DF105="W"))+SUMPRODUCT((DA3:DA105=V8)*(DD3:DD105=V5)*(DF3:DF105="W"))+SUMPRODUCT((DA3:DA105=V4)*(DD3:DD105=V5)*(DF3:DF105="W")) -> 0 | X5: =SUMPRODUCT((DA3:DA105=V5)*(DD3:DD105=V6)*(DE3:DE105="D"))+SUMPRODUCT((DA3:DA105=V5)*(DD3:DD105=V7)*(DE3:DE105="D"))+SUMPRODUCT((DA3:DA105=V5)*(DD3:DD105=V8)*(DE3:DE105="D"))+SUMPRODUCT((DA3:DA105=V5)*(DD3:DD105=V4)*(DE3:DE105="D"))+SUMPRODUCT((DA3:DA105=V6)*(DD3:DD105=V5)*(DE3:DE105="D"))+SUMPRODUCT((DA3:DA105=V7)*(DD3:DD105=V5)*(DE3:DE105="D"))+SUMPRODUCT((DA3:DA105=V8)*(DD3:DD105=V5)*(DE3:DE105="D"))+SUMPRODUCT((DA3:DA105=V4)*(DD3:DD105=V5)*(DE3:DE105="D")) -> 0 | Y5: =SUMPRODUCT((DA3:DA105=V5)*(DD3:DD105=V6)*(DE3:DE105="L"))+SUMPRODUCT((DA3:DA105=V5)*(DD3:DD105=V7)*(DE3:DE105="L"))+SUMPRODUCT((DA3:DA105=V5)*(DD3:DD105=V8)*(DE3:DE105="L"))+SUMPRODUCT((DA3:DA105=V5)*(DD3:DD105=V4)*(DE3:DE105="L"))+SUMPRODUCT((DA3:DA105=V6)*(DD3:DD105=V5)*(DF3:DF105="L"))+SUMPRODUCT((DA3:DA105=V7)*(DD3:DD105=V5)*(DF3:DF105="L"))+SUMPRODUCT((DA3:DA105=V8)*(DD3:DD105=V5)*(DF3:DF105="L"))+SUMPRODUCT((DA3:DA105=V4)*(DD3:DD105=V5)*(DF3:DF105="L")) -> 0 | Z5: =SUMPRODUCT((DA3:DA105=V5)*(DD3:DD105=V6)*DB3:DB105)+SUMPRODUCT((DA3:DA105=V5)*(DD3:DD105=V7)*DB3:DB105)+SUMPRODUCT((DA3:DA105=V5)*(DD3:DD105=V8)*DB3:DB105)+SUMPRODUCT((DA3:DA105=V5)*(DD3:DD105=V4)*DB3:DB105)+SUMPRODUCT((DA3:DA105=V6)*(DD3:DD105=V5)*DC3:DC105)+SUMPRODUCT((DA3:DA105=V7)*(DD3:DD105=V5)*DC3:DC105)+SUMPRODUCT((DA3:DA105=V8)*(DD3:DD105=V5)*DC3:DC105)+SUMPRODUCT((DA3:DA105=V4)*(DD3:DD105=V5)*DC3:DC105) -> 0 | AA5: =SUMPRODUCT((DA3:DA105=V5)*(DD3:DD105=V6)*DC3:DC105)+SUMPRODUCT((DA3:DA105=V5)*(DD3:DD105=V7)*DC3:DC105)+SUMPRODUCT((DA3:DA105=V5)*(DD3:DD105=V8)*DC3:DC105)+SUMPRODUCT((DA3:DA105=V5)*(DD3:DD105=V4)*DC3:DC105)+SUMPRODUCT((DA3:DA105=V6)*(DD3:DD105=V5)*DB3:DB105)+SUMPRODUCT((DA3:DA105=V7)*(DD3:DD105=V5)*DB3:DB105)+SUMPRODUCT((DA3:DA105=V8)*(DD3:DD105=V5)*DB3:DB105)+SUMPRODUCT((DA3:DA105=V4)*(DD3:DD105=V5)*DB3:DB105) -> 0 | AB5: =Z5-AA5+1000 -> 1000 | AC5: =IF(V5<>"",W5*3+X5*1,"") -> 0 | AD5: =IF(V5<>"",VLOOKUP(V5,C4:I52,7,FALSE),"") -> 1000 | AE5: =IF(V5<>"",VLOOKUP(V5,C4:I52,5,FALSE),"") -> 0 | AF5: =IF(V5<>"",VLOOKUP(V5,C4:K52,9,FALSE),"") -> -143 | AG5: =AC5 -> 0 | AH5: =IF(V5<>"",RANK(AG5,AG4:AG8),"") -> 1 | AI5: =IF(V5<>"",SUMPRODUCT((AG4:AG8=AG5)*(AB4:AB8>AB5)),"") -> 0 | AJ5: =IF(V5<>"",SUMPRODUCT((AG4:AG8=AG5)*(AB4:AB8=AB5)*(Z4:Z8>Z5)),"") -> 0 | AK5: =IF(V5<>"",SUMPRODUCT((AG4:AG8=AG5)*(AB4:AB8=AB5)*(Z4:Z8=Z5)*(AD4:AD8>AD5)),"") -> 0 | AL5: =IF(V5<>"",SUMPRODUCT((AG4:AG8=AG5)*(AB4:AB8=AB5)*(Z4:Z8=Z5)*(AD4:AD8=AD5)*(AE4:AE8>AE5)),"") -> 0 | AM5: =IF(V5<>"",SUMPRODUCT((AG4:AG8=AG5)*(AB4:AB8=AB5)*(Z4:Z8=Z5)*(AD4:AD8=AD5)*(AE4:AE8=AE5)*(AF4:AF8>AF5)),"") -> 2 | AN5: =IF(V5<>"",IF(SUM(X4:X7)=12,SUM(AH5:AM5),IF(AN84<>"",IF(U82=3,AN84,AN84+U82),SUM(AH5:AM5))),"") -> 3 | AO5: =IF(V5<>"",INDEX(V4:V8,MATCH(2,AN4:AN8,0),0),"") -> Korea Republic | AP5: =IF(R4<>"",R4,"") | AQ5: =SUMPRODUCT((DA3:DA105=AP5)*(DD3:DD105=AP6)*(DE3:DE105="W"))+SUMPRODUCT((DA3:DA105=AP5)*(DD3:DD105=AP7)*(DE3:DE105="W"))+SUMPRODUCT((DA3:DA105=AP5)*(DD3:DD105=AP8)*(DE3:DE105="W"))+SUMPRODUCT((DA3:DA105=AP6)*(DD3:DD105=AP5)*(DF3:DF105="W"))+SUMPRODUCT((DA3:DA105=AP7)*(DD3:DD105=AP5)*(DF3:DF105="W"))+SUMPRODUCT((DA3:DA105=AP8)*(DD3:DD105=AP5)*(DF3:DF105="W")) -> 0 | AR5: =SUMPRODUCT((DA3:DA105=AP5)*(DD3:DD105=AP6)*(DE3:DE105="D"))+SUMPRODUCT((DA3:DA105=AP5)*(DD3:DD105=AP7)*(DE3:DE105="D"))+SUMPRODUCT((DA3:DA105=AP5)*(DD3:DD105=AP8)*(DE3:DE105="D"))+SUMPRODUCT((DA3:DA105=AP6)*(DD3:DD105=AP5)*(DE3:DE105="D"))+SUMPRODUCT((DA3:DA105=AP7)*(DD3:DD105=AP5)*(DE3:DE105="D"))+SUMPRODUCT((DA3:DA105=AP8)*(DD3:DD105=AP5)*(DE3:DE105="D")) -> 0 | AS5: =SUMPRODUCT((DA3:DA105=AP5)*(DD3:DD105=AP6)*(DE3:DE105="L"))+SUMPRODUCT((DA3:DA105=AP5)*(DD3:DD105=AP7)*(DE3:DE105="L"))+SUMPRODUCT((DA3:DA105=AP5)*(DD3:DD105=AP8)*(DE3:DE105="L"))+SUMPRODUCT((DA3:DA105=AP6)*(DD3:DD105=AP5)*(DF3:DF105="L"))+SUMPRODUCT((DA3:DA105=AP7)*(DD3:DD105=AP5)*(DF3:DF105="L"))+SUMPRODUCT((DA3:DA105=AP8)*(DD3:DD105=AP5)*(DF3:DF105="L")) -> 0 | AT5: =SUMPRODUCT((DA3:DA105=AP5)*(DD3:DD105=AP6)*DB3:DB105)+SUMPRODUCT((DA3:DA105=AP5)*(DD3:DD105=AP7)*DB3:DB105)+SUMPRODUCT((DA3:DA105=AP5)*(DD3:DD105=AP8)*DB3:DB105)+SUMPRODUCT((DA3:DA105=AP5)*(DD3:DD105=AP4)*DB3:DB105)+SUMPRODUCT((DA3:DA105=AP6)*(DD3:DD105=AP5)*DC3:DC105)+SUMPRODUCT((DA3:DA105=AP7)*(DD3:DD105=AP5)*DC3:DC105)+SUMPRODUCT((DA3:DA105=AP8)*(DD3:DD105=AP5)*DC3:DC105)+SUMPRODUCT((DA3:DA105=AP4)*(DD3:DD105=AP5)*DC3:DC105) -> 0 | AU5: =SUMPRODUCT((DA3:DA105=AP5)*(DD3:DD105=AP6)*DC3:DC105)+SUMPRODUCT((DA3:DA105=AP5)*(DD3:DD105=AP7)*DC3:DC105)+SUMPRODUCT((DA3:DA105=AP5)*(DD3:DD105=AP8)*DC3:DC105)+SUMPRODUCT((DA3:DA105=AP5)*(DD3:DD105=AP4)*DC3:DC105)+SUMPRODUCT((DA3:DA105=AP6)*(DD3:DD105=AP5)*DB3:DB105)+SUMPRODUCT((DA3:DA105=AP7)*(DD3:DD105=AP5)*DB3:DB105)+SUMPRODUCT((DA3:DA105=AP8)*(DD3:DD105=AP5)*DB3:DB105)+SUMPRODUCT((DA3:DA105=AP4)*(DD3:DD105=AP5)*DB3:DB105) -> 0 | AV5: =AT5-AU5+1000 -> 1000 | AW5: =IF(AP5<>"",AQ5*3+AR5*1,"") | AX5: =IF(AP5<>"",VLOOKUP(AP5,C4:I52,7,FALSE),"") | AY5: =IF(AP5<>"",VLOOKUP(AP5,C4:I52,5,FALSE),"") | AZ5: =IF(AP5<>"",VLOOKUP(AP5,C4:K52,9,FALSE),"") | BA5: =AW5 | BB5: =IF(AP5<>"",RANK(BA5,BA4:BA8),"") | BC5: =IF(AP5<>"",SUMPRODUCT((BA4:BA8=BA5)*(AV4:AV8>AV5)),"") | BD5: =IF(AP5<>"",SUMPRODUCT((BA4:BA8=BA5)*(AV4:AV8=AV5)*(AT4:AT8>AT5)),"") | BE5: =IF(AP5<>"",SUMPRODUCT((BA4:BA8=BA5)*(AV4:AV8=AV5)*(AT4:AT8=AT5)*(AX4:AX8>AX5)),"") | BF5: =IF(AP5<>"",SUMPRODUCT((BA4:BA8=BA5)*(AV4:AV8=AV5)*(AT4:AT8=AT5)*(AX4:AX8=AX5)*(AY4:AY8>AY5)),"") | BG5: =IF(AP5<>"",SUMPRODUCT((BA4:BA8=BA5)*(AV4:AV8=AV5)*(AT4:AT8=AT5)*(AX4:AX8=AX5)*(AY4:AY8=AY5)*(AZ4:AZ8>AZ5)),"") | BH5: =IF(AP5<>"",IF(BH84<>"",IF(AO82=3,BH84,BH84+AO82),SUM(BB5:BG5)+1),"") | BI5: =IF(AP5<>"",INDEX(AP5:AP8,MATCH(2,BH5:BH8,0),0),"") | CX5: =IF(BI5<>"",BI5,IF(AO5<>"",AO5,O5)) -> Korea Republic | CY5: 2 | CZ5: 3 | DA5: =Matches!F10 -> Canada | DB5: =IF(DA2<>"",IF(AND(Matches!H10<>"",Matches!I10<>""),Matches!H10,0),"") -> 0 | DC5: =IF(DA2<>"",IF(AND(Matches!H10<>"",Matches!I10<>""),Matches!I10,0),"") -> 0 | DD5: =Matches!K10 -> Bosnia and Herzegovina | DE5: =IF(AND(Matches!H10<>"",Matches!I10<>""),IF(DB5>DC5,"W",IF(DB5=DC5,"D","L")),"") | DF5: =IF(DE5<>"",IF(DE5="W","L",IF(DE5="L","W","D")),"")
A6: =Setup!E8+100 -> 122 | B6: =VLOOKUP(C6,CX4:CY8,2,FALSE) -> 2 | C6: =Setup!D8 -> Korea Republic | D6: =SUMPRODUCT((DA3:DA105=C6)*(DE3:DE105="W"))+SUMPRODUCT((DD3:DD105=C6)*(DF3:DF105="W")) -> 0 | E6: =SUMPRODUCT((DA3:DA105=C6)*(DE3:DE105="D"))+SUMPRODUCT((DD3:DD105=C6)*(DF3:DF105="D")) -> 0 | F6: =SUMPRODUCT((DA3:DA105=C6)*(DE3:DE105="L"))+SUMPRODUCT((DD3:DD105=C6)*(DF3:DF105="L")) -> 0 | G6: =SUMIF(DA3:DA123,C6,DB3:DB123)+SUMIF(DD3:DD123,C6,DC3:DC123) -> 0 | H6: =SUMIF(DD3:DD123,C6,DB3:DB123)+SUMIF(DA3:DA123,C6,DC3:DC123) -> 0 | I6: =G6-H6+1000 -> 1000 | J6: =D6*3+E6*1 -> 0 | K6: =IF(Setup!F8<>"",Setup!F8,-A6) -> -122 | L6: =IF(COUNTIF(J4:J8,4)<>4,RANK(J6,J4:J8),J85) -> 1 | N6: =SUMPRODUCT((L4:L7=L6)*(K4:K7<K6))+L6 -> 3 | O6: =INDEX(C4:C8,MATCH(3,N4:N8,0),0) -> Korea Republic | P6: =INDEX(L4:L8,MATCH(O6,C4:C8,0),0) -> 1 | Q6: =IF(AND(Q5<>"",P6=1),O6,"") -> Korea Republic | R6: =IF(AND(R5<>"",P7=2),O7,"") | S6: =IF(AND(S5<>"",P8=3),O8,"") | V6: =IF(Q6<>"",Q6,"") -> Korea Republic | W6: =SUMPRODUCT((DA3:DA105=V6)*(DD3:DD105=V7)*(DE3:DE105="W"))+SUMPRODUCT((DA3:DA105=V6)*(DD3:DD105=V8)*(DE3:DE105="W"))+SUMPRODUCT((DA3:DA105=V6)*(DD3:DD105=V4)*(DE3:DE105="W"))+SUMPRODUCT((DA3:DA105=V6)*(DD3:DD105=V5)*(DE3:DE105="W"))+SUMPRODUCT((DA3:DA105=V7)*(DD3:DD105=V6)*(DF3:DF105="W"))+SUMPRODUCT((DA3:DA105=V8)*(DD3:DD105=V6)*(DF3:DF105="W"))+SUMPRODUCT((DA3:DA105=V4)*(DD3:DD105=V6)*(DF3:DF105="W"))+SUMPRODUCT((DA3:DA105=V5)*(DD3:DD105=V6)*(DF3:DF105="W")) -> 0 | X6: =SUMPRODUCT((DA3:DA105=V6)*(DD3:DD105=V7)*(DE3:DE105="D"))+SUMPRODUCT((DA3:DA105=V6)*(DD3:DD105=V8)*(DE3:DE105="D"))+SUMPRODUCT((DA3:DA105=V6)*(DD3:DD105=V4)*(DE3:DE105="D"))+SUMPRODUCT((DA3:DA105=V6)*(DD3:DD105=V5)*(DE3:DE105="D"))+SUMPRODUCT((DA3:DA105=V7)*(DD3:DD105=V6)*(DE3:DE105="D"))+SUMPRODUCT((DA3:DA105=V8)*(DD3:DD105=V6)*(DE3:DE105="D"))+SUMPRODUCT((DA3:DA105=V4)*(DD3:DD105=V6)*(DE3:DE105="D"))+SUMPRODUCT((DA3:DA105=V5)*(DD3:DD105=V6)*(DE3:DE105="D")) -> 0 | Y6: =SUMPRODUCT((DA3:DA105=V6)*(DD3:DD105=V7)*(DE3:DE105="L"))+SUMPRODUCT((DA3:DA105=V6)*(DD3:DD105=V8)*(DE3:DE105="L"))+SUMPRODUCT((DA3:DA105=V6)*(DD3:DD105=V4)*(DE3:DE105="L"))+SUMPRODUCT((DA3:DA105=V6)*(DD3:DD105=V5)*(DE3:DE105="L"))+SUMPRODUCT((DA3:DA105=V7)*(DD3:DD105=V6)*(DF3:DF105="L"))+SUMPRODUCT((DA3:DA105=V8)*(DD3:DD105=V6)*(DF3:DF105="L"))+SUMPRODUCT((DA3:DA105=V4)*(DD3:DD105=V6)*(DF3:DF105="L"))+SUMPRODUCT((DA3:DA105=V5)*(DD3:DD105=V6)*(DF3:DF105="L")) -> 0 | Z6: =SUMPRODUCT((DA3:DA105=V6)*(DD3:DD105=V7)*DB3:DB105)+SUMPRODUCT((DA3:DA105=V6)*(DD3:DD105=V8)*DB3:DB105)+SUMPRODUCT((DA3:DA105=V6)*(DD3:DD105=V4)*DB3:DB105)+SUMPRODUCT((DA3:DA105=V6)*(DD3:DD105=V5)*DB3:DB105)+SUMPRODUCT((DA3:DA105=V7)*(DD3:DD105=V6)*DC3:DC105)+SUMPRODUCT((DA3:DA105=V8)*(DD3:DD105=V6)*DC3:DC105)+SUMPRODUCT((DA3:DA105=V4)*(DD3:DD105=V6)*DC3:DC105)+SUMPRODUCT((DA3:DA105=V5)*(DD3:DD105=V6)*DC3:DC105) -> 0 | AA6: =SUMPRODUCT((DA3:DA105=V6)*(DD3:DD105=V7)*DC3:DC105)+SUMPRODUCT((DA3:DA105=V6)*(DD3:DD105=V8)*DC3:DC105)+SUMPRODUCT((DA3:DA105=V6)*(DD3:DD105=V4)*DC3:DC105)+SUMPRODUCT((DA3:DA105=V6)*(DD3:DD105=V5)*DC3:DC105)+SUMPRODUCT((DA3:DA105=V7)*(DD3:DD105=V6)*DB3:DB105)+SUMPRODUCT((DA3:DA105=V8)*(DD3:DD105=V6)*DB3:DB105)+SUMPRODUCT((DA3:DA105=V4)*(DD3:DD105=V6)*DB3:DB105)+SUMPRODUCT((DA3:DA105=V5)*(DD3:DD105=V6)*DB3:DB105) -> 0 | AB6: =Z6-AA6+1000 -> 1000 | AC6: =IF(V6<>"",W6*3+X6*1,"") -> 0 | AD6: =IF(V6<>"",VLOOKUP(V6,C4:I52,7,FALSE),"") -> 1000 | AE6: =IF(V6<>"",VLOOKUP(V6,C4:I52,5,FALSE),"") -> 0 | AF6: =IF(V6<>"",VLOOKUP(V6,C4:K52,9,FALSE),"") -> -122 | AG6: =AC6 -> 0 | AH6: =IF(V6<>"",RANK(AG6,AG4:AG8),"") -> 1 | AI6: =IF(V6<>"",SUMPRODUCT((AG4:AG8=AG6)*(AB4:AB8>AB6)),"") -> 0 | AJ6: =IF(V6<>"",SUMPRODUCT((AG4:AG8=AG6)*(AB4:AB8=AB6)*(Z4:Z8>Z6)),"") -> 0 | AK6: =IF(V6<>"",SUMPRODUCT((AG4:AG8=AG6)*(AB4:AB8=AB6)*(Z4:Z8=Z6)*(AD4:AD8>AD6)),"") -> 0 | AL6: =IF(V6<>"",SUMPRODUCT((AG4:AG8=AG6)*(AB4:AB8=AB6)*(Z4:Z8=Z6)*(AD4:AD8=AD6)*(AE4:AE8>AE6)),"") -> 0 | AM6: =IF(V6<>"",SUMPRODUCT((AG4:AG8=AG6)*(AB4:AB8=AB6)*(Z4:Z8=Z6)*(AD4:AD8=AD6)*(AE4:AE8=AE6)*(AF4:AF8>AF6)),"") -> 1 | AN6: =IF(V6<>"",IF(SUM(X4:X7)=12,SUM(AH6:AM6),IF(AN85<>"",IF(U82=3,AN85,AN85+U82),SUM(AH6:AM6))),"") -> 2 | AO6: =IF(V6<>"",INDEX(V4:V8,MATCH(3,AN4:AN8,0),0),"") -> Czechia | AP6: =IF(R5<>"",R5,"") | AQ6: =SUMPRODUCT((DA3:DA105=AP6)*(DD3:DD105=AP7)*(DE3:DE105="W"))+SUMPRODUCT((DA3:DA105=AP6)*(DD3:DD105=AP8)*(DE3:DE105="W"))+SUMPRODUCT((DA3:DA105=AP6)*(DD3:DD105=AP5)*(DE3:DE105="W"))+SUMPRODUCT((DA3:DA105=AP7)*(DD3:DD105=AP6)*(DF3:DF105="W"))+SUMPRODUCT((DA3:DA105=AP8)*(DD3:DD105=AP6)*(DF3:DF105="W"))+SUMPRODUCT((DA3:DA105=AP5)*(DD3:DD105=AP6)*(DF3:DF105="W")) -> 0 | AR6: =SUMPRODUCT((DA3:DA105=AP6)*(DD3:DD105=AP7)*(DE3:DE105="D"))+SUMPRODUCT((DA3:DA105=AP6)*(DD3:DD105=AP8)*(DE3:DE105="D"))+SUMPRODUCT((DA3:DA105=AP6)*(DD3:DD105=AP5)*(DE3:DE105="D"))+SUMPRODUCT((DA3:DA105=AP7)*(DD3:DD105=AP6)*(DE3:DE105="D"))+SUMPRODUCT((DA3:DA105=AP8)*(DD3:DD105=AP6)*(DE3:DE105="D"))+SUMPRODUCT((DA3:DA105=AP5)*(DD3:DD105=AP6)*(DE3:DE105="D")) -> 0 | AS6: =SUMPRODUCT((DA3:DA105=AP6)*(DD3:DD105=AP7)*(DE3:DE105="L"))+SUMPRODUCT((DA3:DA105=AP6)*(DD3:DD105=AP8)*(DE3:DE105="L"))+SUMPRODUCT((DA3:DA105=AP6)*(DD3:DD105=AP5)*(DE3:DE105="L"))+SUMPRODUCT((DA3:DA105=AP7)*(DD3:DD105=AP6)*(DF3:DF105="L"))+SUMPRODUCT((DA3:DA105=AP8)*(DD3:DD105=AP6)*(DF3:DF105="L"))+SUMPRODUCT((DA3:DA105=AP5)*(DD3:DD105=AP6)*(DF3:DF105="L")) -> 0 | AT6: =SUMPRODUCT((DA3:DA105=AP6)*(DD3:DD105=AP7)*DB3:DB105)+SUMPRODUCT((DA3:DA105=AP6)*(DD3:DD105=AP8)*DB3:DB105)+SUMPRODUCT((DA3:DA105=AP6)*(DD3:DD105=AP4)*DB3:DB105)+SUMPRODUCT((DA3:DA105=AP6)*(DD3:DD105=AP5)*DB3:DB105)+SUMPRODUCT((DA3:DA105=AP7)*(DD3:DD105=AP6)*DC3:DC105)+SUMPRODUCT((DA3:DA105=AP8)*(DD3:DD105=AP6)*DC3:DC105)+SUMPRODUCT((DA3:DA105=AP4)*(DD3:DD105=AP6)*DC3:DC105)+SUMPRODUCT((DA3:DA105=AP5)*(DD3:DD105=AP6)*DC3:DC105) -> 0 | AU6: =SUMPRODUCT((DA3:DA105=AP6)*(DD3:DD105=AP7)*DC3:DC105)+SUMPRODUCT((DA3:DA105=AP6)*(DD3:DD105=AP8)*DC3:DC105)+SUMPRODUCT((DA3:DA105=AP6)*(DD3:DD105=AP4)*DC3:DC105)+SUMPRODUCT((DA3:DA105=AP6)*(DD3:DD105=AP5)*DC3:DC105)+SUMPRODUCT((DA3:DA105=AP7)*(DD3:DD105=AP6)*DB3:DB105)+SUMPRODUCT((DA3:DA105=AP8)*(DD3:DD105=AP6)*DB3:DB105)+SUMPRODUCT((DA3:DA105=AP4)*(DD3:DD105=AP6)*DB3:DB105)+SUMPRODUCT((DA3:DA105=AP5)*(DD3:DD105=AP6)*DB3:DB105) -> 0 | AV6: =AT6-AU6+1000 -> 1000 | AW6: =IF(AP6<>"",AQ6*3+AR6*1,"") | AX6: =IF(AP6<>"",VLOOKUP(AP6,C4:I52,7,FALSE),"") | AY6: =IF(AP6<>"",VLOOKUP(AP6,C4:I52,5,FALSE),"") | AZ6: =IF(AP6<>"",VLOOKUP(AP6,C4:K52,9,FALSE),"") | BA6: =AW6 | BB6: =IF(AP6<>"",RANK(BA6,BA4:BA8),"") | BC6: =IF(AP6<>"",SUMPRODUCT((BA4:BA8=BA6)*(AV4:AV8>AV6)),"") | BD6: =IF(AP6<>"",SUMPRODUCT((BA4:BA8=BA6)*(AV4:AV8=AV6)*(AT4:AT8>AT6)),"") | BE6: =IF(AP6<>"",SUMPRODUCT((BA4:BA8=BA6)*(AV4:AV8=AV6)*(AT4:AT8=AT6)*(AX4:AX8>AX6)),"") | BF6: =IF(AP6<>"",SUMPRODUCT((BA4:BA8=BA6)*(AV4:AV8=AV6)*(AT4:AT8=AT6)*(AX4:AX8=AX6)*(AY4:AY8>AY6)),"") | BG6: =IF(AP6<>"",SUMPRODUCT((BA4:BA8=BA6)*(AV4:AV8=AV6)*(AT4:AT8=AT6)*(AX4:AX8=AX6)*(AY4:AY8=AY6)*(AZ4:AZ8>AZ6)),"") | BH6: =IF(AP6<>"",IF(BH85<>"",IF(AO82=3,BH85,BH85+AO82),SUM(BB6:BG6)+1),"") | BI6: =IF(AP6<>"",INDEX(AP5:AP8,MATCH(3,BH5:BH8,0),0),"") | BJ6: =IF(S4<>"",S4,"") | BK6: =SUMPRODUCT((DA3:DA105=BJ6)*(DD3:DD105=BJ7)*(DE3:DE105="W"))+SUMPRODUCT((DA3:DA105=BJ6)*(DD3:DD105=BJ8)*(DE3:DE105="W"))+SUMPRODUCT((DA3:DA105=BJ6)*(DD3:DD105=BJ9)*(DE3:DE105="W"))+SUMPRODUCT((DA3:DA105=BJ7)*(DD3:DD105=BJ6)*(DF3:DF105="W"))+SUMPRODUCT((DA3:DA105=BJ8)*(DD3:DD105=BJ6)*(DF3:DF105="W"))+SUMPRODUCT((DA3:DA105=BJ9)*(DD3:DD105=BJ6)*(DF3:DF105="W")) -> 0 | BL6: =SUMPRODUCT((DA3:DA105=BJ6)*(DD3:DD105=BJ7)*(DE3:DE105="D"))+SUMPRODUCT((DA3:DA105=BJ6)*(DD3:DD105=BJ8)*(DE3:DE105="D"))+SUMPRODUCT((DA3:DA105=BJ6)*(DD3:DD105=BJ9)*(DE3:DE105="D"))+SUMPRODUCT((DA3:DA105=BJ7)*(DD3:DD105=BJ6)*(DE3:DE105="D"))+SUMPRODUCT((DA3:DA105=BJ8)*(DD3:DD105=BJ6)*(DE3:DE105="D"))+SUMPRODUCT((DA3:DA105=BJ9)*(DD3:DD105=BJ6)*(DE3:DE105="D")) -> 0 | BM6: =SUMPRODUCT((DA3:DA105=BJ6)*(DD3:DD105=BJ7)*(DE3:DE105="L"))+SUMPRODUCT((DA3:DA105=BJ6)*(DD3:DD105=BJ8)*(DE3:DE105="L"))+SUMPRODUCT((DA3:DA105=BJ6)*(DD3:DD105=BJ9)*(DE3:DE105="L"))+SUMPRODUCT((DA3:DA105=BJ7)*(DD3:DD105=BJ6)*(DF3:DF105="L"))+SUMPRODUCT((DA3:DA105=BJ8)*(DD3:DD105=BJ6)*(DF3:DF105="L"))+SUMPRODUCT((DA3:DA105=BJ9)*(DD3:DD105=BJ6)*(DF3:DF105="L")) -> 0 | BN6: =SUMPRODUCT((DA3:DA105=BJ6)*(DD3:DD105=BJ7)*DB3:DB105)+SUMPRODUCT((DA3:DA105=BJ6)*(DD3:DD105=BJ8)*DB3:DB105)+SUMPRODUCT((DA3:DA105=BJ6)*(DD3:DD105=BJ4)*DB3:DB105)+SUMPRODUCT((DA3:DA105=BJ6)*(DD3:DD105=BJ5)*DB3:DB105)+SUMPRODUCT((DA3:DA105=BJ7)*(DD3:DD105=BJ6)*DC3:DC105)+SUMPRODUCT((DA3:DA105=BJ8)*(DD3:DD105=BJ6)*DC3:DC105)+SUMPRODUCT((DA3:DA105=BJ4)*(DD3:DD105=BJ6)*DC3:DC105)+SUMPRODUCT((DA3:DA105=BJ5)*(DD3:DD105=BJ6)*DC3:DC105) -> 0 | BO6: =SUMPRODUCT((DA3:DA105=BJ6)*(DD3:DD105=BJ7)*DC3:DC105)+SUMPRODUCT((DA3:DA105=BJ6)*(DD3:DD105=BJ8)*DC3:DC105)+SUMPRODUCT((DA3:DA105=BJ6)*(DD3:DD105=BJ4)*DC3:DC105)+SUMPRODUCT((DA3:DA105=BJ6)*(DD3:DD105=BJ5)*DC3:DC105)+SUMPRODUCT((DA3:DA105=BJ7)*(DD3:DD105=BJ6)*DB3:DB105)+SUMPRODUCT((DA3:DA105=BJ8)*(DD3:DD105=BJ6)*DB3:DB105)+SUMPRODUCT((DA3:DA105=BJ4)*(DD3:DD105=BJ6)*DB3:DB105)+SUMPRODUCT((DA3:DA105=BJ5)*(DD3:DD105=BJ6)*DB3:DB105) -> 0 | BP6: =BN6-BO6+1000 -> 1000 | BQ6: =IF(BJ6<>"",BK6*3+BL6*1,"") | BR6: =IF(BJ6<>"",VLOOKUP(BJ6,C4:I52,7,FALSE),"") | BS6: =IF(BJ6<>"",VLOOKUP(BJ6,C4:I52,5,FALSE),"") | BT6: =IF(BJ6<>"",VLOOKUP(BJ6,C4:K52,9,FALSE),"") | BU6: =BQ6 | BV6: =IF(BJ6<>"",RANK(BU6,BU4:BU8),"") | BW6: =IF(BJ6<>"",SUMPRODUCT((BU4:BU8=BU6)*(BP4:BP8>BP6)),"") | BX6: =IF(BJ6<>"",SUMPRODUCT((BU4:BU8=BU6)*(BP4:BP8=BP6)*(BN4:BN8>BN6)),"") | BY6: =IF(BJ6<>"",SUMPRODUCT((BU4:BU8=BU6)*(BP4:BP8=BP6)*(BN4:BN8=BN6)*(BR4:BR8>BR6)),"") | BZ6: =IF(BJ6<>"",SUMPRODUCT((BU4:BU8=BU6)*(BP4:BP8=BP6)*(BN4:BN8=BN6)*(BR4:BR8=BR6)*(BS4:BS8>BS6)),"") | CA6: =IF(BJ6<>"",SUMPRODUCT((BU4:BU8=BU6)*(BP4:BP8=BP6)*(BN4:BN8=BN6)*(BR4:BR8=BR6)*(BS4:BS8=BS6)*(BT4:BT8>BT6)),"") | CB6: =IF(BJ6<>"",SUM(BV6:CA6)+2,"") | CC6: =IF(BJ6<>"",INDEX(BJ6:BJ8,MATCH(3,CB6:CB8,0),0),"") | CX6: =IF(CC6<>"",CC6,IF(BI6<>"",BI6,IF(AO6<>"",AO6,O6))) -> Czechia | CY6: 3 | CZ6: 4 | DA6: =Matches!F11 -> USA | DB6: =IF(DA2<>"",IF(AND(Matches!H11<>"",Matches!I11<>""),Matches!H11,0),"") -> 0 | DC6: =IF(DA2<>"",IF(AND(Matches!H11<>"",Matches!I11<>""),Matches!I11,0),"") -> 0 | DD6: =Matches!K11 -> Paraguay | DE6: =IF(AND(Matches!H11<>"",Matches!I11<>""),IF(DB6>DC6,"W",IF(DB6=DC6,"D","L")),"") | DF6: =IF(DE6<>"",IF(DE6="W","L",IF(DE6="L","W","D")),"")
A7: =Setup!E9+100 -> 143 | B7: =VLOOKUP(C7,CX4:CY8,2,FALSE) -> 3 | C7: =Setup!D9 -> Czechia | D7: =SUMPRODUCT((DA3:DA105=C7)*(DE3:DE105="W"))+SUMPRODUCT((DD3:DD105=C7)*(DF3:DF105="W")) -> 0 | E7: =SUMPRODUCT((DA3:DA105=C7)*(DE3:DE105="D"))+SUMPRODUCT((DD3:DD105=C7)*(DF3:DF105="D")) -> 0 | F7: =SUMPRODUCT((DA3:DA105=C7)*(DE3:DE105="L"))+SUMPRODUCT((DD3:DD105=C7)*(DF3:DF105="L")) -> 0 | G7: =SUMIF(DA3:DA123,C7,DB3:DB123)+SUMIF(DD3:DD123,C7,DC3:DC123) -> 0 | H7: =SUMIF(DD3:DD123,C7,DB3:DB123)+SUMIF(DA3:DA123,C7,DC3:DC123) -> 0 | I7: =G7-H7+1000 -> 1000 | J7: =D7*3+E7*1 -> 0 | K7: =IF(Setup!F9<>"",Setup!F9,-A7) -> -143 | L7: =IF(COUNTIF(J4:J8,4)<>4,RANK(J7,J4:J8),J86) -> 1 | N7: =SUMPRODUCT((L4:L7=L7)*(K4:K7<K7))+L7 -> 2 | O7: =INDEX(C4:C8,MATCH(4,N4:N8,0),0) -> Mexico | P7: =INDEX(L4:L8,MATCH(O7,C4:C8,0),0) -> 1 | Q7: =IF(AND(Q6<>"",P7=1),O7,"") -> Mexico | R7: =IF(AND(R6<>"",P8=2),O8,"") | V7: =IF(Q7<>"",Q7,"") -> Mexico | W7: =SUMPRODUCT((DA3:DA105=V7)*(DD3:DD105=V8)*(DE3:DE105="W"))+SUMPRODUCT((DA3:DA105=V7)*(DD3:DD105=V4)*(DE3:DE105="W"))+SUMPRODUCT((DA3:DA105=V7)*(DD3:DD105=V5)*(DE3:DE105="W"))+SUMPRODUCT((DA3:DA105=V7)*(DD3:DD105=V6)*(DE3:DE105="W"))+SUMPRODUCT((DA3:DA105=V8)*(DD3:DD105=V7)*(DF3:DF105="W"))+SUMPRODUCT((DA3:DA105=V4)*(DD3:DD105=V7)*(DF3:DF105="W"))+SUMPRODUCT((DA3:DA105=V5)*(DD3:DD105=V7)*(DF3:DF105="W"))+SUMPRODUCT((DA3:DA105=V6)*(DD3:DD105=V7)*(DF3:DF105="W")) -> 0 | X7: =SUMPRODUCT((DA3:DA105=V7)*(DD3:DD105=V8)*(DE3:DE105="D"))+SUMPRODUCT((DA3:DA105=V7)*(DD3:DD105=V4)*(DE3:DE105="D"))+SUMPRODUCT((DA3:DA105=V7)*(DD3:DD105=V5)*(DE3:DE105="D"))+SUMPRODUCT((DA3:DA105=V7)*(DD3:DD105=V6)*(DE3:DE105="D"))+SUMPRODUCT((DA3:DA105=V8)*(DD3:DD105=V7)*(DE3:DE105="D"))+SUMPRODUCT((DA3:DA105=V4)*(DD3:DD105=V7)*(DE3:DE105="D"))+SUMPRODUCT((DA3:DA105=V5)*(DD3:DD105=V7)*(DE3:DE105="D"))+SUMPRODUCT((DA3:DA105=V6)*(DD3:DD105=V7)*(DE3:DE105="D")) -> 0 | Y7: =SUMPRODUCT((DA3:DA105=V7)*(DD3:DD105=V8)*(DE3:DE105="L"))+SUMPRODUCT((DA3:DA105=V7)*(DD3:DD105=V4)*(DE3:DE105="L"))+SUMPRODUCT((DA3:DA105=V7)*(DD3:DD105=V5)*(DE3:DE105="L"))+SUMPRODUCT((DA3:DA105=V7)*(DD3:DD105=V6)*(DE3:DE105="L"))+SUMPRODUCT((DA3:DA105=V8)*(DD3:DD105=V7)*(DF3:DF105="L"))+SUMPRODUCT((DA3:DA105=V4)*(DD3:DD105=V7)*(DF3:DF105="L"))+SUMPRODUCT((DA3:DA105=V5)*(DD3:DD105=V7)*(DF3:DF105="L"))+SUMPRODUCT((DA3:DA105=V6)*(DD3:DD105=V7)*(DF3:DF105="L")) -> 0 | Z7: =SUMPRODUCT((DA3:DA105=V7)*(DD3:DD105=V8)*DB3:DB105)+SUMPRODUCT((DA3:DA105=V7)*(DD3:DD105=V4)*DB3:DB105)+SUMPRODUCT((DA3:DA105=V7)*(DD3:DD105=V5)*DB3:DB105)+SUMPRODUCT((DA3:DA105=V7)*(DD3:DD105=V6)*DB3:DB105)+SUMPRODUCT((DA3:DA105=V8)*(DD3:DD105=V7)*DC3:DC105)+SUMPRODUCT((DA3:DA105=V4)*(DD3:DD105=V7)*DC3:DC105)+SUMPRODUCT((DA3:DA105=V5)*(DD3:DD105=V7)*DC3:DC105)+SUMPRODUCT((DA3:DA105=V6)*(DD3:DD105=V7)*DC3:DC105) -> 0 | AA7: =SUMPRODUCT((DA3:DA105=V7)*(DD3:DD105=V8)*DC3:DC105)+SUMPRODUCT((DA3:DA105=V7)*(DD3:DD105=V4)*DC3:DC105)+SUMPRODUCT((DA3:DA105=V7)*(DD3:DD105=V5)*DC3:DC105)+SUMPRODUCT((DA3:DA105=V7)*(DD3:DD105=V6)*DC3:DC105)+SUMPRODUCT((DA3:DA105=V8)*(DD3:DD105=V7)*DB3:DB105)+SUMPRODUCT((DA3:DA105=V4)*(DD3:DD105=V7)*DB3:DB105)+SUMPRODUCT((DA3:DA105=V5)*(DD3:DD105=V7)*DB3:DB105)+SUMPRODUCT((DA3:DA105=V6)*(DD3:DD105=V7)*DB3:DB105) -> 0 | AB7: =Z7-AA7+1000 -> 1000 | AC7: =IF(V7<>"",W7*3+X7*1,"") -> 0 | AD7: =IF(V7<>"",VLOOKUP(V7,C4:I52,7,FALSE),"") -> 1000 | AE7: =IF(V7<>"",VLOOKUP(V7,C4:I52,5,FALSE),"") -> 0 | AF7: =IF(V7<>"",VLOOKUP(V7,C4:K52,9,FALSE),"") -> -116 | AG7: =AC7 -> 0 | AH7: =IF(V7<>"",RANK(AG7,AG4:AG8),"") -> 1 | AI7: =IF(V7<>"",SUMPRODUCT((AG4:AG8=AG7)*(AB4:AB8>AB7)),"") -> 0 | AJ7: =IF(V7<>"",SUMPRODUCT((AG4:AG8=AG7)*(AB4:AB8=AB7)*(Z4:Z8>Z7)),"") -> 0 | AK7: =IF(V7<>"",SUMPRODUCT((AG4:AG8=AG7)*(AB4:AB8=AB7)*(Z4:Z8=Z7)*(AD4:AD8>AD7)),"") -> 0 | AL7: =IF(V7<>"",SUMPRODUCT((AG4:AG8=AG7)*(AB4:AB8=AB7)*(Z4:Z8=Z7)*(AD4:AD8=AD7)*(AE4:AE8>AE7)),"") -> 0 | AM7: =IF(V7<>"",SUMPRODUCT((AG4:AG8=AG7)*(AB4:AB8=AB7)*(Z4:Z8=Z7)*(AD4:AD8=AD7)*(AE4:AE8=AE7)*(AF4:AF8>AF7)),"") -> 0 | AN7: =IF(V7<>"",IF(SUM(X4:X7)=12,SUM(AH7:AM7),IF(AN86<>"",IF(U82=3,AN86,AN86+U82),SUM(AH7:AM7))),"") -> 1 | AO7: =IF(V7<>"",INDEX(V4:V8,MATCH(4,AN4:AN8,0),0),"") -> South Africa | AP7: =IF(R6<>"",R6,"") | AQ7: =SUMPRODUCT((DA3:DA105=AP7)*(DD3:DD105=AP8)*(DE3:DE105="W"))+SUMPRODUCT((DA3:DA105=AP7)*(DD3:DD105=AP5)*(DE3:DE105="W"))+SUMPRODUCT((DA3:DA105=AP7)*(DD3:DD105=AP6)*(DE3:DE105="W"))+SUMPRODUCT((DA3:DA105=AP8)*(DD3:DD105=AP7)*(DF3:DF105="W"))+SUMPRODUCT((DA3:DA105=AP5)*(DD3:DD105=AP7)*(DF3:DF105="W"))+SUMPRODUCT((DA3:DA105=AP6)*(DD3:DD105=AP7)*(DF3:DF105="W")) -> 0 | AR7: =SUMPRODUCT((DA3:DA105=AP7)*(DD3:DD105=AP8)*(DE3:DE105="D"))+SUMPRODUCT((DA3:DA105=AP7)*(DD3:DD105=AP5)*(DE3:DE105="D"))+SUMPRODUCT((DA3:DA105=AP7)*(DD3:DD105=AP6)*(DE3:DE105="D"))+SUMPRODUCT((DA3:DA105=AP8)*(DD3:DD105=AP7)*(DE3:DE105="D"))+SUMPRODUCT((DA3:DA105=AP5)*(DD3:DD105=AP7)*(DE3:DE105="D"))+SUMPRODUCT((DA3:DA105=AP6)*(DD3:DD105=AP7)*(DE3:DE105="D")) -> 0 | AS7: =SUMPRODUCT((DA3:DA105=AP7)*(DD3:DD105=AP8)*(DE3:DE105="L"))+SUMPRODUCT((DA3:DA105=AP7)*(DD3:DD105=AP5)*(DE3:DE105="L"))+SUMPRODUCT((DA3:DA105=AP7)*(DD3:DD105=AP6)*(DE3:DE105="L"))+SUMPRODUCT((DA3:DA105=AP8)*(DD3:DD105=AP7)*(DF3:DF105="L"))+SUMPRODUCT((DA3:DA105=AP5)*(DD3:DD105=AP7)*(DF3:DF105="L"))+SUMPRODUCT((DA3:DA105=AP6)*(DD3:DD105=AP7)*(DF3:DF105="L")) -> 0 | AT7: =SUMPRODUCT((DA3:DA105=AP7)*(DD3:DD105=AP8)*DB3:DB105)+SUMPRODUCT((DA3:DA105=AP7)*(DD3:DD105=AP4)*DB3:DB105)+SUMPRODUCT((DA3:DA105=AP7)*(DD3:DD105=AP5)*DB3:DB105)+SUMPRODUCT((DA3:DA105=AP7)*(DD3:DD105=AP6)*DB3:DB105)+SUMPRODUCT((DA3:DA105=AP8)*(DD3:DD105=AP7)*DC3:DC105)+SUMPRODUCT((DA3:DA105=AP4)*(DD3:DD105=AP7)*DC3:DC105)+SUMPRODUCT((DA3:DA105=AP5)*(DD3:DD105=AP7)*DC3:DC105)+SUMPRODUCT((DA3:DA105=AP6)*(DD3:DD105=AP7)*DC3:DC105) -> 0 | AU7: =SUMPRODUCT((DA3:DA105=AP7)*(DD3:DD105=AP8)*DC3:DC105)+SUMPRODUCT((DA3:DA105=AP7)*(DD3:DD105=AP4)*DC3:DC105)+SUMPRODUCT((DA3:DA105=AP7)*(DD3:DD105=AP5)*DC3:DC105)+SUMPRODUCT((DA3:DA105=AP7)*(DD3:DD105=AP6)*DC3:DC105)+SUMPRODUCT((DA3:DA105=AP8)*(DD3:DD105=AP7)*DB3:DB105)+SUMPRODUCT((DA3:DA105=AP4)*(DD3:DD105=AP7)*DB3:DB105)+SUMPRODUCT((DA3:DA105=AP5)*(DD3:DD105=AP7)*DB3:DB105)+SUMPRODUCT((DA3:DA105=AP6)*(DD3:DD105=AP7)*DB3:DB105) -> 0 | AV7: =AT7-AU7+1000 -> 1000 | AW7: =IF(AP7<>"",AQ7*3+AR7*1,"") | AX7: =IF(AP7<>"",VLOOKUP(AP7,C4:I52,7,FALSE),"") | AY7: =IF(AP7<>"",VLOOKUP(AP7,C4:I52,5,FALSE),"") | AZ7: =IF(AP7<>"",VLOOKUP(AP7,C4:K52,9,FALSE),"") | BA7: =AW7 | BB7: =IF(AP7<>"",RANK(BA7,BA4:BA8),"") | BC7: =IF(AP7<>"",SUMPRODUCT((BA4:BA8=BA7)*(AV4:AV8>AV7)),"") | BD7: =IF(AP7<>"",SUMPRODUCT((BA4:BA8=BA7)*(AV4:AV8=AV7)*(AT4:AT8>AT7)),"") | BE7: =IF(AP7<>"",SUMPRODUCT((BA4:BA8=BA7)*(AV4:AV8=AV7)*(AT4:AT8=AT7)*(AX4:AX8>AX7)),"") | BF7: =IF(AP7<>"",SUMPRODUCT((BA4:BA8=BA7)*(AV4:AV8=AV7)*(AT4:AT8=AT7)*(AX4:AX8=AX7)*(AY4:AY8>AY7)),"") | BG7: =IF(AP7<>"",SUMPRODUCT((BA4:BA8=BA7)*(AV4:AV8=AV7)*(AT4:AT8=AT7)*(AX4:AX8=AX7)*(AY4:AY8=AY7)*(AZ4:AZ8>AZ7)),"") | BH7: =IF(AP7<>"",IF(BH86<>"",IF(AO82=3,BH86,BH86+AO82),SUM(BB7:BG7)+1),"") | BI7: =IF(AP7<>"",INDEX(AP5:AP8,MATCH(4,BH5:BH8,0),0),"") | BJ7: =IF(S5<>"",S5,"") | BK7: =SUMPRODUCT((DA3:DA105=BJ7)*(DD3:DD105=BJ8)*(DE3:DE105="W"))+SUMPRODUCT((DA3:DA105=BJ7)*(DD3:DD105=BJ9)*(DE3:DE105="W"))+SUMPRODUCT((DA3:DA105=BJ7)*(DD3:DD105=BJ6)*(DE3:DE105="W"))+SUMPRODUCT((DA3:DA105=BJ8)*(DD3:DD105=BJ7)*(DF3:DF105="W"))+SUMPRODUCT((DA3:DA105=BJ9)*(DD3:DD105=BJ7)*(DF3:DF105="W"))+SUMPRODUCT((DA3:DA105=BJ6)*(DD3:DD105=BJ7)*(DF3:DF105="W")) -> 0 | BL7: =SUMPRODUCT((DA3:DA105=BJ7)*(DD3:DD105=BJ8)*(DE3:DE105="D"))+SUMPRODUCT((DA3:DA105=BJ7)*(DD3:DD105=BJ9)*(DE3:DE105="D"))+SUMPRODUCT((DA3:DA105=BJ7)*(DD3:DD105=BJ6)*(DE3:DE105="D"))+SUMPRODUCT((DA3:DA105=BJ8)*(DD3:DD105=BJ7)*(DE3:DE105="D"))+SUMPRODUCT((DA3:DA105=BJ9)*(DD3:DD105=BJ7)*(DE3:DE105="D"))+SUMPRODUCT((DA3:DA105=BJ6)*(DD3:DD105=BJ7)*(DE3:DE105="D")) -> 0 | BM7: =SUMPRODUCT((DA3:DA105=BJ7)*(DD3:DD105=BJ8)*(DE3:DE105="L"))+SUMPRODUCT((DA3:DA105=BJ7)*(DD3:DD105=BJ9)*(DE3:DE105="L"))+SUMPRODUCT((DA3:DA105=BJ7)*(DD3:DD105=BJ6)*(DE3:DE105="L"))+SUMPRODUCT((DA3:DA105=BJ8)*(DD3:DD105=BJ7)*(DF3:DF105="L"))+SUMPRODUCT((DA3:DA105=BJ9)*(DD3:DD105=BJ7)*(DF3:DF105="L"))+SUMPRODUCT((DA3:DA105=BJ6)*(DD3:DD105=BJ7)*(DF3:DF105="L")) -> 0 | BN7: =SUMPRODUCT((DA3:DA105=BJ7)*(DD3:DD105=BJ8)*DB3:DB105)+SUMPRODUCT((DA3:DA105=BJ7)*(DD3:DD105=BJ4)*DB3:DB105)+SUMPRODUCT((DA3:DA105=BJ7)*(DD3:DD105=BJ5)*DB3:DB105)+SUMPRODUCT((DA3:DA105=BJ7)*(DD3:DD105=BJ6)*DB3:DB105)+SUMPRODUCT((DA3:DA105=BJ8)*(DD3:DD105=BJ7)*DC3:DC105)+SUMPRODUCT((DA3:DA105=BJ4)*(DD3:DD105=BJ7)*DC3:DC105)+SUMPRODUCT((DA3:DA105=BJ5)*(DD3:DD105=BJ7)*DC3:DC105)+SUMPRODUCT((DA3:DA105=BJ6)*(DD3:DD105=BJ7)*DC3:DC105) -> 0 | BO7: =SUMPRODUCT((DA3:DA105=BJ7)*(DD3:DD105=BJ8)*DC3:DC105)+SUMPRODUCT((DA3:DA105=BJ7)*(DD3:DD105=BJ4)*DC3:DC105)+SUMPRODUCT((DA3:DA105=BJ7)*(DD3:DD105=BJ5)*DC3:DC105)+SUMPRODUCT((DA3:DA105=BJ7)*(DD3:DD105=BJ6)*DC3:DC105)+SUMPRODUCT((DA3:DA105=BJ8)*(DD3:DD105=BJ7)*DB3:DB105)+SUMPRODUCT((DA3:DA105=BJ4)*(DD3:DD105=BJ7)*DB3:DB105)+SUMPRODUCT((DA3:DA105=BJ5)*(DD3:DD105=BJ7)*DB3:DB105)+SUMPRODUCT((DA3:DA105=BJ6)*(DD3:DD105=BJ7)*DB3:DB105) -> 0 | BP7: =BN7-BO7+1000 -> 1000 | BQ7: =IF(BJ7<>"",BK7*3+BL7*1,"") | BR7: =IF(BJ7<>"",VLOOKUP(BJ7,C4:I52,7,FALSE),"") | BS7: =IF(BJ7<>"",VLOOKUP(BJ7,C4:I52,5,FALSE),"") | BT7: =IF(BJ7<>"",VLOOKUP(BJ7,C4:K52,9,FALSE),"") | BU7: =BQ7 | BV7: =IF(BJ7<>"",RANK(BU7,BU4:BU8),"") | BW7: =IF(BJ7<>"",SUMPRODUCT((BU4:BU8=BU7)*(BP4:BP8>BP7)),"") | BX7: =IF(BJ7<>"",SUMPRODUCT((BU4:BU8=BU7)*(BP4:BP8=BP7)*(BN4:BN8>BN7)),"") | BY7: =IF(BJ7<>"",SUMPRODUCT((BU4:BU8=BU7)*(BP4:BP8=BP7)*(BN4:BN8=BN7)*(BR4:BR8>BR7)),"") | BZ7: =IF(BJ7<>"",SUMPRODUCT((BU4:BU8=BU7)*(BP4:BP8=BP7)*(BN4:BN8=BN7)*(BR4:BR8=BR7)*(BS4:BS8>BS7)),"") | CA7: =IF(BJ7<>"",SUMPRODUCT((BU4:BU8=BU7)*(BP4:BP8=BP7)*(BN4:BN8=BN7)*(BR4:BR8=BR7)*(BS4:BS8=BS7)*(BT4:BT8>BT7)),"") | CB7: =IF(BJ7<>"",SUM(BV7:CA7)+2,"") | CC7: =IF(BJ7<>"",INDEX(BJ6:BJ8,MATCH(4,CB6:CB8,0),0),"") | CD7: =IF(T4<>"",T4,"") | CE7: =SUMPRODUCT((DA3:DA105=CD7)*(DD3:DD105=CD8)*(DE3:DE105="W"))+SUMPRODUCT((DA3:DA105=CD7)*(DD3:DD105=CD9)*(DE3:DE105="W"))+SUMPRODUCT((DA3:DA105=CD7)*(DD3:DD105=CD10)*(DE3:DE105="W"))+SUMPRODUCT((DA3:DA105=CD8)*(DD3:DD105=CD7)*(DF3:DF105="W"))+SUMPRODUCT((DA3:DA105=CD9)*(DD3:DD105=CD7)*(DF3:DF105="W"))+SUMPRODUCT((DA3:DA105=CD10)*(DD3:DD105=CD7)*(DF3:DF105="W")) -> 0 | CF7: =SUMPRODUCT((DA3:DA105=CD7)*(DD3:DD105=CD8)*(DE3:DE105="D"))+SUMPRODUCT((DA3:DA105=CD7)*(DD3:DD105=CD9)*(DE3:DE105="D"))+SUMPRODUCT((DA3:DA105=CD7)*(DD3:DD105=CD10)*(DE3:DE105="D"))+SUMPRODUCT((DA3:DA105=CD8)*(DD3:DD105=CD7)*(DE3:DE105="D"))+SUMPRODUCT((DA3:DA105=CD9)*(DD3:DD105=CD7)*(DE3:DE105="D"))+SUMPRODUCT((DA3:DA105=CD10)*(DD3:DD105=CD7)*(DE3:DE105="D")) -> 0 | CG7: =SUMPRODUCT((DA3:DA105=CD7)*(DD3:DD105=CD8)*(DE3:DE105="L"))+SUMPRODUCT((DA3:DA105=CD7)*(DD3:DD105=CD9)*(DE3:DE105="L"))+SUMPRODUCT((DA3:DA105=CD7)*(DD3:DD105=CD10)*(DE3:DE105="L"))+SUMPRODUCT((DA3:DA105=CD8)*(DD3:DD105=CD7)*(DF3:DF105="L"))+SUMPRODUCT((DA3:DA105=CD9)*(DD3:DD105=CD7)*(DF3:DF105="L"))+SUMPRODUCT((DA3:DA105=CD10)*(DD3:DD105=CD7)*(DF3:DF105="L")) -> 0 | CH7: =SUMPRODUCT((DA3:DA105=CD7)*(DD3:DD105=CD8)*DB3:DB105)+SUMPRODUCT((DA3:DA105=CD7)*(DD3:DD105=CD4)*DB3:DB105)+SUMPRODUCT((DA3:DA105=CD7)*(DD3:DD105=CD5)*DB3:DB105)+SUMPRODUCT((DA3:DA105=CD7)*(DD3:DD105=CD6)*DB3:DB105)+SUMPRODUCT((DA3:DA105=CD8)*(DD3:DD105=CD7)*DC3:DC105)+SUMPRODUCT((DA3:DA105=CD4)*(DD3:DD105=CD7)*DC3:DC105)+SUMPRODUCT((DA3:DA105=CD5)*(DD3:DD105=CD7)*DC3:DC105)+SUMPRODUCT((DA3:DA105=CD6)*(DD3:DD105=CD7)*DC3:DC105) -> 0 | CI7: =SUMPRODUCT((DA3:DA105=CD7)*(DD3:DD105=CD8)*DC3:DC105)+SUMPRODUCT((DA3:DA105=CD7)*(DD3:DD105=CD4)*DC3:DC105)+SUMPRODUCT((DA3:DA105=CD7)*(DD3:DD105=CD5)*DC3:DC105)+SUMPRODUCT((DA3:DA105=CD7)*(DD3:DD105=CD6)*DC3:DC105)+SUMPRODUCT((DA3:DA105=CD8)*(DD3:DD105=CD7)*DB3:DB105)+SUMPRODUCT((DA3:DA105=CD4)*(DD3:DD105=CD7)*DB3:DB105)+SUMPRODUCT((DA3:DA105=CD5)*(DD3:DD105=CD7)*DB3:DB105)+SUMPRODUCT((DA3:DA105=CD6)*(DD3:DD105=CD7)*DB3:DB105) -> 0 | CJ7: =CH7-CI7+1000 -> 1000 | CK7: =IF(CD7<>"",CE7*3+CF7*1,"") | CL7: =IF(CD7<>"",VLOOKUP(CD7,C4:I52,7,FALSE),"") | CM7: =IF(CD7<>"",VLOOKUP(CD7,C4:I52,5,FALSE),"") | CN7: =IF(CD7<>"",VLOOKUP(CD7,C4:K52,9,FALSE),"") | CO7: =CK7 | CP7: =IF(CD7<>"",RANK(CO7,CO4:CO8),"") | CQ7: =IF(CD7<>"",SUMPRODUCT((CO4:CO8=CO7)*(CJ4:CJ8>CJ7)),"") | CR7: =IF(CD7<>"",SUMPRODUCT((CO4:CO8=CO7)*(CJ4:CJ8=CJ7)*(CH4:CH8>CH7)),"") | CS7: =IF(CD7<>"",SUMPRODUCT((CO4:CO8=CO7)*(CJ4:CJ8=CJ7)*(CH4:CH8=CH7)*(CL4:CL8>CL7)),"") | CT7: =IF(CD7<>"",SUMPRODUCT((CO4:CO8=CO7)*(CJ4:CJ8=CJ7)*(CH4:CH8=CH7)*(CL4:CL8=CL7)*(CM4:CM8>CM7)),"") | CU7: =IF(CD7<>"",SUMPRODUCT((CO4:CO8=CO7)*(CJ4:CJ8=CJ7)*(CH4:CH8=CH7)*(CL4:CL8=CL7)*(CM4:CM8=CM7)*(CN4:CN8>CN7)),"") | CV7: =IF(CD7<>"",SUM(CP7:CU7)+3,"") | CW7: =IF(CD7<>"",IF(CV7=4,CD7,CD8),"") | CX7: =IF(CW7<>"",CW7,IF(CC7<>"",CC7,IF(BI7<>"",BI7,IF(AO7<>"",AO7,O7)))) -> South Africa | CY7: 4 | CZ7: 5 | DA7: =Matches!F12 -> Haiti | DB7: =IF(DA2<>"",IF(AND(Matches!H12<>"",Matches!I12<>""),Matches!H12,0),"") -> 0 | DC7: =IF(DA2<>"",IF(AND(Matches!H12<>"",Matches!I12<>""),Matches!I12,0),"") -> 0 | DD7: =Matches!K12 -> Scotland | DE7: =IF(AND(Matches!H12<>"",Matches!I12<>""),IF(DB7>DC7,"W",IF(DB7=DC7,"D","L")),"") | DF7: =IF(DE7<>"",IF(DE7="W","L",IF(DE7="L","W","D")),"")
CZ8: 6 | DA8: =Matches!F13 -> Australia | DB8: =IF(DA2<>"",IF(AND(Matches!H13<>"",Matches!I13<>""),Matches!H13,0),"") -> 0 | DC8: =IF(DA2<>"",IF(AND(Matches!H13<>"",Matches!I13<>""),Matches!I13,0),"") -> 0 | DD8: =Matches!K13 -> Türkiye | DE8: =IF(AND(Matches!H13<>"",Matches!I13<>""),IF(DB8>DC8,"W",IF(DB8=DC8,"D","L")),"") | DF8: =IF(DE8<>"",IF(DE8="W","L",IF(DE8="L","W","D")),"")
BH9: Y | CZ9: 7 | DA9: =Matches!F14 -> Brazil | DB9: =IF(DA2<>"",IF(AND(Matches!H14<>"",Matches!I14<>""),Matches!H14,0),"") -> 0 | DC9: =IF(DA2<>"",IF(AND(Matches!H14<>"",Matches!I14<>""),Matches!I14,0),"") -> 0 | DD9: =Matches!K14 -> Morocco | DE9: =IF(AND(Matches!H14<>"",Matches!I14<>""),IF(DB9>DC9,"W",IF(DB9=DC9,"D","L")),"") | DF9: =IF(DE9<>"",IF(DE9="W","L",IF(DE9="L","W","D")),"")
CZ10: 8 | DA10: =Matches!F15 -> Qatar | DB10: =IF(DA2<>"",IF(AND(Matches!H15<>"",Matches!I15<>""),Matches!H15,0),"") -> 0 | DC10: =IF(DA2<>"",IF(AND(Matches!H15<>"",Matches!I15<>""),Matches!I15,0),"") -> 0 | DD10: =Matches!K15 -> Switzerland | DE10: =IF(AND(Matches!H15<>"",Matches!I15<>""),IF(DB10>DC10,"W",IF(DB10=DC10,"D","L")),"") | DF10: =IF(DE10<>"",IF(DE10="W","L",IF(DE10="L","W","D")),"")
A11: =Setup!E10+100 -> 129 | B11: =VLOOKUP(C11,CX11:CY15,2,FALSE) -> 2 | C11: =Setup!D10 -> Canada | D11: =SUMPRODUCT((DA3:DA105=C11)*(DE3:DE105="W"))+SUMPRODUCT((DD3:DD105=C11)*(DF3:DF105="W")) -> 0 | E11: =SUMPRODUCT((DA3:DA105=C11)*(DE3:DE105="D"))+SUMPRODUCT((DD3:DD105=C11)*(DF3:DF105="D")) -> 0 | F11: =SUMPRODUCT((DA3:DA105=C11)*(DE3:DE105="L"))+SUMPRODUCT((DD3:DD105=C11)*(DF3:DF105="L")) -> 0 | G11: =SUMIF(DA3:DA123,C11,DB3:DB123)+SUMIF(DD3:DD123,C11,DC3:DC123) -> 0 | H11: =SUMIF(DD3:DD123,C11,DB3:DB123)+SUMIF(DA3:DA123,C11,DC3:DC123) -> 0 | I11: =G11-H11+1000 -> 1000 | J11: =D11*3+E11*1 -> 0 | K11: =IF(Setup!F10<>"",Setup!F10,-A11) -> -129 | L11: =IF(COUNTIF(J11:J15,4)<>4,RANK(J11,J11:J15),J90) -> 1 | N11: =SUMPRODUCT((L11:L14=L11)*(K11:K14<K11))+L11 -> 3 | O11: =INDEX(C11:C15,MATCH(1,N11:N15,0),0) -> Bosnia and Herzegovina | P11: =INDEX(L11:L15,MATCH(O11,C11:C15,0),0) -> 1 | Q11: =IF(P12=1,O11,"") -> Bosnia and Herzegovina | R11: =IF(P13=2,O12,"") | S11: =IF(P14=3,O13,"") | T11: =IF(P15=4,O14,"") | V11: =IF(Q11<>"",Q11,"") -> Bosnia and Herzegovina | W11: =SUMPRODUCT((DA3:DA105=V11)*(DD3:DD105=V12)*(DE3:DE105="W"))+SUMPRODUCT((DA3:DA105=V11)*(DD3:DD105=V13)*(DE3:DE105="W"))+SUMPRODUCT((DA3:DA105=V11)*(DD3:DD105=V14)*(DE3:DE105="W"))+SUMPRODUCT((DA3:DA105=V11)*(DD3:DD105=V15)*(DE3:DE105="W"))+SUMPRODUCT((DA3:DA105=V12)*(DD3:DD105=V11)*(DF3:DF105="W"))+SUMPRODUCT((DA3:DA105=V13)*(DD3:DD105=V11)*(DF3:DF105="W"))+SUMPRODUCT((DA3:DA105=V14)*(DD3:DD105=V11)*(DF3:DF105="W"))+SUMPRODUCT((DA3:DA105=V15)*(DD3:DD105=V11)*(DF3:DF105="W")) -> 0 | X11: =SUMPRODUCT((DA3:DA105=V11)*(DD3:DD105=V12)*(DE3:DE105="D"))+SUMPRODUCT((DA3:DA105=V11)*(DD3:DD105=V13)*(DE3:DE105="D"))+SUMPRODUCT((DA3:DA105=V11)*(DD3:DD105=V14)*(DE3:DE105="D"))+SUMPRODUCT((DA3:DA105=V11)*(DD3:DD105=V15)*(DE3:DE105="D"))+SUMPRODUCT((DA3:DA105=V12)*(DD3:DD105=V11)*(DE3:DE105="D"))+SUMPRODUCT((DA3:DA105=V13)*(DD3:DD105=V11)*(DE3:DE105="D"))+SUMPRODUCT((DA3:DA105=V14)*(DD3:DD105=V11)*(DE3:DE105="D"))+SUMPRODUCT((DA3:DA105=V15)*(DD3:DD105=V11)*(DE3:DE105="D")) -> 0 | Y11: =SUMPRODUCT((DA3:DA105=V11)*(DD3:DD105=V12)*(DE3:DE105="L"))+SUMPRODUCT((DA3:DA105=V11)*(DD3:DD105=V13)*(DE3:DE105="L"))+SUMPRODUCT((DA3:DA105=V11)*(DD3:DD105=V14)*(DE3:DE105="L"))+SUMPRODUCT((DA3:DA105=V11)*(DD3:DD105=V15)*(DE3:DE105="L"))+SUMPRODUCT((DA3:DA105=V12)*(DD3:DD105=V11)*(DF3:DF105="L"))+SUMPRODUCT((DA3:DA105=V13)*(DD3:DD105=V11)*(DF3:DF105="L"))+SUMPRODUCT((DA3:DA105=V14)*(DD3:DD105=V11)*(DF3:DF105="L"))+SUMPRODUCT((DA3:DA105=V15)*(DD3:DD105=V11)*(DF3:DF105="L")) -> 0 | Z11: =SUMPRODUCT((DA3:DA105=V11)*(DD3:DD105=V12)*DB3:DB105)+SUMPRODUCT((DA3:DA105=V11)*(DD3:DD105=V13)*DB3:DB105)+SUMPRODUCT((DA3:DA105=V11)*(DD3:DD105=V14)*DB3:DB105)+SUMPRODUCT((DA3:DA105=V11)*(DD3:DD105=V15)*DB3:DB105)+SUMPRODUCT((DA3:DA105=V12)*(DD3:DD105=V11)*DC3:DC105)+SUMPRODUCT((DA3:DA105=V13)*(DD3:DD105=V11)*DC3:DC105)+SUMPRODUCT((DA3:DA105=V14)*(DD3:DD105=V11)*DC3:DC105)+SUMPRODUCT((DA3:DA105=V15)*(DD3:DD105=V11)*DC3:DC105) -> 0 | AA11: =SUMPRODUCT((DA3:DA105=V11)*(DD3:DD105=V12)*DC3:DC105)+SUMPRODUCT((DA3:DA105=V11)*(DD3:DD105=V13)*DC3:DC105)+SUMPRODUCT((DA3:DA105=V11)*(DD3:DD105=V14)*DC3:DC105)+SUMPRODUCT((DA3:DA105=V11)*(DD3:DD105=V15)*DC3:DC105)+SUMPRODUCT((DA3:DA105=V12)*(DD3:DD105=V11)*DB3:DB105)+SUMPRODUCT((DA3:DA105=V13)*(DD3:DD105=V11)*DB3:DB105)+SUMPRODUCT((DA3:DA105=V14)*(DD3:DD105=V11)*DB3:DB105)+SUMPRODUCT((DA3:DA105=V15)*(DD3:DD105=V11)*DB3:DB105) -> 0 | AB11: =Z11-AA11+1000 -> 1000 | AC11: =IF(V11<>"",W11*3+X11*1,"") -> 0 | AD11: =IF(V11<>"",VLOOKUP(V11,C4:I52,7,FALSE),"") -> 1000 | AE11: =IF(V11<>"",VLOOKUP(V11,C4:I52,5,FALSE),"") -> 0 | AF11: =IF(V11<>"",VLOOKUP(V11,C4:K52,9,FALSE),"") -> -171 | AG11: =AC11 -> 0 | AH11: =IF(V11<>"",RANK(AG11,AG11:AG15),"") -> 1 | AI11: =IF(V11<>"",SUMPRODUCT((AG11:AG15=AG11)*(AB11:AB15>AB11)),"") -> 0 | AJ11: =IF(V11<>"",SUMPRODUCT((AG11:AG15=AG11)*(AB11:AB15=AB11)*(Z11:Z15>Z11)),"") -> 0 | AK11: =IF(V11<>"",SUMPRODUCT((AG11:AG15=AG11)*(AB11:AB15=AB11)*(Z11:Z15=Z11)*(AD11:AD15>AD11)),"") -> 0 | AL11: =IF(V11<>"",SUMPRODUCT((AG11:AG15=AG11)*(AB11:AB15=AB11)*(Z11:Z15=Z11)*(AD11:AD15=AD11)*(AE11:AE15>AE11)),"") -> 0 | AM11: =IF(V11<>"",SUMPRODUCT((AG11:AG15=AG11)*(AB11:AB15=AB11)*(Z11:Z15=Z11)*(AD11:AD15=AD11)*(AE11:AE15=AE11)*(AF11:AF15>AF11)),"") -> 3 | AN11: =IF(V11<>"",IF(SUM(X11:X14)=12,SUM(AH11:AM11),IF(AN90<>"",IF(U89=3,AN90,AN90+U89),SUM(AH11:AM11))),"") -> 4 | AO11: =IF(V11<>"",INDEX(V11:V15,MATCH(1,AN11:AN15,0),0),"") -> Switzerland | CX11: =IF(AO11<>"",AO11,O11) -> Switzerland | CY11: 1 | CZ11: 9 | DA11: =Matches!F16 -> Cote D'Voire | DB11: =IF(DA2<>"",IF(AND(Matches!H16<>"",Matches!I16<>""),Matches!H16,0),"") -> 0 | DC11: =IF(DA2<>"",IF(AND(Matches!H16<>"",Matches!I16<>""),Matches!I16,0),"") -> 0 | DD11: =Matches!K16 -> Ecuador | DE11: =IF(AND(Matches!H16<>"",Matches!I16<>""),IF(DB11>DC11,"W",IF(DB11=DC11,"D","L")),"") | DF11: =IF(DE11<>"",IF(DE11="W","L",IF(DE11="L","W","D")),"")
A12: =Setup!E11+100 -> 171 | B12: =VLOOKUP(C12,CX11:CY15,2,FALSE) -> 4 | C12: =Setup!D11 -> Bosnia and Herzegovina | D12: =SUMPRODUCT((DA3:DA105=C12)*(DE3:DE105="W"))+SUMPRODUCT((DD3:DD105=C12)*(DF3:DF105="W")) -> 0 | E12: =SUMPRODUCT((DA3:DA105=C12)*(DE3:DE105="D"))+SUMPRODUCT((DD3:DD105=C12)*(DF3:DF105="D")) -> 0 | F12: =SUMPRODUCT((DA3:DA105=C12)*(DE3:DE105="L"))+SUMPRODUCT((DD3:DD105=C12)*(DF3:DF105="L")) -> 0 | G12: =SUMIF(DA3:DA123,C12,DB3:DB123)+SUMIF(DD3:DD123,C12,DC3:DC123) -> 0 | H12: =SUMIF(DD3:DD123,C12,DB3:DB123)+SUMIF(DA3:DA123,C12,DC3:DC123) -> 0 | I12: =G12-H12+1000 -> 1000 | J12: =D12*3+E12*1 -> 0 | K12: =IF(Setup!F11<>"",Setup!F11,-A12) -> -171 | L12: =IF(COUNTIF(J11:J15,4)<>4,RANK(J12,J11:J15),J91) -> 1 | N12: =SUMPRODUCT((L11:L14=L12)*(K11:K14<K12))+L12 -> 1 | O12: =INDEX(C11:C15,MATCH(2,N11:N15,0),0) -> Qatar | P12: =INDEX(L11:L15,MATCH(O12,C11:C15,0),0) -> 1 | Q12: =IF(Q11<>"",O12,"") -> Qatar | R12: =IF(R11<>"",O13,"") | S12: =IF(S11<>"",O14,"") | T12: =IF(T11<>"",O15,"") | V12: =IF(Q12<>"",Q12,"") -> Qatar | W12: =SUMPRODUCT((DA3:DA105=V12)*(DD3:DD105=V13)*(DE3:DE105="W"))+SUMPRODUCT((DA3:DA105=V12)*(DD3:DD105=V14)*(DE3:DE105="W"))+SUMPRODUCT((DA3:DA105=V12)*(DD3:DD105=V15)*(DE3:DE105="W"))+SUMPRODUCT((DA3:DA105=V12)*(DD3:DD105=V11)*(DE3:DE105="W"))+SUMPRODUCT((DA3:DA105=V13)*(DD3:DD105=V12)*(DF3:DF105="W"))+SUMPRODUCT((DA3:DA105=V14)*(DD3:DD105=V12)*(DF3:DF105="W"))+SUMPRODUCT((DA3:DA105=V15)*(DD3:DD105=V12)*(DF3:DF105="W"))+SUMPRODUCT((DA3:DA105=V11)*(DD3:DD105=V12)*(DF3:DF105="W")) -> 0 | X12: =SUMPRODUCT((DA3:DA105=V12)*(DD3:DD105=V13)*(DE3:DE105="D"))+SUMPRODUCT((DA3:DA105=V12)*(DD3:DD105=V14)*(DE3:DE105="D"))+SUMPRODUCT((DA3:DA105=V12)*(DD3:DD105=V15)*(DE3:DE105="D"))+SUMPRODUCT((DA3:DA105=V12)*(DD3:DD105=V11)*(DE3:DE105="D"))+SUMPRODUCT((DA3:DA105=V13)*(DD3:DD105=V12)*(DE3:DE105="D"))+SUMPRODUCT((DA3:DA105=V14)*(DD3:DD105=V12)*(DE3:DE105="D"))+SUMPRODUCT((DA3:DA105=V15)*(DD3:DD105=V12)*(DE3:DE105="D"))+SUMPRODUCT((DA3:DA105=V11)*(DD3:DD105=V12)*(DE3:DE105="D")) -> 0 | Y12: =SUMPRODUCT((DA3:DA105=V12)*(DD3:DD105=V13)*(DE3:DE105="L"))+SUMPRODUCT((DA3:DA105=V12)*(DD3:DD105=V14)*(DE3:DE105="L"))+SUMPRODUCT((DA3:DA105=V12)*(DD3:DD105=V15)*(DE3:DE105="L"))+SUMPRODUCT((DA3:DA105=V12)*(DD3:DD105=V11)*(DE3:DE105="L"))+SUMPRODUCT((DA3:DA105=V13)*(DD3:DD105=V12)*(DF3:DF105="L"))+SUMPRODUCT((DA3:DA105=V14)*(DD3:DD105=V12)*(DF3:DF105="L"))+SUMPRODUCT((DA3:DA105=V15)*(DD3:DD105=V12)*(DF3:DF105="L"))+SUMPRODUCT((DA3:DA105=V11)*(DD3:DD105=V12)*(DF3:DF105="L")) -> 0 | Z12: =SUMPRODUCT((DA3:DA105=V12)*(DD3:DD105=V13)*DB3:DB105)+SUMPRODUCT((DA3:DA105=V12)*(DD3:DD105=V14)*DB3:DB105)+SUMPRODUCT((DA3:DA105=V12)*(DD3:DD105=V15)*DB3:DB105)+SUMPRODUCT((DA3:DA105=V12)*(DD3:DD105=V11)*DB3:DB105)+SUMPRODUCT((DA3:DA105=V13)*(DD3:DD105=V12)*DC3:DC105)+SUMPRODUCT((DA3:DA105=V14)*(DD3:DD105=V12)*DC3:DC105)+SUMPRODUCT((DA3:DA105=V15)*(DD3:DD105=V12)*DC3:DC105)+SUMPRODUCT((DA3:DA105=V11)*(DD3:DD105=V12)*DC3:DC105) -> 0 | AA12: =SUMPRODUCT((DA3:DA105=V12)*(DD3:DD105=V13)*DC3:DC105)+SUMPRODUCT((DA3:DA105=V12)*(DD3:DD105=V14)*DC3:DC105)+SUMPRODUCT((DA3:DA105=V12)*(DD3:DD105=V15)*DC3:DC105)+SUMPRODUCT((DA3:DA105=V12)*(DD3:DD105=V11)*DC3:DC105)+SUMPRODUCT((DA3:DA105=V13)*(DD3:DD105=V12)*DB3:DB105)+SUMPRODUCT((DA3:DA105=V14)*(DD3:DD105=V12)*DB3:DB105)+SUMPRODUCT((DA3:DA105=V15)*(DD3:DD105=V12)*DB3:DB105)+SUMPRODUCT((DA3:DA105=V11)*(DD3:DD105=V12)*DB3:DB105) -> 0 | AB12: =Z12-AA12+1000 -> 1000 | AC12: =IF(V12<>"",W12*3+X12*1,"") -> 0 | AD12: =IF(V12<>"",VLOOKUP(V12,C4:I52,7,FALSE),"") -> 1000 | AE12: =IF(V12<>"",VLOOKUP(V12,C4:I52,5,FALSE),"") -> 0 | AF12: =IF(V12<>"",VLOOKUP(V12,C4:K52,9,FALSE),"") -> -156 | AG12: =AC12 -> 0 | AH12: =IF(V12<>"",RANK(AG12,AG11:AG15),"") -> 1 | AI12: =IF(V12<>"",SUMPRODUCT((AG11:AG15=AG12)*(AB11:AB15>AB12)),"") -> 0 | AJ12: =IF(V12<>"",SUMPRODUCT((AG11:AG15=AG12)*(AB11:AB15=AB12)*(Z11:Z15>Z12)),"") -> 0 | AK12: =IF(V12<>"",SUMPRODUCT((AG11:AG15=AG12)*(AB11:AB15=AB12)*(Z11:Z15=Z12)*(AD11:AD15>AD12)),"") -> 0 | AL12: =IF(V12<>"",SUMPRODUCT((AG11:AG15=AG12)*(AB11:AB15=AB12)*(Z11:Z15=Z12)*(AD11:AD15=AD12)*(AE11:AE15>AE12)),"") -> 0 | AM12: =IF(V12<>"",SUMPRODUCT((AG11:AG15=AG12)*(AB11:AB15=AB12)*(Z11:Z15=Z12)*(AD11:AD15=AD12)*(AE11:AE15=AE12)*(AF11:AF15>AF12)),"") -> 2 | AN12: =IF(V12<>"",IF(SUM(X11:X14)=12,SUM(AH12:AM12),IF(AN91<>"",IF(U89=3,AN91,AN91+U89),SUM(AH12:AM12))),"") -> 3 | AO12: =IF(V12<>"",INDEX(V11:V15,MATCH(2,AN11:AN15,0),0),"") -> Canada | AP12: =IF(R11<>"",R11,"") | AQ12: =SUMPRODUCT((DA3:DA105=AP12)*(DD3:DD105=AP13)*(DE3:DE105="W"))+SUMPRODUCT((DA3:DA105=AP12)*(DD3:DD105=AP14)*(DE3:DE105="W"))+SUMPRODUCT((DA3:DA105=AP12)*(DD3:DD105=AP15)*(DE3:DE105="W"))+SUMPRODUCT((DA3:DA105=AP13)*(DD3:DD105=AP12)*(DF3:DF105="W"))+SUMPRODUCT((DA3:DA105=AP14)*(DD3:DD105=AP12)*(DF3:DF105="W"))+SUMPRODUCT((DA3:DA105=AP15)*(DD3:DD105=AP12)*(DF3:DF105="W")) -> 0 | AR12: =SUMPRODUCT((DA3:DA105=AP12)*(DD3:DD105=AP13)*(DE3:DE105="D"))+SUMPRODUCT((DA3:DA105=AP12)*(DD3:DD105=AP14)*(DE3:DE105="D"))+SUMPRODUCT((DA3:DA105=AP12)*(DD3:DD105=AP15)*(DE3:DE105="D"))+SUMPRODUCT((DA3:DA105=AP13)*(DD3:DD105=AP12)*(DE3:DE105="D"))+SUMPRODUCT((DA3:DA105=AP14)*(DD3:DD105=AP12)*(DE3:DE105="D"))+SUMPRODUCT((DA3:DA105=AP15)*(DD3:DD105=AP12)*(DE3:DE105="D")) -> 0 | AS12: =SUMPRODUCT((DA3:DA105=AP12)*(DD3:DD105=AP13)*(DE3:DE105="L"))+SUMPRODUCT((DA3:DA105=AP12)*(DD3:DD105=AP14)*(DE3:DE105="L"))+SUMPRODUCT((DA3:DA105=AP12)*(DD3:DD105=AP15)*(DE3:DE105="L"))+SUMPRODUCT((DA3:DA105=AP13)*(DD3:DD105=AP12)*(DF3:DF105="L"))+SUMPRODUCT((DA3:DA105=AP14)*(DD3:DD105=AP12)*(DF3:DF105="L"))+SUMPRODUCT((DA3:DA105=AP15)*(DD3:DD105=AP12)*(DF3:DF105="L")) -> 0 | AT12: =SUMPRODUCT((DA3:DA105=AP12)*(DD3:DD105=AP13)*DB3:DB105)+SUMPRODUCT((DA3:DA105=AP12)*(DD3:DD105=AP14)*DB3:DB105)+SUMPRODUCT((DA3:DA105=AP12)*(DD3:DD105=AP15)*DB3:DB105)+SUMPRODUCT((DA3:DA105=AP12)*(DD3:DD105=AP11)*DB3:DB105)+SUMPRODUCT((DA3:DA105=AP13)*(DD3:DD105=AP12)*DC3:DC105)+SUMPRODUCT((DA3:DA105=AP14)*(DD3:DD105=AP12)*DC3:DC105)+SUMPRODUCT((DA3:DA105=AP15)*(DD3:DD105=AP12)*DC3:DC105)+SUMPRODUCT((DA3:DA105=AP11)*(DD3:DD105=AP12)*DC3:DC105) -> 0 | AU12: =SUMPRODUCT((DA3:DA105=AP12)*(DD3:DD105=AP13)*DC3:DC105)+SUMPRODUCT((DA3:DA105=AP12)*(DD3:DD105=AP14)*DC3:DC105)+SUMPRODUCT((DA3:DA105=AP12)*(DD3:DD105=AP15)*DC3:DC105)+SUMPRODUCT((DA3:DA105=AP12)*(DD3:DD105=AP11)*DC3:DC105)+SUMPRODUCT((DA3:DA105=AP13)*(DD3:DD105=AP12)*DB3:DB105)+SUMPRODUCT((DA3:DA105=AP14)*(DD3:DD105=AP12)*DB3:DB105)+SUMPRODUCT((DA3:DA105=AP15)*(DD3:DD105=AP12)*DB3:DB105)+SUMPRODUCT((DA3:DA105=AP11)*(DD3:DD105=AP12)*DB3:DB105) -> 0 | AV12: =AT12-AU12+1000 -> 1000 | AW12: =IF(AP12<>"",AQ12*3+AR12*1,"") | AX12: =IF(AP12<>"",VLOOKUP(AP12,C4:I52,7,FALSE),"") | AY12: =IF(AP12<>"",VLOOKUP(AP12,C4:I52,5,FALSE),"") | AZ12: =IF(AP12<>"",VLOOKUP(AP12,C4:K52,9,FALSE),"") | BA12: =AW12 | BB12: =IF(AP12<>"",RANK(BA12,BA11:BA15),"") | BC12: =IF(AP12<>"",SUMPRODUCT((BA11:BA15=BA12)*(AV11:AV15>AV12)),"") | BD12: =IF(AP12<>"",SUMPRODUCT((BA11:BA15=BA12)*(AV11:AV15=AV12)*(AT11:AT15>AT12)),"") | BE12: =IF(AP12<>"",SUMPRODUCT((BA11:BA15=BA12)*(AV11:AV15=AV12)*(AT11:AT15=AT12)*(AX11:AX15>AX12)),"") | BF12: =IF(AP12<>"",SUMPRODUCT((BA11:BA15=BA12)*(AV11:AV15=AV12)*(AT11:AT15=AT12)*(AX11:AX15=AX12)*(AY11:AY15>AY12)),"") | BG12: =IF(AP12<>"",SUMPRODUCT((BA11:BA15=BA12)*(AV11:AV15=AV12)*(AT11:AT15=AT12)*(AX11:AX15=AX12)*(AY11:AY15=AY12)*(AZ11:AZ15>AZ12)),"") | BH12: =IF(AP12<>"",IF(BH91<>"",IF(AO89=3,BH91,BH91+AO89),SUM(BB12:BG12)+1),"") | BI12: =IF(AP12<>"",INDEX(AP12:AP15,MATCH(2,BH12:BH15,0),0),"") | CX12: =IF(BI12<>"",BI12,IF(AO12<>"",AO12,O12)) -> Canada | CY12: 2 | CZ12: 10 | DA12: =Matches!F17 -> Germany | DB12: =IF(DA2<>"",IF(AND(Matches!H17<>"",Matches!I17<>""),Matches!H17,0),"") -> 0 | DC12: =IF(DA2<>"",IF(AND(Matches!H17<>"",Matches!I17<>""),Matches!I17,0),"") -> 0 | DD12: =Matches!K17 -> Curacao | DE12: =IF(AND(Matches!H17<>"",Matches!I17<>""),IF(DB12>DC12,"W",IF(DB12=DC12,"D","L")),"") | DF12: =IF(DE12<>"",IF(DE12="W","L",IF(DE12="L","W","D")),"")
